BEGIN:VCALENDAR
VERSION:2.0
PRODID:-//Thrive Adaptive - ECPv6.10.1.1//NONSGML v1.0//EN
CALSCALE:GREGORIAN
METHOD:PUBLISH
X-ORIGINAL-URL:https://thriveadaptive.org
X-WR-CALDESC:Events for Thrive Adaptive
REFRESH-INTERVAL;VALUE=DURATION:PT1H
X-Robots-Tag:noindex
X-PUBLISHED-TTL:PT1H
BEGIN:VTIMEZONE
TZID:UTC
BEGIN:STANDARD
TZOFFSETFROM:+0000
TZOFFSETTO:+0000
TZNAME:UTC
DTSTART:20250101T000000
END:STANDARD
END:VTIMEZONE
BEGIN:VEVENT
DTSTART;TZID=UTC:20250205T180000
DTEND;TZID=UTC:20250205T182500
DTSTAMP:20260421T084940
CREATED:20250129T122621Z
LAST-MODIFIED:20250129T122735Z
UID:10000605-1738778400-1738779900@thriveadaptive.org
SUMMARY:Spring Adaptive Lesson - W/F - S2
DESCRIPTION:Adaptive Aquatics is a swim lesson program open for adult and youth participants with disabilities. This is a group lesson\, where the instructor incorporates water safety and swimming fundamentals\, while accommodating the needs of each individual. Aids are encouraged to get in the water with their participant at no extra cost\, but are not mandated to unless specifically needed for medical or safety reasons. Please note online registration is limited. If an activity says it is available but you receive an Online Registration Limit/Activity enrollment error it means the online spots have already been filled and you need to register at the pool. Additionally\, if it says “Call Facility\,” you must register at the pool. We apologize for the inconvenience. Participants will only be able to enroll in one lesson per session from home. If you want additional lessons you will need to register at the pool.
URL:https://thriveadaptive.org/event/spring-adaptive-lesson-w-f-s2/
LOCATION:Valley Blvd. Los Angeles\, 3501 Valley Blvd. Los Angeles\, CA\, 90031
END:VEVENT
BEGIN:VEVENT
DTSTART;TZID=UTC:20250204T173000
DTEND;TZID=UTC:20250204T175500
DTSTAMP:20260421T084940
CREATED:20250129T121543Z
LAST-MODIFIED:20250129T121719Z
UID:10000597-1738690200-1738691700@thriveadaptive.org
SUMMARY:Spring Adaptive Lesson - T/Th - S2
DESCRIPTION:Adaptive Aquatics is a swim lesson program open for adult and youth participants with disabilities. This is a group lesson\, where the instructor incorporates water safety and swimming fundamentals\, while accommodating the needs of each individual. Aids are encouraged to get in the water with their participant at no extra cost\, but are not mandated to unless specifically needed for medical or safety reasons. Please note online registration is limited. If an activity says it is available but you receive an Online Registration Limit/Activity enrollment error it means the online spots have already been filled and you need to register at the pool. Additionally\, if it says “Call Facility\,” you must register at the pool. We apologize for the inconvenience. Participants will only be able to enroll in one lesson per session from home. If you want additional lessons you will need to register at the pool.
URL:https://thriveadaptive.org/event/spring-adaptive-lesson-t-th-s2/
LOCATION:Valley Blvd. Los Angeles\, 3501 Valley Blvd. Los Angeles\, CA\, 90031
END:VEVENT
BEGIN:VEVENT
DTSTART;TZID=UTC:20250202T153000
DTEND;TZID=UTC:20250202T155500
DTSTAMP:20260421T084940
CREATED:20250129T123634Z
LAST-MODIFIED:20250129T123704Z
UID:10000614-1738510200-1738511700@thriveadaptive.org
SUMMARY:Spring Adaptive Lesson - Sat/Sun - S2
DESCRIPTION:Adaptive Aquatics is a swim lesson program open for adult and youth participants with disabilities. This is a group lesson\, where the instructor incorporates water safety and swimming fundamentals\, while accommodating the needs of each individual. Aids are encouraged to get in the water with their participant at no extra cost\, but are not mandated to unless specifically needed for medical or safety reasons. Please note online registration is limited. If an activity says it is available but you receive an Online Registration Limit/Activity enrollment error it means the online spots have already been filled and you need to register at the pool. Additionally\, if it says “Call Facility\,” you must register at the pool. We apologize for the inconvenience. Participants will only be able to enroll in one lesson per session from home. If you want additional lessons you will need to register at the pool.
URL:https://thriveadaptive.org/event/spring-adaptive-lesson-sat-sun-s2-2/
LOCATION:Valley Blvd. Los Angeles\, 3501 Valley Blvd. Los Angeles\, CA\, 90031
END:VEVENT
BEGIN:VEVENT
DTSTART;TZID=UTC:20250201T153000
DTEND;TZID=UTC:20250201T155500
DTSTAMP:20260421T084940
CREATED:20250129T123441Z
LAST-MODIFIED:20250129T123538Z
UID:10000613-1738423800-1738425300@thriveadaptive.org
SUMMARY:Spring Adaptive Lesson - Sat/Sun - S2
DESCRIPTION:Adaptive Aquatics is a swim lesson program open for adult and youth participants with disabilities. This is a group lesson\, where the instructor incorporates water safety and swimming fundamentals\, while accommodating the needs of each individual. Aids are encouraged to get in the water with their participant at no extra cost\, but are not mandated to unless specifically needed for medical or safety reasons. Please note online registration is limited. If an activity says it is available but you receive an Online Registration Limit/Activity enrollment error it means the online spots have already been filled and you need to register at the pool. Additionally\, if it says “Call Facility\,” you must register at the pool. We apologize for the inconvenience. Participants will only be able to enroll in one lesson per session from home. If you want additional lessons you will need to register at the pool.
URL:https://thriveadaptive.org/event/spring-adaptive-lesson-sat-sun-s2/
LOCATION:Valley Blvd. Los Angeles\, 3501 Valley Blvd. Los Angeles\, CA\, 90031
END:VEVENT
BEGIN:VEVENT
DTSTART;TZID=UTC:20250131T180000
DTEND;TZID=UTC:20250131T182500
DTSTAMP:20260421T084940
CREATED:20250129T121451Z
LAST-MODIFIED:20250129T121513Z
UID:10000596-1738346400-1738347900@thriveadaptive.org
SUMMARY:Spring Adaptive Lesson - W/F - S1
DESCRIPTION:Adaptive Aquatics is a swim lesson program open for adult and youth participants with disabilities. This is a group lesson\, where the instructor incorporates water safety and swimming fundamentals\, while accommodating the needs of each individual. Aids are encouraged to get in the water with their participant at no extra cost\, but are not mandated to unless specifically needed for medical or safety reasons. Please note online registration is limited. If an activity says it is available but you receive an Online Registration Limit/Activity enrollment error it means the online spots have already been filled and you need to register at the pool. Additionally\, if it says “Call Facility\,” you must register at the pool. We apologize for the inconvenience. Participants will only be able to enroll in one lesson per session from home. If you want additional lessons you will need to register at the pool.
URL:https://thriveadaptive.org/event/spring-adaptive-lesson-w-f-s1-8/
LOCATION:Valley Blvd. Los Angeles\, 3501 Valley Blvd. Los Angeles\, CA\, 90031
END:VEVENT
BEGIN:VEVENT
DTSTART;TZID=UTC:20250130T173000
DTEND;TZID=UTC:20250130T175500
DTSTAMP:20260421T084940
CREATED:20250129T120408Z
LAST-MODIFIED:20250129T120435Z
UID:10000588-1738258200-1738259700@thriveadaptive.org
SUMMARY:Spring Adaptive Lesson - T/Th - S1
DESCRIPTION:Adaptive Aquatics is a swim lesson program open for adult and youth participants with disabilities. This is a group lesson\, where the instructor incorporates water safety and swimming fundamentals\, while accommodating the needs of each individual. Aids are encouraged to get in the water with their participant at no extra cost\, but are not mandated to unless specifically needed for medical or safety reasons. Please note online registration is limited. If an activity says it is available but you receive an Online Registration Limit/Activity enrollment error it means the online spots have already been filled and you need to register at the pool. Additionally\, if it says “Call Facility\,” you must register at the pool. We apologize for the inconvenience. Participants will only be able to enroll in one lesson per session from home. If you want additional lessons you will need to register at the pool.
URL:https://thriveadaptive.org/event/spring-adaptive-lesson-t-th-s1-8/
LOCATION:Valley Blvd. Los Angeles\, 3501 Valley Blvd. Los Angeles\, CA\, 90031
END:VEVENT
BEGIN:VEVENT
DTSTART;TZID=UTC:20250129T180000
DTEND;TZID=UTC:20250129T182500
DTSTAMP:20260421T084940
CREATED:20250129T121337Z
LAST-MODIFIED:20250129T121412Z
UID:10000595-1738173600-1738175100@thriveadaptive.org
SUMMARY:Spring Adaptive Lesson - W/F - S1
DESCRIPTION:Adaptive Aquatics is a swim lesson program open for adult and youth participants with disabilities. This is a group lesson\, where the instructor incorporates water safety and swimming fundamentals\, while accommodating the needs of each individual. Aids are encouraged to get in the water with their participant at no extra cost\, but are not mandated to unless specifically needed for medical or safety reasons. Please note online registration is limited. If an activity says it is available but you receive an Online Registration Limit/Activity enrollment error it means the online spots have already been filled and you need to register at the pool. Additionally\, if it says “Call Facility\,” you must register at the pool. We apologize for the inconvenience. Participants will only be able to enroll in one lesson per session from home. If you want additional lessons you will need to register at the pool.
URL:https://thriveadaptive.org/event/spring-adaptive-lesson-w-f-s1-7/
LOCATION:Valley Blvd. Los Angeles\, 3501 Valley Blvd. Los Angeles\, CA\, 90031
END:VEVENT
BEGIN:VEVENT
DTSTART;TZID=UTC:20250128T173000
DTEND;TZID=UTC:20250128T175500
DTSTAMP:20260421T084940
CREATED:20250129T120311Z
LAST-MODIFIED:20250129T120350Z
UID:10000587-1738085400-1738086900@thriveadaptive.org
SUMMARY:Spring Adaptive Lesson - T/Th - S1
DESCRIPTION:Adaptive Aquatics is a swim lesson program open for adult and youth participants with disabilities. This is a group lesson\, where the instructor incorporates water safety and swimming fundamentals\, while accommodating the needs of each individual. Aids are encouraged to get in the water with their participant at no extra cost\, but are not mandated to unless specifically needed for medical or safety reasons. Please note online registration is limited. If an activity says it is available but you receive an Online Registration Limit/Activity enrollment error it means the online spots have already been filled and you need to register at the pool. Additionally\, if it says “Call Facility\,” you must register at the pool. We apologize for the inconvenience. Participants will only be able to enroll in one lesson per session from home. If you want additional lessons you will need to register at the pool.
URL:https://thriveadaptive.org/event/spring-adaptive-lesson-t-th-s1-7/
LOCATION:Valley Blvd. Los Angeles\, 3501 Valley Blvd. Los Angeles\, CA\, 90031
END:VEVENT
BEGIN:VEVENT
DTSTART;TZID=UTC:20250124T180000
DTEND;TZID=UTC:20250124T182500
DTSTAMP:20260421T084940
CREATED:20250129T121240Z
LAST-MODIFIED:20250129T121320Z
UID:10000594-1737741600-1737743100@thriveadaptive.org
SUMMARY:Spring Adaptive Lesson - W/F - S1
DESCRIPTION:Adaptive Aquatics is a swim lesson program open for adult and youth participants with disabilities. This is a group lesson\, where the instructor incorporates water safety and swimming fundamentals\, while accommodating the needs of each individual. Aids are encouraged to get in the water with their participant at no extra cost\, but are not mandated to unless specifically needed for medical or safety reasons. Please note online registration is limited. If an activity says it is available but you receive an Online Registration Limit/Activity enrollment error it means the online spots have already been filled and you need to register at the pool. Additionally\, if it says “Call Facility\,” you must register at the pool. We apologize for the inconvenience. Participants will only be able to enroll in one lesson per session from home. If you want additional lessons you will need to register at the pool.
URL:https://thriveadaptive.org/event/spring-adaptive-lesson-w-f-s1-6/
LOCATION:Valley Blvd. Los Angeles\, 3501 Valley Blvd. Los Angeles\, CA\, 90031
END:VEVENT
BEGIN:VEVENT
DTSTART;TZID=UTC:20250123T173000
DTEND;TZID=UTC:20250123T175500
DTSTAMP:20260421T084940
CREATED:20250129T120230Z
LAST-MODIFIED:20250129T120256Z
UID:10000586-1737653400-1737654900@thriveadaptive.org
SUMMARY:Spring Adaptive Lesson - T/Th - S1
DESCRIPTION:Adaptive Aquatics is a swim lesson program open for adult and youth participants with disabilities. This is a group lesson\, where the instructor incorporates water safety and swimming fundamentals\, while accommodating the needs of each individual. Aids are encouraged to get in the water with their participant at no extra cost\, but are not mandated to unless specifically needed for medical or safety reasons. Please note online registration is limited. If an activity says it is available but you receive an Online Registration Limit/Activity enrollment error it means the online spots have already been filled and you need to register at the pool. Additionally\, if it says “Call Facility\,” you must register at the pool. We apologize for the inconvenience. Participants will only be able to enroll in one lesson per session from home. If you want additional lessons you will need to register at the pool.
URL:https://thriveadaptive.org/event/spring-adaptive-lesson-t-th-s1-6/
LOCATION:Valley Blvd. Los Angeles\, 3501 Valley Blvd. Los Angeles\, CA\, 90031
END:VEVENT
BEGIN:VEVENT
DTSTART;TZID=UTC:20250122T180000
DTEND;TZID=UTC:20250122T182500
DTSTAMP:20260421T084940
CREATED:20250129T121023Z
LAST-MODIFIED:20250129T121220Z
UID:10000593-1737568800-1737570300@thriveadaptive.org
SUMMARY:Spring Adaptive Lesson - W/F - S1
DESCRIPTION:Adaptive Aquatics is a swim lesson program open for adult and youth participants with disabilities. This is a group lesson\, where the instructor incorporates water safety and swimming fundamentals\, while accommodating the needs of each individual. Aids are encouraged to get in the water with their participant at no extra cost\, but are not mandated to unless specifically needed for medical or safety reasons. Please note online registration is limited. If an activity says it is available but you receive an Online Registration Limit/Activity enrollment error it means the online spots have already been filled and you need to register at the pool. Additionally\, if it says “Call Facility\,” you must register at the pool. We apologize for the inconvenience. Participants will only be able to enroll in one lesson per session from home. If you want additional lessons you will need to register at the pool.
URL:https://thriveadaptive.org/event/spring-adaptive-lesson-w-f-s1-5/
LOCATION:Valley Blvd. Los Angeles\, 3501 Valley Blvd. Los Angeles\, CA\, 90031
END:VEVENT
BEGIN:VEVENT
DTSTART;TZID=UTC:20250121T173000
DTEND;TZID=UTC:20250121T175500
DTSTAMP:20260421T084940
CREATED:20250129T120149Z
LAST-MODIFIED:20250129T120215Z
UID:10000585-1737480600-1737482100@thriveadaptive.org
SUMMARY:Spring Adaptive Lesson - T/Th - S1
DESCRIPTION:Adaptive Aquatics is a swim lesson program open for adult and youth participants with disabilities. This is a group lesson\, where the instructor incorporates water safety and swimming fundamentals\, while accommodating the needs of each individual. Aids are encouraged to get in the water with their participant at no extra cost\, but are not mandated to unless specifically needed for medical or safety reasons. Please note online registration is limited. If an activity says it is available but you receive an Online Registration Limit/Activity enrollment error it means the online spots have already been filled and you need to register at the pool. Additionally\, if it says “Call Facility\,” you must register at the pool. We apologize for the inconvenience. Participants will only be able to enroll in one lesson per session from home. If you want additional lessons you will need to register at the pool.
URL:https://thriveadaptive.org/event/spring-adaptive-lesson-t-th-s1-5/
LOCATION:Valley Blvd. Los Angeles\, 3501 Valley Blvd. Los Angeles\, CA\, 90031
END:VEVENT
BEGIN:VEVENT
DTSTART;TZID=UTC:20250117T180000
DTEND;TZID=UTC:20250117T182500
DTSTAMP:20260421T084940
CREATED:20250129T120923Z
LAST-MODIFIED:20250129T121009Z
UID:10000592-1737136800-1737138300@thriveadaptive.org
SUMMARY:Spring Adaptive Lesson - W/F - S1
DESCRIPTION:Adaptive Aquatics is a swim lesson program open for adult and youth participants with disabilities. This is a group lesson\, where the instructor incorporates water safety and swimming fundamentals\, while accommodating the needs of each individual. Aids are encouraged to get in the water with their participant at no extra cost\, but are not mandated to unless specifically needed for medical or safety reasons. Please note online registration is limited. If an activity says it is available but you receive an Online Registration Limit/Activity enrollment error it means the online spots have already been filled and you need to register at the pool. Additionally\, if it says “Call Facility\,” you must register at the pool. We apologize for the inconvenience. Participants will only be able to enroll in one lesson per session from home. If you want additional lessons you will need to register at the pool.
URL:https://thriveadaptive.org/event/spring-adaptive-lesson-w-f-s1-4/
LOCATION:Valley Blvd. Los Angeles\, 3501 Valley Blvd. Los Angeles\, CA\, 90031
END:VEVENT
BEGIN:VEVENT
DTSTART;TZID=UTC:20250116T173000
DTEND;TZID=UTC:20250116T175500
DTSTAMP:20260421T084940
CREATED:20250129T120103Z
LAST-MODIFIED:20250129T120135Z
UID:10000584-1737048600-1737050100@thriveadaptive.org
SUMMARY:Spring Adaptive Lesson - T/Th - S1
DESCRIPTION:Adaptive Aquatics is a swim lesson program open for adult and youth participants with disabilities. This is a group lesson\, where the instructor incorporates water safety and swimming fundamentals\, while accommodating the needs of each individual. Aids are encouraged to get in the water with their participant at no extra cost\, but are not mandated to unless specifically needed for medical or safety reasons. Please note online registration is limited. If an activity says it is available but you receive an Online Registration Limit/Activity enrollment error it means the online spots have already been filled and you need to register at the pool. Additionally\, if it says “Call Facility\,” you must register at the pool. We apologize for the inconvenience. Participants will only be able to enroll in one lesson per session from home. If you want additional lessons you will need to register at the pool.
URL:https://thriveadaptive.org/event/spring-adaptive-lesson-t-th-s1-4/
LOCATION:Valley Blvd. Los Angeles\, 3501 Valley Blvd. Los Angeles\, CA\, 90031
END:VEVENT
BEGIN:VEVENT
DTSTART;TZID=UTC:20250115T180000
DTEND;TZID=UTC:20250115T182500
DTSTAMP:20260421T084940
CREATED:20250129T120831Z
LAST-MODIFIED:20250129T120908Z
UID:10000591-1736964000-1736965500@thriveadaptive.org
SUMMARY:Spring Adaptive Lesson - W/F - S1
DESCRIPTION:Adaptive Aquatics is a swim lesson program open for adult and youth participants with disabilities. This is a group lesson\, where the instructor incorporates water safety and swimming fundamentals\, while accommodating the needs of each individual. Aids are encouraged to get in the water with their participant at no extra cost\, but are not mandated to unless specifically needed for medical or safety reasons. Please note online registration is limited. If an activity says it is available but you receive an Online Registration Limit/Activity enrollment error it means the online spots have already been filled and you need to register at the pool. Additionally\, if it says “Call Facility\,” you must register at the pool. We apologize for the inconvenience. Participants will only be able to enroll in one lesson per session from home. If you want additional lessons you will need to register at the pool.
URL:https://thriveadaptive.org/event/spring-adaptive-lesson-w-f-s1-3/
LOCATION:Valley Blvd. Los Angeles\, 3501 Valley Blvd. Los Angeles\, CA\, 90031
END:VEVENT
BEGIN:VEVENT
DTSTART;TZID=UTC:20250114T173000
DTEND;TZID=UTC:20250114T175500
DTSTAMP:20260421T084940
CREATED:20250129T120008Z
LAST-MODIFIED:20250129T120045Z
UID:10000583-1736875800-1736877300@thriveadaptive.org
SUMMARY:Spring Adaptive Lesson - T/Th - S1
DESCRIPTION:Adaptive Aquatics is a swim lesson program open for adult and youth participants with disabilities. This is a group lesson\, where the instructor incorporates water safety and swimming fundamentals\, while accommodating the needs of each individual. Aids are encouraged to get in the water with their participant at no extra cost\, but are not mandated to unless specifically needed for medical or safety reasons. Please note online registration is limited. If an activity says it is available but you receive an Online Registration Limit/Activity enrollment error it means the online spots have already been filled and you need to register at the pool. Additionally\, if it says “Call Facility\,” you must register at the pool. We apologize for the inconvenience. Participants will only be able to enroll in one lesson per session from home. If you want additional lessons you will need to register at the pool.
URL:https://thriveadaptive.org/event/spring-adaptive-lesson-t-th-s1-3/
LOCATION:Valley Blvd. Los Angeles\, 3501 Valley Blvd. Los Angeles\, CA\, 90031
END:VEVENT
BEGIN:VEVENT
DTSTART;TZID=UTC:20250110T180000
DTEND;TZID=UTC:20250110T182500
DTSTAMP:20260421T084940
CREATED:20250129T120736Z
LAST-MODIFIED:20250129T120813Z
UID:10000590-1736532000-1736533500@thriveadaptive.org
SUMMARY:Spring Adaptive Lesson - W/F - S1
DESCRIPTION:Adaptive Aquatics is a swim lesson program open for adult and youth participants with disabilities. This is a group lesson\, where the instructor incorporates water safety and swimming fundamentals\, while accommodating the needs of each individual. Aids are encouraged to get in the water with their participant at no extra cost\, but are not mandated to unless specifically needed for medical or safety reasons. Please note online registration is limited. If an activity says it is available but you receive an Online Registration Limit/Activity enrollment error it means the online spots have already been filled and you need to register at the pool. Additionally\, if it says “Call Facility\,” you must register at the pool. We apologize for the inconvenience. Participants will only be able to enroll in one lesson per session from home. If you want additional lessons you will need to register at the pool.
URL:https://thriveadaptive.org/event/spring-adaptive-lesson-w-f-s1-2/
LOCATION:Valley Blvd. Los Angeles\, 3501 Valley Blvd. Los Angeles\, CA\, 90031
END:VEVENT
BEGIN:VEVENT
DTSTART;TZID=UTC:20250109T173000
DTEND;TZID=UTC:20250109T175500
DTSTAMP:20260421T084940
CREATED:20250129T115901Z
LAST-MODIFIED:20250129T115941Z
UID:10000582-1736443800-1736445300@thriveadaptive.org
SUMMARY:Spring Adaptive Lesson - T/Th - S1
DESCRIPTION:Adaptive Aquatics is a swim lesson program open for adult and youth participants with disabilities. This is a group lesson\, where the instructor incorporates water safety and swimming fundamentals\, while accommodating the needs of each individual. Aids are encouraged to get in the water with their participant at no extra cost\, but are not mandated to unless specifically needed for medical or safety reasons. Please note online registration is limited. If an activity says it is available but you receive an Online Registration Limit/Activity enrollment error it means the online spots have already been filled and you need to register at the pool. Additionally\, if it says “Call Facility\,” you must register at the pool. We apologize for the inconvenience. Participants will only be able to enroll in one lesson per session from home. If you want additional lessons you will need to register at the pool.
URL:https://thriveadaptive.org/event/spring-adaptive-lesson-t-th-s1-2/
LOCATION:Valley Blvd. Los Angeles\, 3501 Valley Blvd. Los Angeles\, CA\, 90031
END:VEVENT
BEGIN:VEVENT
DTSTART;TZID=UTC:20250108T180000
DTEND;TZID=UTC:20250108T182500
DTSTAMP:20260421T084940
CREATED:20250129T120521Z
LAST-MODIFIED:20250129T120628Z
UID:10000589-1736359200-1736360700@thriveadaptive.org
SUMMARY:Spring Adaptive Lesson - W/F - S1
DESCRIPTION:Adaptive Aquatics is a swim lesson program open for adult and youth participants with disabilities. This is a group lesson\, where the instructor incorporates water safety and swimming fundamentals\, while accommodating the needs of each individual. Aids are encouraged to get in the water with their participant at no extra cost\, but are not mandated to unless specifically needed for medical or safety reasons. Please note online registration is limited. If an activity says it is available but you receive an Online Registration Limit/Activity enrollment error it means the online spots have already been filled and you need to register at the pool. Additionally\, if it says “Call Facility\,” you must register at the pool. We apologize for the inconvenience. Participants will only be able to enroll in one lesson per session from home. If you want additional lessons you will need to register at the pool.
URL:https://thriveadaptive.org/event/spring-adaptive-lesson-w-f-s1/
LOCATION:Valley Blvd. Los Angeles\, 3501 Valley Blvd. Los Angeles\, CA\, 90031
END:VEVENT
BEGIN:VEVENT
DTSTART;TZID=UTC:20250107T173000
DTEND;TZID=UTC:20250107T175500
DTSTAMP:20260421T084940
CREATED:20250113T131129Z
LAST-MODIFIED:20250129T115504Z
UID:10000212-1736271000-1736272500@thriveadaptive.org
SUMMARY:Spring Adaptive Lesson - T/Th - S1
DESCRIPTION:Adaptive Aquatics is a swim lesson program open for adult and youth participants with disabilities. This is a group lesson\, where the instructor incorporates water safety and swimming fundamentals\, while accommodating the needs of each individual. Aids are encouraged to get in the water with their participant at no extra cost\, but are not mandated to unless specifically needed for medical or safety reasons. Please note online registration is limited. If an activity says it is available but you receive an Online Registration Limit/Activity enrollment error it means the online spots have already been filled and you need to register at the pool. Additionally\, if it says “Call Facility\,” you must register at the pool. We apologize for the inconvenience. Participants will only be able to enroll in one lesson per session from home. If you want additional lessons you will need to register at the pool.
URL:https://thriveadaptive.org/event/spring-adaptive-lesson-t-th-s1/
LOCATION:Valley Blvd. Los Angeles\, 3501 Valley Blvd. Los Angeles\, CA\, 90031
END:VEVENT
END:VCALENDAR