BEGIN:VCALENDAR
VERSION:2.0
PRODID:-//Thrive Adaptive - ECPv6.10.1.1//NONSGML v1.0//EN
CALSCALE:GREGORIAN
METHOD:PUBLISH
X-ORIGINAL-URL:https://thriveadaptive.org
X-WR-CALDESC:Events for Thrive Adaptive
REFRESH-INTERVAL;VALUE=DURATION:PT1H
X-Robots-Tag:noindex
X-PUBLISHED-TTL:PT1H
BEGIN:VTIMEZONE
TZID:UTC
BEGIN:STANDARD
TZOFFSETFROM:+0000
TZOFFSETTO:+0000
TZNAME:UTC
DTSTART:20250101T000000
END:STANDARD
END:VTIMEZONE
BEGIN:VEVENT
DTSTART;TZID=UTC:20260221T093000
DTEND;TZID=UTC:20260221T150000
DTSTAMP:20260420T002522
CREATED:20251218T215449Z
LAST-MODIFIED:20260126T223417Z
UID:10000765-1771666200-1771686000@thriveadaptive.org
SUMMARY:Feb 21: Burbank Adaptive Sports Expo | Burbank
DESCRIPTION:Join Thrive Adaptive at the Burbank Adaptive Sports Expo\, for this event\, in addition to assisting with first aid\, our volunteers will also participate alongside the general volunteers. \nThe Burbank Adaptive Sports Expo will host over 100 athletes with disabilities participating in approximately 10 adaptive sports events. This event will be a full day of inclusive fun designed for the entire family and first time athletes \nRegister now
URL:https://thriveadaptive.org/event/feb-21-burbank-adaptive-sports-expo-burbank/
LOCATION:McCambridge Park\, 1515 N. Glenoaks Blvd. Burbank\, CA 91504
CATEGORIES:Featured Events,Medical Support,Multi Sports Day
ATTACH;FMTTYPE=image/png:https://thriveadaptive.org/wp-content/uploads/2025/12/Screenshot-2026-01-26-at-2.32.14 PM.png
END:VEVENT
BEGIN:VEVENT
DTSTART;TZID=UTC:20250511T090000
DTEND;TZID=UTC:20250511T150000
DTSTAMP:20260420T002522
CREATED:20250307T034817Z
LAST-MODIFIED:20250307T034817Z
UID:10000755-1746954000-1746975600@thriveadaptive.org
SUMMARY:Burbank Adaptive Sports Drop in Clinics
DESCRIPTION:
URL:https://thriveadaptive.org/event/burbank-adaptive-sports-drop-in-clinics/2025-05-11/
LOCATION:McCambridge Park\, 1515 N. Glenoaks Blvd. Burbank\, CA 91504
ATTACH;FMTTYPE=image/jpeg:https://thriveadaptive.org/wp-content/uploads/2025/03/18D99C99-32DB-4F1C-82F0-E4447E87E772-scaled.jpg
END:VEVENT
BEGIN:VEVENT
DTSTART;TZID=UTC:20250504T090000
DTEND;TZID=UTC:20250504T150000
DTSTAMP:20260420T002522
CREATED:20250307T034817Z
LAST-MODIFIED:20250307T034817Z
UID:10000754-1746349200-1746370800@thriveadaptive.org
SUMMARY:Burbank Adaptive Sports Drop in Clinics
DESCRIPTION:
URL:https://thriveadaptive.org/event/burbank-adaptive-sports-drop-in-clinics/2025-05-04/
LOCATION:McCambridge Park\, 1515 N. Glenoaks Blvd. Burbank\, CA 91504
ATTACH;FMTTYPE=image/jpeg:https://thriveadaptive.org/wp-content/uploads/2025/03/18D99C99-32DB-4F1C-82F0-E4447E87E772-scaled.jpg
END:VEVENT
BEGIN:VEVENT
DTSTART;TZID=UTC:20250427T090000
DTEND;TZID=UTC:20250427T150000
DTSTAMP:20260420T002522
CREATED:20250307T034817Z
LAST-MODIFIED:20250307T034817Z
UID:10000753-1745744400-1745766000@thriveadaptive.org
SUMMARY:Burbank Adaptive Sports Drop in Clinics
DESCRIPTION:
URL:https://thriveadaptive.org/event/burbank-adaptive-sports-drop-in-clinics/2025-04-27/
LOCATION:McCambridge Park\, 1515 N. Glenoaks Blvd. Burbank\, CA 91504
ATTACH;FMTTYPE=image/jpeg:https://thriveadaptive.org/wp-content/uploads/2025/03/18D99C99-32DB-4F1C-82F0-E4447E87E772-scaled.jpg
END:VEVENT
BEGIN:VEVENT
DTSTART;TZID=UTC:20250420T090000
DTEND;TZID=UTC:20250420T150000
DTSTAMP:20260420T002522
CREATED:20250307T034817Z
LAST-MODIFIED:20250307T034817Z
UID:10000752-1745139600-1745161200@thriveadaptive.org
SUMMARY:Burbank Adaptive Sports Drop in Clinics
DESCRIPTION:
URL:https://thriveadaptive.org/event/burbank-adaptive-sports-drop-in-clinics/2025-04-20/
LOCATION:McCambridge Park\, 1515 N. Glenoaks Blvd. Burbank\, CA 91504
ATTACH;FMTTYPE=image/jpeg:https://thriveadaptive.org/wp-content/uploads/2025/03/18D99C99-32DB-4F1C-82F0-E4447E87E772-scaled.jpg
END:VEVENT
BEGIN:VEVENT
DTSTART;TZID=UTC:20250413T090000
DTEND;TZID=UTC:20250413T150000
DTSTAMP:20260420T002522
CREATED:20250307T034817Z
LAST-MODIFIED:20250307T034817Z
UID:10000751-1744534800-1744556400@thriveadaptive.org
SUMMARY:Burbank Adaptive Sports Drop in Clinics
DESCRIPTION:
URL:https://thriveadaptive.org/event/burbank-adaptive-sports-drop-in-clinics/2025-04-13/
LOCATION:McCambridge Park\, 1515 N. Glenoaks Blvd. Burbank\, CA 91504
ATTACH;FMTTYPE=image/jpeg:https://thriveadaptive.org/wp-content/uploads/2025/03/18D99C99-32DB-4F1C-82F0-E4447E87E772-scaled.jpg
END:VEVENT
BEGIN:VEVENT
DTSTART;TZID=UTC:20250406T090000
DTEND;TZID=UTC:20250406T150000
DTSTAMP:20260420T002522
CREATED:20250307T034817Z
LAST-MODIFIED:20250307T034817Z
UID:10000750-1743930000-1743951600@thriveadaptive.org
SUMMARY:Burbank Adaptive Sports Drop in Clinics
DESCRIPTION:
URL:https://thriveadaptive.org/event/burbank-adaptive-sports-drop-in-clinics/2025-04-06/
LOCATION:McCambridge Park\, 1515 N. Glenoaks Blvd. Burbank\, CA 91504
ATTACH;FMTTYPE=image/jpeg:https://thriveadaptive.org/wp-content/uploads/2025/03/18D99C99-32DB-4F1C-82F0-E4447E87E772-scaled.jpg
END:VEVENT
BEGIN:VEVENT
DTSTART;TZID=UTC:20250330T090000
DTEND;TZID=UTC:20250330T150000
DTSTAMP:20260420T002522
CREATED:20250307T034817Z
LAST-MODIFIED:20250307T034817Z
UID:10000749-1743325200-1743346800@thriveadaptive.org
SUMMARY:Burbank Adaptive Sports Drop in Clinics
DESCRIPTION:
URL:https://thriveadaptive.org/event/burbank-adaptive-sports-drop-in-clinics/2025-03-30/
LOCATION:McCambridge Park\, 1515 N. Glenoaks Blvd. Burbank\, CA 91504
ATTACH;FMTTYPE=image/jpeg:https://thriveadaptive.org/wp-content/uploads/2025/03/18D99C99-32DB-4F1C-82F0-E4447E87E772-scaled.jpg
END:VEVENT
BEGIN:VEVENT
DTSTART;TZID=UTC:20250323T090000
DTEND;TZID=UTC:20250323T150000
DTSTAMP:20260420T002522
CREATED:20250307T034817Z
LAST-MODIFIED:20250307T034817Z
UID:10000748-1742720400-1742742000@thriveadaptive.org
SUMMARY:Burbank Adaptive Sports Drop in Clinics
DESCRIPTION:
URL:https://thriveadaptive.org/event/burbank-adaptive-sports-drop-in-clinics/2025-03-23/
LOCATION:McCambridge Park\, 1515 N. Glenoaks Blvd. Burbank\, CA 91504
ATTACH;FMTTYPE=image/jpeg:https://thriveadaptive.org/wp-content/uploads/2025/03/18D99C99-32DB-4F1C-82F0-E4447E87E772-scaled.jpg
END:VEVENT
BEGIN:VEVENT
DTSTART;TZID=UTC:20250316T090000
DTEND;TZID=UTC:20250316T150000
DTSTAMP:20260420T002522
CREATED:20250307T034817Z
LAST-MODIFIED:20250307T034817Z
UID:10000747-1742115600-1742137200@thriveadaptive.org
SUMMARY:Burbank Adaptive Sports Drop in Clinics
DESCRIPTION:
URL:https://thriveadaptive.org/event/burbank-adaptive-sports-drop-in-clinics/2025-03-16/
LOCATION:McCambridge Park\, 1515 N. Glenoaks Blvd. Burbank\, CA 91504
ATTACH;FMTTYPE=image/jpeg:https://thriveadaptive.org/wp-content/uploads/2025/03/18D99C99-32DB-4F1C-82F0-E4447E87E772-scaled.jpg
END:VEVENT
BEGIN:VEVENT
DTSTART;TZID=UTC:20250309T090000
DTEND;TZID=UTC:20250309T150000
DTSTAMP:20260420T002522
CREATED:20250307T034817Z
LAST-MODIFIED:20250307T034817Z
UID:10000746-1741510800-1741532400@thriveadaptive.org
SUMMARY:Burbank Adaptive Sports Drop in Clinics
DESCRIPTION:
URL:https://thriveadaptive.org/event/burbank-adaptive-sports-drop-in-clinics/2025-03-09/
LOCATION:McCambridge Park\, 1515 N. Glenoaks Blvd. Burbank\, CA 91504
ATTACH;FMTTYPE=image/jpeg:https://thriveadaptive.org/wp-content/uploads/2025/03/18D99C99-32DB-4F1C-82F0-E4447E87E772-scaled.jpg
END:VEVENT
BEGIN:VEVENT
DTSTART;TZID=UTC:20250215T100000
DTEND;TZID=UTC:20250215T150000
DTSTAMP:20260420T002522
CREATED:20250113T104004Z
LAST-MODIFIED:20250130T054756Z
UID:10000176-1739613600-1739631600@thriveadaptive.org
SUMMARY:Burbank Adaptive Sports Expo
DESCRIPTION:This event is for everyone! Including adaptive athletes\, developmentally-disabled athletes\, and able-bodied athletes. All equipment needed will be provided. \nTriumph will be hosting wheelchair rugby and basketball clinics. \nSaturday\, February 15\, 2025 from 10am – 3pm. \nREGISTRATION LINK COMING SOON
URL:https://thriveadaptive.org/event/burbank-adaptive-sports-expo/
LOCATION:McCambridge Park\, 1515 N. Glenoaks Blvd. Burbank\, CA 91504
ATTACH;FMTTYPE=image/jpeg:https://thriveadaptive.org/wp-content/uploads/2025/01/Community-Event.jpg
END:VEVENT
END:VCALENDAR