BEGIN:VCALENDAR
VERSION:2.0
PRODID:-//Thrive Adaptive - ECPv6.10.1.1//NONSGML v1.0//EN
CALSCALE:GREGORIAN
METHOD:PUBLISH
X-ORIGINAL-URL:https://thriveadaptive.org
X-WR-CALDESC:Events for Thrive Adaptive
REFRESH-INTERVAL;VALUE=DURATION:PT1H
X-Robots-Tag:noindex
X-PUBLISHED-TTL:PT1H
BEGIN:VTIMEZONE
TZID:UTC
BEGIN:STANDARD
TZOFFSETFROM:+0000
TZOFFSETTO:+0000
TZNAME:UTC
DTSTART:20250101T000000
END:STANDARD
END:VTIMEZONE
BEGIN:VEVENT
DTSTART;TZID=UTC:20250211T170000
DTEND;TZID=UTC:20250211T170000
DTSTAMP:20260419T180129
CREATED:20250130T052329Z
LAST-MODIFIED:20250130T052856Z
UID:10000682-1739293200-1739293200@thriveadaptive.org
SUMMARY:North County Santa Barbara SCI Life Series Support Group
DESCRIPTION:Our North County Santa Barbara SCI Life Series Group meets on the second Tuesday of every month at 5pm.
URL:https://thriveadaptive.org/event/north-county-santa-barbara-sci-life-series-support-group/
LOCATION:Giavanni’s Pizza\,\, Giavanni's Pizza 1108 E Clark Ave. Ste 108 Santa Maria\, CA 93455.
ATTACH;FMTTYPE=image/jpeg:https://thriveadaptive.org/wp-content/uploads/2025/01/NCSB-Group-Banner.jpg
END:VEVENT
END:VCALENDAR