BEGIN:VCALENDAR
VERSION:2.0
PRODID:-//Thrive Adaptive - ECPv6.10.1.1//NONSGML v1.0//EN
CALSCALE:GREGORIAN
METHOD:PUBLISH
X-ORIGINAL-URL:https://thriveadaptive.org
X-WR-CALDESC:Events for Thrive Adaptive
REFRESH-INTERVAL;VALUE=DURATION:PT1H
X-Robots-Tag:noindex
X-PUBLISHED-TTL:PT1H
BEGIN:VTIMEZONE
TZID:UTC
BEGIN:STANDARD
TZOFFSETFROM:+0000
TZOFFSETTO:+0000
TZNAME:UTC
DTSTART:20250101T000000
END:STANDARD
END:VTIMEZONE
BEGIN:VEVENT
DTSTART;TZID=UTC:20250124T160000
DTEND;TZID=UTC:20250124T162500
DTSTAMP:20260413T191332
CREATED:20250129T130543Z
LAST-MODIFIED:20250129T130615Z
UID:10000634-1737734400-1737735900@thriveadaptive.org
SUMMARY:Winter Adaptive Swim - Wed/Fri - 4pm - S1
DESCRIPTION:
URL:https://thriveadaptive.org/event/winter-adaptive-swim-wed-fri-4pm-s1-6/
LOCATION:5858 Shoup Ave.\, 5858 Shoup Ave. Woodland Hills\, CA\, 91367
END:VEVENT
BEGIN:VEVENT
DTSTART;TZID=UTC:20250123T160000
DTEND;TZID=UTC:20250123T162500
DTSTAMP:20260413T191332
CREATED:20250129T125820Z
LAST-MODIFIED:20250129T125858Z
UID:10000626-1737648000-1737649500@thriveadaptive.org
SUMMARY:Winter Adaptive Swim - Tue/Thur - 4pm - S1
DESCRIPTION:
URL:https://thriveadaptive.org/event/winter-adaptive-swim-tue-thur-4pm-s1-6/
LOCATION:5858 Shoup Ave.\, 5858 Shoup Ave. Woodland Hills\, CA\, 91367
END:VEVENT
BEGIN:VEVENT
DTSTART;TZID=UTC:20250122T160000
DTEND;TZID=UTC:20250122T162500
DTSTAMP:20260413T191332
CREATED:20250129T130453Z
LAST-MODIFIED:20250129T130527Z
UID:10000633-1737561600-1737563100@thriveadaptive.org
SUMMARY:Winter Adaptive Swim - Wed/Fri - 4pm - S1
DESCRIPTION:
URL:https://thriveadaptive.org/event/winter-adaptive-swim-wed-fri-4pm-s1-5/
LOCATION:5858 Shoup Ave.\, 5858 Shoup Ave. Woodland Hills\, CA\, 91367
END:VEVENT
BEGIN:VEVENT
DTSTART;TZID=UTC:20250121T160000
DTEND;TZID=UTC:20250121T162500
DTSTAMP:20260413T191332
CREATED:20250129T125720Z
LAST-MODIFIED:20250129T125752Z
UID:10000625-1737475200-1737476700@thriveadaptive.org
SUMMARY:Winter Adaptive Swim - Tue/Thur - 4pm - S1
DESCRIPTION:
URL:https://thriveadaptive.org/event/winter-adaptive-swim-tue-thur-4pm-s1-5/
LOCATION:5858 Shoup Ave.\, 5858 Shoup Ave. Woodland Hills\, CA\, 91367
END:VEVENT
BEGIN:VEVENT
DTSTART;TZID=UTC:20250117T160000
DTEND;TZID=UTC:20250117T162500
DTSTAMP:20260413T191332
CREATED:20250129T130402Z
LAST-MODIFIED:20250129T130432Z
UID:10000632-1737129600-1737131100@thriveadaptive.org
SUMMARY:Winter Adaptive Swim - Wed/Fri - 4pm - S1
DESCRIPTION:
URL:https://thriveadaptive.org/event/winter-adaptive-swim-wed-fri-4pm-s1-4/
LOCATION:5858 Shoup Ave.\, 5858 Shoup Ave. Woodland Hills\, CA\, 91367
END:VEVENT
BEGIN:VEVENT
DTSTART;TZID=UTC:20250116T160000
DTEND;TZID=UTC:20250116T162500
DTSTAMP:20260413T191332
CREATED:20250129T125637Z
LAST-MODIFIED:20250129T125706Z
UID:10000624-1737043200-1737044700@thriveadaptive.org
SUMMARY:Winter Adaptive Swim - Tue/Thur - 4pm - S1
DESCRIPTION:
URL:https://thriveadaptive.org/event/winter-adaptive-swim-tue-thur-4pm-s1-4/
LOCATION:5858 Shoup Ave.\, 5858 Shoup Ave. Woodland Hills\, CA\, 91367
END:VEVENT
BEGIN:VEVENT
DTSTART;TZID=UTC:20250115T160000
DTEND;TZID=UTC:20250115T162500
DTSTAMP:20260413T191332
CREATED:20250129T130316Z
LAST-MODIFIED:20250129T130344Z
UID:10000631-1736956800-1736958300@thriveadaptive.org
SUMMARY:Winter Adaptive Swim - Wed/Fri - 4pm - S1
DESCRIPTION:
URL:https://thriveadaptive.org/event/winter-adaptive-swim-wed-fri-4pm-s1-3/
LOCATION:5858 Shoup Ave.\, 5858 Shoup Ave. Woodland Hills\, CA\, 91367
END:VEVENT
BEGIN:VEVENT
DTSTART;TZID=UTC:20250114T160000
DTEND;TZID=UTC:20250114T162500
DTSTAMP:20260413T191332
CREATED:20250129T125556Z
LAST-MODIFIED:20250129T125623Z
UID:10000623-1736870400-1736871900@thriveadaptive.org
SUMMARY:Winter Adaptive Swim - Tue/Thur - 4pm - S1
DESCRIPTION:
URL:https://thriveadaptive.org/event/winter-adaptive-swim-tue-thur-4pm-s1-3/
LOCATION:5858 Shoup Ave.\, 5858 Shoup Ave. Woodland Hills\, CA\, 91367
END:VEVENT
BEGIN:VEVENT
DTSTART;TZID=UTC:20250110T160000
DTEND;TZID=UTC:20250110T162500
DTSTAMP:20260413T191332
CREATED:20250129T130228Z
LAST-MODIFIED:20250129T130303Z
UID:10000630-1736524800-1736526300@thriveadaptive.org
SUMMARY:Winter Adaptive Swim - Wed/Fri - 4pm - S1
DESCRIPTION:
URL:https://thriveadaptive.org/event/winter-adaptive-swim-wed-fri-4pm-s1-2/
LOCATION:5858 Shoup Ave.\, 5858 Shoup Ave. Woodland Hills\, CA\, 91367
END:VEVENT
BEGIN:VEVENT
DTSTART;TZID=UTC:20250109T160000
DTEND;TZID=UTC:20250109T162500
DTSTAMP:20260413T191332
CREATED:20250129T125513Z
LAST-MODIFIED:20250129T125540Z
UID:10000622-1736438400-1736439900@thriveadaptive.org
SUMMARY:Winter Adaptive Swim - Tue/Thur - 4pm - S1
DESCRIPTION:
URL:https://thriveadaptive.org/event/winter-adaptive-swim-tue-thur-4pm-s1-2/
LOCATION:5858 Shoup Ave.\, 5858 Shoup Ave. Woodland Hills\, CA\, 91367
END:VEVENT
BEGIN:VEVENT
DTSTART;TZID=UTC:20250108T160000
DTEND;TZID=UTC:20250108T162500
DTSTAMP:20260413T191332
CREATED:20250129T130108Z
LAST-MODIFIED:20250129T130210Z
UID:10000629-1736352000-1736353500@thriveadaptive.org
SUMMARY:Winter Adaptive Swim - Wed/Fri - 4pm - S1
DESCRIPTION:
URL:https://thriveadaptive.org/event/winter-adaptive-swim-wed-fri-4pm-s1/
LOCATION:5858 Shoup Ave.\, 5858 Shoup Ave. Woodland Hills\, CA\, 91367
END:VEVENT
BEGIN:VEVENT
DTSTART;TZID=UTC:20250107T160000
DTEND;TZID=UTC:20250107T162500
DTSTAMP:20260413T191332
CREATED:20250129T124555Z
LAST-MODIFIED:20250129T125018Z
UID:10000621-1736265600-1736267100@thriveadaptive.org
SUMMARY:Winter Adaptive Swim - Tue/Thur - 4pm - S1
DESCRIPTION:
URL:https://thriveadaptive.org/event/winter-adaptive-swim-tue-thur-4pm-s1/
LOCATION:5858 Shoup Ave.\, 5858 Shoup Ave. Woodland Hills\, CA\, 91367
END:VEVENT
END:VCALENDAR