BEGIN:VCALENDAR
VERSION:2.0
PRODID:-//Thrive Adaptive - ECPv6.10.1.1//NONSGML v1.0//EN
CALSCALE:GREGORIAN
METHOD:PUBLISH
X-ORIGINAL-URL:https://thriveadaptive.org
X-WR-CALDESC:Events for Thrive Adaptive
REFRESH-INTERVAL;VALUE=DURATION:PT1H
X-Robots-Tag:noindex
X-PUBLISHED-TTL:PT1H
BEGIN:VTIMEZONE
TZID:UTC
BEGIN:STANDARD
TZOFFSETFROM:+0000
TZOFFSETTO:+0000
TZNAME:UTC
DTSTART:20240101T000000
END:STANDARD
END:VTIMEZONE
BEGIN:VEVENT
DTSTART;TZID=UTC:20240302T160000
DTEND;TZID=UTC:20240302T173000
DTSTAMP:20260420T115652
CREATED:20240104T165948Z
LAST-MODIFIED:20240104T165948Z
UID:10000085-1709395200-1709400600@thriveadaptive.org
SUMMARY:Wheelchair Basketball Practice with Angel City Sports
DESCRIPTION:Join us to learn wheelchair basketball and sharpen your skills!  We will have an open gym with various basketball skills and drills led by experienced coaches from the Angel City Sports Wheelchair Basketball Program. \nThis is open to individuals of all ages and skill levels\, beginner to advanced!  You may bring your own sports chair or use one from Angel City Sports.  Sign up at the following link and be ready to ball! \nTime: 4 pm to 5:30 pm  \nLocation: Harvard Westlake High School – 3700 Coldwater Canyon Ave\, Studio City\, CA 91604
URL:https://thriveadaptive.org/event/wheelchair-basketball-practice-with-angel-city-sports/2024-03-02/
LOCATION:Harvard Westlake High School (Upper Campus)\, 3700 Coldwater Canyon Ave\, Los Angeles\, 91604\, United States
CATEGORIES:Adaptive Sports Clinics,Practices and Competions,Wheelchair Basketball
ATTACH;FMTTYPE=image/png:https://thriveadaptive.org/wp-content/uploads/2023/09/Screen-Shot-2023-09-26-at-2.35.32-PM.png
END:VEVENT
BEGIN:VEVENT
DTSTART;VALUE=DATE:20240315
DTEND;VALUE=DATE:20240318
DTSTAMP:20260420T115652
CREATED:20240223T002028Z
LAST-MODIFIED:20240223T081812Z
UID:10000090-1710460800-1710719999@thriveadaptive.org
SUMMARY:March 15-17: USA Para Track and Field Nationals
DESCRIPTION:The United States Para Track and Field Nationals are coming to Hilmer Stadium at Mount San Antonio (Mt. Sac) Junior College. March 15-17. \nThis is NOT A MEDICAL VOLUNTEER OPPORTUNITY  \nHowever\, there are open event volunteer roles with United States Para Track and Field for those who are interested in supporting the National Championship. \nLearn more and sign up today!
URL:https://thriveadaptive.org/event/march-15-17-us-para-track-and-field-nationals/
LOCATION:Hilmer Lodge Stadium (Mt. Sac JC)\, 1100 Grand Ave\, Walnut\, CA\, 91789\, United States
CATEGORIES:Practices and Competions
ATTACH;FMTTYPE=image/jpeg:https://thriveadaptive.org/wp-content/uploads/2024/02/Screen-Shot-2024-02-22-at-4.07.08-PM-scaled.jpg
END:VEVENT
BEGIN:VEVENT
DTSTART;TZID=UTC:20240323T080000
DTEND;TZID=UTC:20240324T170000
DTSTAMP:20260420T115652
CREATED:20240104T205432Z
LAST-MODIFIED:20240221T195508Z
UID:10000086-1711180800-1711299600@thriveadaptive.org
SUMMARY:Angel City Sports Youth Weekend
DESCRIPTION:The 2024 Angel City Sports Youth Weekend is a two-day event introducing kids from ages 18 & under to adaptive sports and a celebration of what is possible. This year we feature 8+ adaptive sport clinics across 2 days. By the end of the weekend\, all participants will be able to compete! \nSaturday\, March 23 – 8 am to 5 pm \nSunday\, March 24 – 8 am to 5 pm \nSignup to be a medical volunteer \n  \nLocation: Harvard-Westlake Upper School 3700 Coldwater Canyon AvenueLos Angeles\, CA\, 91604
URL:https://thriveadaptive.org/event/angel-city-sports-youth-weekend/
LOCATION:Harvard Westlake High School (Upper Campus)\, 3700 Coldwater Canyon Ave\, Los Angeles\, 91604\, United States
CATEGORIES:Adaptive Sit Down Volleyball,Adaptive Sports Clinics,Featured Events,Medical Support,Multi Sports Day,Practices and Competions,Resource Event,Wheelchair Basketball
ATTACH;FMTTYPE=image/png:https://thriveadaptive.org/wp-content/uploads/2024/01/ACS-Youth-Games.png
END:VEVENT
END:VCALENDAR