BEGIN:VCALENDAR
VERSION:2.0
PRODID:-//Thrive Adaptive - ECPv6.10.1.1//NONSGML v1.0//EN
CALSCALE:GREGORIAN
METHOD:PUBLISH
X-WR-CALNAME:Thrive Adaptive
X-ORIGINAL-URL:https://thriveadaptive.org
X-WR-CALDESC:Events for Thrive Adaptive
REFRESH-INTERVAL;VALUE=DURATION:PT1H
X-Robots-Tag:noindex
X-PUBLISHED-TTL:PT1H
BEGIN:VTIMEZONE
TZID:UTC
BEGIN:STANDARD
TZOFFSETFROM:+0000
TZOFFSETTO:+0000
TZNAME:UTC
DTSTART:20240101T000000
END:STANDARD
END:VTIMEZONE
BEGIN:VEVENT
DTSTART;VALUE=DATE:20240315
DTEND;VALUE=DATE:20240318
DTSTAMP:20260419T131814
CREATED:20240223T002028Z
LAST-MODIFIED:20240223T081812Z
UID:10000090-1710460800-1710719999@thriveadaptive.org
SUMMARY:March 15-17: USA Para Track and Field Nationals
DESCRIPTION:The United States Para Track and Field Nationals are coming to Hilmer Stadium at Mount San Antonio (Mt. Sac) Junior College. March 15-17. \nThis is NOT A MEDICAL VOLUNTEER OPPORTUNITY  \nHowever\, there are open event volunteer roles with United States Para Track and Field for those who are interested in supporting the National Championship. \nLearn more and sign up today!
URL:https://thriveadaptive.org/event/march-15-17-us-para-track-and-field-nationals/
LOCATION:Hilmer Lodge Stadium (Mt. Sac JC)\, 1100 Grand Ave\, Walnut\, CA\, 91789\, United States
CATEGORIES:Practices and Competions
ATTACH;FMTTYPE=image/jpeg:https://thriveadaptive.org/wp-content/uploads/2024/02/Screen-Shot-2024-02-22-at-4.07.08-PM-scaled.jpg
END:VEVENT
BEGIN:VEVENT
DTSTART;VALUE=DATE:20240315
DTEND;VALUE=DATE:20240318
DTSTAMP:20260419T131814
CREATED:20240223T003800Z
LAST-MODIFIED:20240223T003800Z
UID:10000091-1710460800-1710719999@thriveadaptive.org
SUMMARY:March 15-17: Abilities Expo Los Angeles
DESCRIPTION:The Abilities Expo is an annual event with around 3\,000 attendees at the Los Angeles Convention Center. The free event consist of a full hall of service providers\, community organizations\, demonstrators and attendees seeking the latest and greatest aiming to support folks with disabilities. \nThis is a great opportunity to for folks to learn more about the mobility industry and service providers working directly with the disability community. \nRegister for free today
URL:https://thriveadaptive.org/event/march-15-17-abilities-expo-los-angeles/
LOCATION:Los Angeles Convention Center\, 1201 S. Figeroua\, Los Angeles\, CA\, 90015
CATEGORIES:Featured Events,Multi Sports Day,Resource Event
ATTACH;FMTTYPE=image/png:https://thriveadaptive.org/wp-content/uploads/2024/02/abilities-expo-la-2024.png
END:VEVENT
BEGIN:VEVENT
DTSTART;TZID=UTC:20240317T113000
DTEND;TZID=UTC:20240317T130000
DTSTAMP:20260419T131814
CREATED:20240104T163630Z
LAST-MODIFIED:20240104T164748Z
UID:10000075-1710675000-1710680400@thriveadaptive.org
SUMMARY:Air Rifle Program with Angel City Sports
DESCRIPTION:Angel City Sports offers an adaptive air rifle program for veterans and athletes with disabilities!\nThis training will teach the basics of adaptive air rifle\, including common adaptations for athletes who are amputees or have limb differences\, spinal cord injuries\, blind or visually impaired\, and more. Please sign up to participate in this program! This is open to ages 18+.\nYou can sign up for one of two time slots: 11:30am to 1pm\, or 1:00pm to 2:30pm.\nEvent Location: Compton Hunting and Fishing Club\, Compton\, CA 90221
URL:https://thriveadaptive.org/event/air-rifle-program-with-angel-city-sports/2024-03-17/
LOCATION:Compton Hunting and Fishing Club\, 1625 Sportsman Drive\, Compton\, CA\, 90221\, United States
CATEGORIES:Adaptive Sports Clinics,Practices and Competions,Veterans
ATTACH;FMTTYPE=image/jpeg:https://thriveadaptive.org/wp-content/uploads/2024/01/airrifle2.jpg
END:VEVENT
END:VCALENDAR