BEGIN:VCALENDAR
VERSION:2.0
PRODID:-//Thrive Adaptive - ECPv6.10.1.1//NONSGML v1.0//EN
CALSCALE:GREGORIAN
METHOD:PUBLISH
X-ORIGINAL-URL:https://thriveadaptive.org
X-WR-CALDESC:Events for Thrive Adaptive
REFRESH-INTERVAL;VALUE=DURATION:PT1H
X-Robots-Tag:noindex
X-PUBLISHED-TTL:PT1H
BEGIN:VTIMEZONE
TZID:UTC
BEGIN:STANDARD
TZOFFSETFROM:+0000
TZOFFSETTO:+0000
TZNAME:UTC
DTSTART:20230101T000000
END:STANDARD
END:VTIMEZONE
BEGIN:VEVENT
DTSTART;TZID=UTC:20231118T110000
DTEND;TZID=UTC:20231118T130000
DTSTAMP:20260419T192944
CREATED:20231103T195528Z
LAST-MODIFIED:20231103T200248Z
UID:10000037-1700305200-1700312400@thriveadaptive.org
SUMMARY:Angel City Sports Blind Soccer Program
DESCRIPTION:Join us to learn blind soccer and improve your fitness!  We will have an open practice with various soccer skills and drills led by experienced coaches from the Angel City Sports Blind Soccer Program. \nThis is open to individuals of all ages and skill levels\, beginner to advanced!  You may bring your own shin guards and eye shades or use some from Angel City Sports. \nLocation: South Gate\, CA
URL:https://thriveadaptive.org/event/angel-city-sports-blind-soccer-program/2023-11-18/
LOCATION:Goals – South Gate\, 9599 Pinehurst Avenue90280\, South Gate\, CA\, 90280\, United States
CATEGORIES:Adaptive Sports Clinics,Blind and Visually Impaired Soccer,Practices and Competions
ATTACH;FMTTYPE=image/png:https://thriveadaptive.org/wp-content/uploads/2023/09/Thrive_Adaptive_USABA-PlayLA_TyOl.png
END:VEVENT
BEGIN:VEVENT
DTSTART;TZID=UTC:20231118T160000
DTEND;TZID=UTC:20231118T173000
DTSTAMP:20260419T192944
CREATED:20231103T193747Z
LAST-MODIFIED:20231103T200604Z
UID:10000038-1700323200-1700328600@thriveadaptive.org
SUMMARY:Angel City Sports Wheelchair Basketball Practice
DESCRIPTION:Join Angel City Sports to learn wheelchair basketball and sharpen your skills!  We will have an open gym with various basketball skills and drills led by experienced coaches from the Angel City Sports Women’s Wheelchair Basketball Program. \nThis is open to individuals of all ages and skill levels\, beginner to advanced!  You may bring your own sports chair or use one from Angel City Sports.  Sign up at the following link and be ready to ball! \nLocation: Harvard Westlake High School\, Studio City
URL:https://thriveadaptive.org/event/angel-city-sports-wheelchair-basketball-practice/2023-11-18/
LOCATION:Harvard Westlake High School (Upper Campus)\, 3700 Coldwater Canyon Ave\, Los Angeles\, 91604\, United States
CATEGORIES:Adaptive Sports Clinics,Practices and Competions,Wheelchair Basketball
ATTACH;FMTTYPE=image/jpeg:https://thriveadaptive.org/wp-content/uploads/2023/09/Thrive_Adaptive_Wheelchair_Basketball_Event_Photo-scaled.jpeg
END:VEVENT
END:VCALENDAR