BEGIN:VCALENDAR
VERSION:2.0
PRODID:-//Thrive Adaptive - ECPv6.10.1.1//NONSGML v1.0//EN
CALSCALE:GREGORIAN
METHOD:PUBLISH
X-ORIGINAL-URL:https://thriveadaptive.org
X-WR-CALDESC:Events for Thrive Adaptive
REFRESH-INTERVAL;VALUE=DURATION:PT1H
X-Robots-Tag:noindex
X-PUBLISHED-TTL:PT1H
BEGIN:VTIMEZONE
TZID:UTC
BEGIN:STANDARD
TZOFFSETFROM:+0000
TZOFFSETTO:+0000
TZNAME:UTC
DTSTART:20230101T000000
END:STANDARD
END:VTIMEZONE
BEGIN:VEVENT
DTSTART;TZID=UTC:20231112T040000
DTEND;TZID=UTC:20231112T170000
DTSTAMP:20260419T193027
CREATED:20231103T203656Z
LAST-MODIFIED:20231103T203656Z
UID:10000041-1699761600-1699808400@thriveadaptive.org
SUMMARY:Triumph Foundation Adaptive Shooting Clinic
DESCRIPTION:Apple Valley Gun Club and Triumph partnered to hold special adaptive shooting clinics for people with disabilities. \nParticipants will learn about gun safety\, self-defense\, marksmanship\, and the sport of target shooting. \n$40 per person includes firearms\, ammo\, training\, and lunch included. \nLocation: Apple Valley\, CA
URL:https://thriveadaptive.org/event/triumph-foundation-adaptive-shooting-clinic/
LOCATION:CA
CATEGORIES:Featured Events,Practices and Competions
ATTACH;FMTTYPE=image/jpeg:https://thriveadaptive.org/wp-content/uploads/2023/11/triumph-shooting.jpeg
ORGANIZER;CN="Triumph Foundation":MAILTO:info@triumph-foundation.org
END:VEVENT
END:VCALENDAR