BEGIN:VCALENDAR
VERSION:2.0
PRODID:-//Thrive Adaptive - ECPv6.10.1.1//NONSGML v1.0//EN
CALSCALE:GREGORIAN
METHOD:PUBLISH
X-WR-CALNAME:Thrive Adaptive
X-ORIGINAL-URL:https://thriveadaptive.org
X-WR-CALDESC:Events for Thrive Adaptive
REFRESH-INTERVAL;VALUE=DURATION:PT1H
X-Robots-Tag:noindex
X-PUBLISHED-TTL:PT1H
BEGIN:VTIMEZONE
TZID:UTC
BEGIN:STANDARD
TZOFFSETFROM:+0000
TZOFFSETTO:+0000
TZNAME:UTC
DTSTART:20240101T000000
END:STANDARD
END:VTIMEZONE
BEGIN:VEVENT
DTSTART;TZID=UTC:20240210T160000
DTEND;TZID=UTC:20240210T173000
DTSTAMP:20260419T132517
CREATED:20240104T165948Z
LAST-MODIFIED:20240104T165948Z
UID:10000084-1707580800-1707586200@thriveadaptive.org
SUMMARY:Wheelchair Basketball Practice with Angel City Sports
DESCRIPTION:Join us to learn wheelchair basketball and sharpen your skills!  We will have an open gym with various basketball skills and drills led by experienced coaches from the Angel City Sports Wheelchair Basketball Program. \nThis is open to individuals of all ages and skill levels\, beginner to advanced!  You may bring your own sports chair or use one from Angel City Sports.  Sign up at the following link and be ready to ball! \nTime: 4 pm to 5:30 pm  \nLocation: Harvard Westlake High School – 3700 Coldwater Canyon Ave\, Studio City\, CA 91604
URL:https://thriveadaptive.org/event/wheelchair-basketball-practice-with-angel-city-sports/2024-02-10/
LOCATION:Harvard Westlake High School (Upper Campus)\, 3700 Coldwater Canyon Ave\, Los Angeles\, 91604\, United States
CATEGORIES:Adaptive Sports Clinics,Practices and Competions,Wheelchair Basketball
ATTACH;FMTTYPE=image/png:https://thriveadaptive.org/wp-content/uploads/2023/09/Screen-Shot-2023-09-26-at-2.35.32-PM.png
END:VEVENT
BEGIN:VEVENT
DTSTART;TZID=UTC:20240215T080000
DTEND;TZID=UTC:20240215T153000
DTSTAMP:20260419T132517
CREATED:20231110T174556Z
LAST-MODIFIED:20231122T082818Z
UID:10000044-1707984000-1708011000@thriveadaptive.org
SUMMARY:Triumph Foundation - Adaptive Snow Skiing With USARC
DESCRIPTION:Who wants to go snow skiing with Triumph Foundation in Big Bear with United States Adaptive Recreation Center? \nEmail melissa@triumph-foundation.org for more information and to sign up. \n$40 deposit. \n200lb weight limit.
URL:https://thriveadaptive.org/event/triumph-foundation-adaptive-snow-skiing-with-usarc/2024-02-15/
LOCATION:USARC – United States Adaptive Recreation Center\, 43101 Goldmine Dr\, Big Bear\, CA\, 92315\, United States
CATEGORIES:Adaptive Snow Skiing,Adaptive Sports Clinics
ATTACH;FMTTYPE=image/jpeg:https://thriveadaptive.org/wp-content/uploads/2023/11/Ski-Instagram-Template.jpg
ORGANIZER;CN="Triumph Foundation":MAILTO:info@triumph-foundation.org
END:VEVENT
BEGIN:VEVENT
DTSTART;TZID=UTC:20240218T113000
DTEND;TZID=UTC:20240218T130000
DTSTAMP:20260419T132517
CREATED:20240104T163630Z
LAST-MODIFIED:20240104T164748Z
UID:10000074-1708255800-1708261200@thriveadaptive.org
SUMMARY:Air Rifle Program with Angel City Sports
DESCRIPTION:Angel City Sports offers an adaptive air rifle program for veterans and athletes with disabilities!\nThis training will teach the basics of adaptive air rifle\, including common adaptations for athletes who are amputees or have limb differences\, spinal cord injuries\, blind or visually impaired\, and more. Please sign up to participate in this program! This is open to ages 18+.\nYou can sign up for one of two time slots: 11:30am to 1pm\, or 1:00pm to 2:30pm.\nEvent Location: Compton Hunting and Fishing Club\, Compton\, CA 90221
URL:https://thriveadaptive.org/event/air-rifle-program-with-angel-city-sports/2024-02-18/
LOCATION:Compton Hunting and Fishing Club\, 1625 Sportsman Drive\, Compton\, CA\, 90221\, United States
CATEGORIES:Adaptive Sports Clinics,Practices and Competions,Veterans
ATTACH;FMTTYPE=image/jpeg:https://thriveadaptive.org/wp-content/uploads/2024/01/airrifle2.jpg
END:VEVENT
BEGIN:VEVENT
DTSTART;TZID=UTC:20240227T080000
DTEND;TZID=UTC:20240227T170000
DTSTAMP:20260419T132517
CREATED:20231110T174556Z
LAST-MODIFIED:20231122T082818Z
UID:10000045-1709020800-1709053200@thriveadaptive.org
SUMMARY:Triumph Foundation - Adaptive Snow Skiing With USARC
DESCRIPTION:Who wants to go snow skiing with Triumph Foundation in Big Bear with United States Adaptive Recreation Center? \nEmail melissa@triumph-foundation.org for more information and to sign up. \n$40 deposit. \n200lb weight limit.
URL:https://thriveadaptive.org/event/triumph-foundation-adaptive-snow-skiing-with-usarc/2024-02-27/
LOCATION:USARC – United States Adaptive Recreation Center\, 43101 Goldmine Dr\, Big Bear\, CA\, 92315\, United States
CATEGORIES:Adaptive Snow Skiing,Adaptive Sports Clinics
ATTACH;FMTTYPE=image/jpeg:https://thriveadaptive.org/wp-content/uploads/2023/11/Ski-Instagram-Template.jpg
ORGANIZER;CN="Triumph Foundation":MAILTO:info@triumph-foundation.org
END:VEVENT
END:VCALENDAR