BEGIN:VCALENDAR
VERSION:2.0
PRODID:-//Thrive Adaptive - ECPv6.10.1.1//NONSGML v1.0//EN
CALSCALE:GREGORIAN
METHOD:PUBLISH
X-WR-CALNAME:Thrive Adaptive
X-ORIGINAL-URL:https://thriveadaptive.org
X-WR-CALDESC:Events for Thrive Adaptive
REFRESH-INTERVAL;VALUE=DURATION:PT1H
X-Robots-Tag:noindex
X-PUBLISHED-TTL:PT1H
BEGIN:VTIMEZONE
TZID:UTC
BEGIN:STANDARD
TZOFFSETFROM:+0000
TZOFFSETTO:+0000
TZNAME:UTC
DTSTART:20230101T000000
END:STANDARD
END:VTIMEZONE
BEGIN:VEVENT
DTSTART;TZID=UTC:20231202T160000
DTEND;TZID=UTC:20231202T173000
DTSTAMP:20260419T162025
CREATED:20231103T193747Z
LAST-MODIFIED:20231103T200604Z
UID:10000039-1701532800-1701538200@thriveadaptive.org
SUMMARY:Angel City Sports Wheelchair Basketball Practice
DESCRIPTION:Join Angel City Sports to learn wheelchair basketball and sharpen your skills!  We will have an open gym with various basketball skills and drills led by experienced coaches from the Angel City Sports Women’s Wheelchair Basketball Program. \nThis is open to individuals of all ages and skill levels\, beginner to advanced!  You may bring your own sports chair or use one from Angel City Sports.  Sign up at the following link and be ready to ball! \nLocation: Harvard Westlake High School\, Studio City
URL:https://thriveadaptive.org/event/angel-city-sports-wheelchair-basketball-practice/2023-12-02/
LOCATION:Harvard Westlake High School (Upper Campus)\, 3700 Coldwater Canyon Ave\, Los Angeles\, 91604\, United States
CATEGORIES:Adaptive Sports Clinics,Practices and Competions,Wheelchair Basketball
ATTACH;FMTTYPE=image/jpeg:https://thriveadaptive.org/wp-content/uploads/2023/09/Thrive_Adaptive_Wheelchair_Basketball_Event_Photo-scaled.jpeg
END:VEVENT
BEGIN:VEVENT
DTSTART;TZID=UTC:20231207T103000
DTEND;TZID=UTC:20231207T120000
DTSTAMP:20260419T162025
CREATED:20231103T201904Z
LAST-MODIFIED:20231122T082401Z
UID:10000040-1701945000-1701950400@thriveadaptive.org
SUMMARY:Angel City Sports Adaptive Golf Clinic
DESCRIPTION:Join us for an adaptive golf clinic at Westchester Golf Course! Learn the basics\, hone in on your skills\, or practice your long game! \nNo experience is necessary and clinic is open to all ages\, skills and disability levels.
URL:https://thriveadaptive.org/event/angel-city-sports-adaptive-golf-clinic/
LOCATION:Westchester Golf Course\, 6900 W Manchester Ave\, Los Angeles\, CA\, 90045\, United States
CATEGORIES:Adaptive Golf,Adaptive Sports Clinics,Practices and Competions
ATTACH;FMTTYPE=image/png:https://thriveadaptive.org/wp-content/uploads/2023/11/acs-golf-pic.png
END:VEVENT
BEGIN:VEVENT
DTSTART;TZID=UTC:20231209T100000
DTEND;TZID=UTC:20231209T120000
DTSTAMP:20260419T162025
CREATED:20231110T201616Z
LAST-MODIFIED:20231122T081939Z
UID:10000059-1702116000-1702123200@thriveadaptive.org
SUMMARY:Socal Adaptive  Pickleball Lesson and Tournament - Palm Desert\, CA
DESCRIPTION:Saturday\, December 9\, 2023\n10:00 AM  12:00 PM\n\n\nPickled Bar72680 Dinah Shore DrivePalm Desert\, CA\, 92211United States (map)\n$25 Registration
URL:https://thriveadaptive.org/event/socal-adaptive-pickleball-lesson-and-tournament-palm-desert-ca/
LOCATION:Pickled Bar\, 72680 Dinah Shore Drive\, Palm Desert\, CA\, 92211\, United States
CATEGORIES:Adaptive Pickle Ball,Adaptive Sports Clinics
ATTACH;FMTTYPE=image/png:https://thriveadaptive.org/wp-content/uploads/2023/11/Pickleball2.png
END:VEVENT
END:VCALENDAR