BEGIN:VCALENDAR
VERSION:2.0
PRODID:-//Thrive Adaptive - ECPv6.10.1.1//NONSGML v1.0//EN
CALSCALE:GREGORIAN
METHOD:PUBLISH
X-WR-CALNAME:Thrive Adaptive
X-ORIGINAL-URL:https://thriveadaptive.org
X-WR-CALDESC:Events for Thrive Adaptive
REFRESH-INTERVAL;VALUE=DURATION:PT1H
X-Robots-Tag:noindex
X-PUBLISHED-TTL:PT1H
BEGIN:VTIMEZONE
TZID:UTC
BEGIN:STANDARD
TZOFFSETFROM:+0000
TZOFFSETTO:+0000
TZNAME:UTC
DTSTART:20250101T000000
END:STANDARD
END:VTIMEZONE
BEGIN:VEVENT
DTSTART;TZID=UTC:20251004T080000
DTEND;TZID=UTC:20251004T153000
DTSTAMP:20260419T223324
CREATED:20250902T194802Z
LAST-MODIFIED:20250902T194802Z
UID:10000763-1759564800-1759591800@thriveadaptive.org
SUMMARY:Oct 4th: Life Rolls On - They are Will Surf Again | Santa Barbara
DESCRIPTION:October 5\, 2024: They Will Surf Again – Santa Barbara\, CA \nHundreds of volunteers\, people of all ages with disabilities\, and entire families come together for an epic day in the ocean. \nWhether you’ve surfed with us for years\, are a beginner\, or just want to meet people and hang out for the day…YOU BELONG HERE. Everyone is welcome. \nWe will be leading a group of both in and out of water volunteers through the full day empowering people with disabilities surfing the waves. Meals are provided. No experience necessary. \nSign up for medical support
URL:https://thriveadaptive.org/event/oct-4th-life-rolls-on-they-are-will-surf-again-santa-barbara/
LOCATION:Rincon Beach Park\, South Via Real\, Carpenteria\, CA\, 90313\, United States
CATEGORIES:Adaptive Sports Clinics,Adaptive Surfing
ATTACH;FMTTYPE=image/jpeg:https://thriveadaptive.org/wp-content/uploads/2023/06/unnamed.jpg
END:VEVENT
BEGIN:VEVENT
DTSTART;TZID=UTC:20251011T080000
DTEND;TZID=UTC:20251011T160000
DTSTAMP:20260419T223324
CREATED:20250902T185732Z
LAST-MODIFIED:20250902T185846Z
UID:10000759-1760169600-1760198400@thriveadaptive.org
SUMMARY:Oct 11th: Triumph Foundation: Over-The-Line Baseball Tournament | Anaheim
DESCRIPTION:On October 11\, Dozens of children\, adults and veterans with disabilities will play in a fun filled day of modified adaptive baseball. Join Thrive Adaptive at Miracle League Orange County Pioneer Park alongside our community partners at Triumph Foundation as we keep the athletes cool and safe throughout the day. \nSign up for medical support
URL:https://thriveadaptive.org/event/triumph-foundation-over-the-line-baseball-tournament-2025/
LOCATION:Miracle League Pioneer Park\, 2565 E. Underhill Ave\, Anaheim\, 92805\, United States
CATEGORIES:Adaptive Sports Clinics,Featured Events,Medical Support
ATTACH;FMTTYPE=image/png:https://thriveadaptive.org/wp-content/uploads/2025/09/Screenshot-2025-09-02-at-11.46.29 AM.png
ORGANIZER;CN="Triumph Foundation":MAILTO:info@triumph-foundation.org
END:VEVENT
END:VCALENDAR