BEGIN:VCALENDAR
VERSION:2.0
PRODID:-//Thrive Adaptive - ECPv6.10.1.1//NONSGML v1.0//EN
CALSCALE:GREGORIAN
METHOD:PUBLISH
X-ORIGINAL-URL:https://thriveadaptive.org
X-WR-CALDESC:Events for Thrive Adaptive
REFRESH-INTERVAL;VALUE=DURATION:PT1H
X-Robots-Tag:noindex
X-PUBLISHED-TTL:PT1H
BEGIN:VTIMEZONE
TZID:UTC
BEGIN:STANDARD
TZOFFSETFROM:+0000
TZOFFSETTO:+0000
TZNAME:UTC
DTSTART:20250101T000000
END:STANDARD
END:VTIMEZONE
BEGIN:VEVENT
DTSTART;TZID=UTC:20250504T090000
DTEND;TZID=UTC:20250504T103000
DTSTAMP:20260420T055915
CREATED:20250103T045448Z
LAST-MODIFIED:20250103T045448Z
UID:10000168-1746349200-1746354600@thriveadaptive.org
SUMMARY:Angel City Sports: Adaptive Functional Fitness Class - Burbank\, CA
DESCRIPTION:Join our community partners from Angel City Sports at Strange Strength and Conditioning on the first Sunday every month for an adaptive functional fitness class coached by 2X Fittest Neuro Major Woman in the World\, Anna Stern. \nThe class is appropriate for people ages 13 and up. People with all forms of disabilities are welcome \nParticipants should feel free to bring a family member or caregiver for assistance. \nLearn more
URL:https://thriveadaptive.org/event/angel-city-sports-adaptive-functional-fitness-class-burbank-ca/2025-05-04/
LOCATION:Strange Strength and. Conditioning\, 11127 Vanowen Street\, Los Angeles\, CA\, 91065
END:VEVENT
BEGIN:VEVENT
DTSTART;TZID=UTC:20250504T090000
DTEND;TZID=UTC:20250504T150000
DTSTAMP:20260420T055915
CREATED:20250307T034817Z
LAST-MODIFIED:20250307T034817Z
UID:10000754-1746349200-1746370800@thriveadaptive.org
SUMMARY:Burbank Adaptive Sports Drop in Clinics
DESCRIPTION:
URL:https://thriveadaptive.org/event/burbank-adaptive-sports-drop-in-clinics/2025-05-04/
LOCATION:McCambridge Park\, 1515 N. Glenoaks Blvd. Burbank\, CA 91504
ATTACH;FMTTYPE=image/jpeg:https://thriveadaptive.org/wp-content/uploads/2025/03/18D99C99-32DB-4F1C-82F0-E4447E87E772-scaled.jpg
END:VEVENT
BEGIN:VEVENT
DTSTART;TZID=UTC:20250511T090000
DTEND;TZID=UTC:20250511T150000
DTSTAMP:20260420T055915
CREATED:20250307T034817Z
LAST-MODIFIED:20250307T034817Z
UID:10000755-1746954000-1746975600@thriveadaptive.org
SUMMARY:Burbank Adaptive Sports Drop in Clinics
DESCRIPTION:
URL:https://thriveadaptive.org/event/burbank-adaptive-sports-drop-in-clinics/2025-05-11/
LOCATION:McCambridge Park\, 1515 N. Glenoaks Blvd. Burbank\, CA 91504
ATTACH;FMTTYPE=image/jpeg:https://thriveadaptive.org/wp-content/uploads/2025/03/18D99C99-32DB-4F1C-82F0-E4447E87E772-scaled.jpg
END:VEVENT
BEGIN:VEVENT
DTSTART;TZID=UTC:20250516T100000
DTEND;TZID=UTC:20250516T140000
DTSTAMP:20260420T055915
CREATED:20250113T113239Z
LAST-MODIFIED:20250307T030810Z
UID:10000182-1747389600-1747404000@thriveadaptive.org
SUMMARY:May 16: Long Beach VA Adaptive Sports Expo | Long Beach
DESCRIPTION:WHAT IS IT? \nA full day exposition allowing for participation and exploration in a wide variety of adaptive sports to increase awareness and accessibility of local adaptive sports programs. \nWHY ATTEND? \n\nConnect directly with community resources\nEnhance community integration\, independent living skills\, and quality of life\nHave fun!\n\nFAQ \n\nNo cost\nNo pre-registration\nOpen to all\nCome ready to participate!\n\nEveryone welcome!
URL:https://thriveadaptive.org/event/long-beach-va-adaptive-sports-expo/
LOCATION:Long Beach VA\, 5901 E. 7th Street Long Beach\, CA 90822
CATEGORIES:Multi Sports Day
ATTACH;FMTTYPE=image/jpeg:https://thriveadaptive.org/wp-content/uploads/2025/01/Long-Beach-VA-2024-collage-2.jpg
END:VEVENT
BEGIN:VEVENT
DTSTART;TZID=UTC:20250517T093000
DTEND;TZID=UTC:20250517T140000
DTSTAMP:20260420T055915
CREATED:20250307T024900Z
LAST-MODIFIED:20250307T024921Z
UID:10000744-1747474200-1747490400@thriveadaptive.org
SUMMARY:May 17: Playmakers Long Beach Adaptive Sports Festival | Long Beach
DESCRIPTION:Join us May 17 at Long Beach City College for a day of over a dozen adapted sports. Thrive Adaptive is thrilled to join community partners from Socal Adaptive Sports and Lets Be Playmakers to help 300+ athletes with disabilities safely access sports. \nFree parking!!! \nSign up to volunteer today!
URL:https://thriveadaptive.org/event/may-17-long-beach-adaptive-sports-festival-2025/
LOCATION:Long Beach City College\, 3932 Faculty Ave\, Long Beach\, CA\, United States
CATEGORIES:Adaptive Sports Clinics,Blind and Visually Impaired Soccer,Featured Events,Medical Support,Resource Event,Wheelchair Basketball
ATTACH;FMTTYPE=image/jpeg:https://thriveadaptive.org/wp-content/uploads/2024/02/LB_Adaptive_Sports_Fair.jpeg
END:VEVENT
BEGIN:VEVENT
DTSTART;TZID=UTC:20250518T080000
DTEND;TZID=UTC:20250518T170000
DTSTAMP:20260420T055915
CREATED:20250130T065153Z
LAST-MODIFIED:20250307T032707Z
UID:10000745-1747555200-1747587600@thriveadaptive.org
SUMMARY:Triumph Foundation: Adaptive Shooting Clinic | Victorville
DESCRIPTION:Apple Valley Gun Club and Triumph partnered to hold special adaptive shooting clinics for people with disabilities.
URL:https://thriveadaptive.org/event/adaptive-shooting-clinic-4/2025-05-18/
LOCATION:Apple Valley Gun Club\,\, Apple Valley Gun Club 16699 Stoddard Wells Road Victorville\, CA 92395
ATTACH;FMTTYPE=image/jpeg:https://thriveadaptive.org/wp-content/uploads/2025/01/shooting-3.jpg
ORGANIZER;CN="Triumph Foundation":MAILTO:info@triumph-foundation.org
END:VEVENT
BEGIN:VEVENT
DTSTART;TZID=UTC:20250518T163000
DTEND;TZID=UTC:20250518T163000
DTSTAMP:20260420T055915
CREATED:20250130T064214Z
LAST-MODIFIED:20250226T085628Z
UID:10000690-1747585800-1747585800@thriveadaptive.org
SUMMARY:Adaptive Shooting Clinic
DESCRIPTION:Apple Valley Gun Club and Triumph partnered to hold special adaptive shooting clinics for people with disabilities.
URL:https://thriveadaptive.org/event/adaptive-shooting-clinic-2/
LOCATION:Apple Valley Gun Club\,\, Apple Valley Gun Club 16699 Stoddard Wells Road Victorville\, CA 92395
CATEGORIES:Air Riffle
ATTACH;FMTTYPE=image/jpeg:https://thriveadaptive.org/wp-content/uploads/2025/01/shooting-2.jpg
ORGANIZER;CN="Triumph Foundation":MAILTO:info@triumph-foundation.org
END:VEVENT
BEGIN:VEVENT
DTSTART;VALUE=DATE:20250529
DTEND;VALUE=DATE:20250601
DTSTAMP:20260420T055915
CREATED:20250113T114047Z
LAST-MODIFIED:20250226T085212Z
UID:10000183-1748476800-1748735999@thriveadaptive.org
SUMMARY:Beat the Heat – Casa Colina
DESCRIPTION:Beat the Heat Sports Camp Presented by Casa Colina Outdoor Adventures and Wheelchair Sports Program – May 31\, 2025 \nCasa Colina’s Beat the Heat sports camp provides adaptive recreation and sports activities for people with disabilities. This unique camp gives first-time and returning participants the opportunity to build community through challenging sports and exhilarating outdoor activities\, including outrigger canoeing\, kayaking\, wheelchair tennis\, basketball\, rugby\, sailing\, and more.
URL:https://thriveadaptive.org/event/beat-the-heat-casa-colina/
LOCATION:Casa Colina Rehab
CATEGORIES:Multi Sports Day
ATTACH;FMTTYPE=image/jpeg:https://thriveadaptive.org/wp-content/uploads/2025/01/CasaColina_logo.jpg
END:VEVENT
END:VCALENDAR