BEGIN:VCALENDAR
VERSION:2.0
PRODID:-//Thrive Adaptive - ECPv6.10.1.1//NONSGML v1.0//EN
CALSCALE:GREGORIAN
METHOD:PUBLISH
X-WR-CALNAME:Thrive Adaptive
X-ORIGINAL-URL:https://thriveadaptive.org
X-WR-CALDESC:Events for Thrive Adaptive
REFRESH-INTERVAL;VALUE=DURATION:PT1H
X-Robots-Tag:noindex
X-PUBLISHED-TTL:PT1H
BEGIN:VTIMEZONE
TZID:UTC
BEGIN:STANDARD
TZOFFSETFROM:+0000
TZOFFSETTO:+0000
TZNAME:UTC
DTSTART:20260101T000000
END:STANDARD
END:VTIMEZONE
BEGIN:VEVENT
DTSTART;VALUE=DATE:20260425
DTEND;VALUE=DATE:20260427
DTSTAMP:20260420T060616
CREATED:20260127T015115Z
LAST-MODIFIED:20260127T015115Z
UID:10000769-1777075200-1777247999@thriveadaptive.org
SUMMARY:April 25-26 Triumph Foundation Adaptive Sports Festival | Santa Clarita
DESCRIPTION:Join us at Triumph’s 12th Annual Wheelchair Sports Festival on April 25-26\, 2026 in Santa Clarita. Triumph Foundation hosts this FREE event to introduce wheelchair sports to people that are newly injured\, Veterans\, children\, and others with disabilities. \nVolunteers will provide first-aid and direct athlete support for more than 100 athletes with disabilities participating in a dozen plus adapted sports clinics. Volunteers will have the opportunity to network with many of the area’s most impactful service providers and community based organizations. \nRegister now \n\n\n\n\n 
URL:https://thriveadaptive.org/event/april-25-26-triumph-foundation-adaptive-sports-festival-santa-clarita/
LOCATION:Santa Clarita Sports Complex\, 20870 Centre Pointe Parkway Santa Clarita\, CA 91350
CATEGORIES:Featured Events,Medical Support,Multi Sports Day
ATTACH;FMTTYPE=image/jpeg:https://thriveadaptive.org/wp-content/uploads/2025/01/wheelchair-sports-festival.jpg
ORGANIZER;CN="Triumph Foundation":MAILTO:info@triumph-foundation.org
END:VEVENT
BEGIN:VEVENT
DTSTART;TZID=UTC:20260516T093000
DTEND;TZID=UTC:20260516T140000
DTSTAMP:20260420T060616
CREATED:20260309T222947Z
LAST-MODIFIED:20260309T223857Z
UID:10000770-1778923800-1778940000@thriveadaptive.org
SUMMARY:May 16: Playmakers Long Beach Adaptive Sports Festival | Long Beach
DESCRIPTION:Join us May 16 at Long Beach City College for a day of over a dozen adapted sports. Thrive Adaptive is thrilled to join community partners from Socal Adaptive Sports and Lets Be Playmakers to help 300+ athletes with disabilities safely access sports. \nFree parking!!! \nSign up to volunteer today!
URL:https://thriveadaptive.org/event/may-16-playmakers-long-beach-adaptive-sports-festival-long-beach/
LOCATION:Long Beach City College\, 3932 Faculty Ave\, Long Beach\, CA\, United States
CATEGORIES:Adaptive Sports Clinics,Blind and Visually Impaired Soccer,Featured Events,Medical Support,Multi Sports Day,Resource Event,Wheelchair Basketball
ATTACH;FMTTYPE=image/jpeg:https://thriveadaptive.org/wp-content/uploads/2024/02/LB_Adaptive_Sports_Fair.jpeg
END:VEVENT
BEGIN:VEVENT
DTSTART;TZID=UTC:20260606T080000
DTEND;TZID=UTC:20260606T153000
DTSTAMP:20260420T060616
CREATED:20260420T052221Z
LAST-MODIFIED:20260420T052221Z
UID:10000771-1780732800-1780759800@thriveadaptive.org
SUMMARY:June 6: Life Rolls On - They are Will Surf Again: Santa Monica
DESCRIPTION:June 6\, 2026: They Will Surf Again – Santa Monica\, CA \nHundreds of volunteers\, people of all ages with disabilities\, and entire families come together for an epic day in the ocean. \nWhether you’ve surfed with us for years\, are a beginner\, or just want to meet people and hang out for the day…YOU BELONG HERE. Everyone is welcome. \nWe will be leading a group of both in and out of water volunteers through the full day empowering people with disabilities surfing the waves. Meals are provided. No experience necessary. \nSign up for medical support
URL:https://thriveadaptive.org/event/june-6-life-rolls-on-they-are-will-surf-again-santa-monica/
LOCATION:Lifeguard Tower 28\, 2600 Barnard Way\, Santa Monica\, 90405\, United States
CATEGORIES:Adaptive Sports Clinics,Adaptive Surfing,Featured Events
ATTACH;FMTTYPE=image/jpeg:https://thriveadaptive.org/wp-content/uploads/2023/06/unnamed.jpg
END:VEVENT
BEGIN:VEVENT
DTSTART;VALUE=DATE:20260610
DTEND;VALUE=DATE:20260613
DTSTAMP:20260420T060616
CREATED:20240605T002817Z
LAST-MODIFIED:20260420T060141Z
UID:10000772-1781049600-1781308799@thriveadaptive.org
SUMMARY:June 10-12: LuskinOIC Cerebral Palsy Summer Camp
DESCRIPTION:LuskinOIC is actively seeking aspiring clinical professionals to volunteer at their annual summer camp for children with Cerebral Palsy being held June 10-12 at their campus in Downtown Los Angeles \nThe camp is led by the Orthopaedic Rehabilitation staff at LuskinOIC offering student clinicians the opportunity to shadow expert OTs and PTs while working directly to maximize mobility of children with CP. \nThe camp is made possible by our community partners at Angel City Sports \nRegister to volunteer
URL:https://thriveadaptive.org/event/june-10-12-luskinoic-cerebral-palsy-summer-camp/
LOCATION:Luskin Orthopaedic Institute for Children\, 403 W Adams Blvd\, Los Angeles\, CA\, 90007-2697\, United States
CATEGORIES:Adaptive Sports Clinics,Featured Events,Medical Support,Multi Sports Day
ATTACH;FMTTYPE=image/jpeg:https://thriveadaptive.org/wp-content/uploads/2026/03/Mark-your-calendars-for-CP-Camp-June-10–12-—-a-one-of-a-kind-experience-where-children-with-cer.jpg
END:VEVENT
END:VCALENDAR