BEGIN:VCALENDAR
VERSION:2.0
PRODID:-//Thrive Adaptive - ECPv6.10.1.1//NONSGML v1.0//EN
CALSCALE:GREGORIAN
METHOD:PUBLISH
X-WR-CALNAME:Thrive Adaptive
X-ORIGINAL-URL:https://thriveadaptive.org
X-WR-CALDESC:Events for Thrive Adaptive
REFRESH-INTERVAL;VALUE=DURATION:PT1H
X-Robots-Tag:noindex
X-PUBLISHED-TTL:PT1H
BEGIN:VTIMEZONE
TZID:UTC
BEGIN:STANDARD
TZOFFSETFROM:+0000
TZOFFSETTO:+0000
TZNAME:UTC
DTSTART:20230101T000000
END:STANDARD
END:VTIMEZONE
BEGIN:VEVENT
DTSTART;TZID=UTC:20231014T090000
DTEND;TZID=UTC:20231014T160000
DTSTAMP:20260421T085731
CREATED:20230729T002520Z
LAST-MODIFIED:20230809T045200Z
UID:10000017-1697274000-1697299200@thriveadaptive.org
SUMMARY:Triumph Foundation: Over The Line Baseball Tournament
DESCRIPTION:On October 14\, Dozens of children\, adults and veterans with disabilities will play in a fun filled day of modified adaptive baseball. Join Thrive Adaptive at Barry A. Sanders Field alongside our community partners at Triumph Foundation as we keep the athletes cool and safe throughout the day. \nSign up for medical support
URL:https://thriveadaptive.org/event/triumph-foundation-over-the-line-baseball-tournament/
LOCATION:Barry A Sanders Field\, 6300 Balboa Blvd\, Van Nuys\, CA\, 91316\, United States
CATEGORIES:Adaptive Sports Clinics,Medical Support
ATTACH;FMTTYPE=image/jpeg:https://thriveadaptive.org/wp-content/uploads/2023/07/OTL-Baseball-Triumph.jpeg
ORGANIZER;CN="Triumph Foundation":MAILTO:info@triumph-foundation.org
END:VEVENT
BEGIN:VEVENT
DTSTART;VALUE=DATE:20231021
DTEND;VALUE=DATE:20231023
DTSTAMP:20260421T085731
CREATED:20230926T195806Z
LAST-MODIFIED:20231017T205450Z
UID:10000032-1697846400-1698019199@thriveadaptive.org
SUMMARY:San Diego Triathlon x Challenged Athlete Foundation
DESCRIPTION:Thrive Adaptive is proud align with Challenged Athletes Foundation in San Diego’s beautiful Mission Bay for their 30th annual community challenge\, October 22. \nOur volunteers will be spending Sunday tending to various wellness stations throughout the running & biking course of the San Diego Triathlon. \nSchedules include: \nSunday \n\n8a – 1p (at the start of the handcycling/biking course\n8a -1pm (at one of three stations along the running course
URL:https://thriveadaptive.org/event/san-diego-triathlon-x-challenged-athlete-foundation/
LOCATION:Bonita Cove\, 1100 W Mission Bay Drive\, San Diego\, 92109
CATEGORIES:Adaptive Sports Clinics,Adaptive Surfing,Featured Events,Medical Support,Multi Sports Day,Practices and Competions
ATTACH;FMTTYPE=image/jpeg:https://thriveadaptive.org/wp-content/uploads/2023/09/caf800x500.jpeg
END:VEVENT
END:VCALENDAR