BEGIN:VCALENDAR
VERSION:2.0
PRODID:-//Thrive Adaptive - ECPv6.10.1.1//NONSGML v1.0//EN
CALSCALE:GREGORIAN
METHOD:PUBLISH
X-WR-CALNAME:Thrive Adaptive
X-ORIGINAL-URL:https://thriveadaptive.org
X-WR-CALDESC:Events for Thrive Adaptive
REFRESH-INTERVAL;VALUE=DURATION:PT1H
X-Robots-Tag:noindex
X-PUBLISHED-TTL:PT1H
BEGIN:VTIMEZONE
TZID:UTC
BEGIN:STANDARD
TZOFFSETFROM:+0000
TZOFFSETTO:+0000
TZNAME:UTC
DTSTART:20230101T000000
END:STANDARD
END:VTIMEZONE
BEGIN:VEVENT
DTSTART;TZID=UTC:20231104T090000
DTEND;TZID=UTC:20231104T103000
DTSTAMP:20260422T225909
CREATED:20230906T050659Z
LAST-MODIFIED:20230906T050659Z
UID:10000028-1699088400-1699093800@thriveadaptive.org
SUMMARY:CAF + PlayLA: Blind & Visually Impaired Soccer
DESCRIPTION:Join PlayLA + Challenged Athletes Foundation: November 4th\, for the Blind and Visually Impaired Soccer Clinic  at Hubert Humphrey Medical Center in Pacoima\, CA \nVisually impaired & blind soccer clinics\, supported by the U.S. Association of Blind Athletes\, offer an adaptation of soccer for youth with a vision impairment. The team contact sport includes a component of medium-level cardiovascular exercise in an inclusive and supportive environment for all participants. \nRegister to participate for free
URL:https://thriveadaptive.org/event/caf-playla-blind-visually-impaired-soccer-2/
LOCATION:Hubert Humphrey Recreation Center\, 12560 Filmore St. Pacoima\, CA\, 91331\, Pacoima\, CA\, 91331\, United States
CATEGORIES:Adaptive Sports Clinics,Blind and Visually Impaired Soccer
ATTACH;FMTTYPE=image/png:https://thriveadaptive.org/wp-content/uploads/2023/09/Thrive_Adaptive_USABA-PlayLA_TyOl.png
END:VEVENT
BEGIN:VEVENT
DTSTART;TZID=UTC:20231104T110000
DTEND;TZID=UTC:20231104T130000
DTSTAMP:20260422T225909
CREATED:20231103T195528Z
LAST-MODIFIED:20231103T200248Z
UID:10000036-1699095600-1699102800@thriveadaptive.org
SUMMARY:Angel City Sports Blind Soccer Program
DESCRIPTION:Join us to learn blind soccer and improve your fitness!  We will have an open practice with various soccer skills and drills led by experienced coaches from the Angel City Sports Blind Soccer Program. \nThis is open to individuals of all ages and skill levels\, beginner to advanced!  You may bring your own shin guards and eye shades or use some from Angel City Sports. \nLocation: South Gate\, CA
URL:https://thriveadaptive.org/event/angel-city-sports-blind-soccer-program/2023-11-04/
LOCATION:Goals – South Gate\, 9599 Pinehurst Avenue90280\, South Gate\, CA\, 90280\, United States
CATEGORIES:Adaptive Sports Clinics,Blind and Visually Impaired Soccer,Practices and Competions
ATTACH;FMTTYPE=image/png:https://thriveadaptive.org/wp-content/uploads/2023/09/Thrive_Adaptive_USABA-PlayLA_TyOl.png
END:VEVENT
END:VCALENDAR