BEGIN:VCALENDAR
VERSION:2.0
PRODID:-//Thrive Adaptive - ECPv6.10.1.1//NONSGML v1.0//EN
CALSCALE:GREGORIAN
METHOD:PUBLISH
X-ORIGINAL-URL:https://thriveadaptive.org
X-WR-CALDESC:Events for Thrive Adaptive
REFRESH-INTERVAL;VALUE=DURATION:PT1H
X-Robots-Tag:noindex
X-PUBLISHED-TTL:PT1H
BEGIN:VTIMEZONE
TZID:UTC
BEGIN:STANDARD
TZOFFSETFROM:+0000
TZOFFSETTO:+0000
TZNAME:UTC
DTSTART:20230101T000000
END:STANDARD
END:VTIMEZONE
BEGIN:VEVENT
DTSTART;TZID=UTC:20230702T080000
DTEND;TZID=UTC:20230702T170000
DTSTAMP:20260421T225118
CREATED:20230529T014524Z
LAST-MODIFIED:20230701T175411Z
UID:10000004-1688284800-1688317200@thriveadaptive.org
SUMMARY:Angel City Games (Day 4)
DESCRIPTION:The 4th Day of the 2023 Angel City Games. Signup to play your favorite adaptive sports for free at angelcitygames.org
URL:https://thriveadaptive.org/event/angel-city-games-day-4/
LOCATION:USC\, Los Angeles\, CA\, United States
CATEGORIES:Adaptive Sports Clinics,Multi Sports Day
ATTACH;FMTTYPE=image/png:https://thriveadaptive.org/wp-content/uploads/2023/05/Screen-Shot-2023-07-01-at-10.29.56-AM.png
ORGANIZER;CN="Angel City Games":MAILTO:refreshmobility@gmail.com
END:VEVENT
END:VCALENDAR