BEGIN:VCALENDAR
VERSION:2.0
PRODID:-//Thrive Adaptive - ECPv6.10.1.1//NONSGML v1.0//EN
CALSCALE:GREGORIAN
METHOD:PUBLISH
X-ORIGINAL-URL:https://thriveadaptive.org
X-WR-CALDESC:Events for Thrive Adaptive
REFRESH-INTERVAL;VALUE=DURATION:PT1H
X-Robots-Tag:noindex
X-PUBLISHED-TTL:PT1H
BEGIN:VTIMEZONE
TZID:UTC
BEGIN:STANDARD
TZOFFSETFROM:+0000
TZOFFSETTO:+0000
TZNAME:UTC
DTSTART:20230101T000000
END:STANDARD
END:VTIMEZONE
BEGIN:VEVENT
DTSTART;TZID=UTC:20231007T080000
DTEND;TZID=UTC:20231007T153000
DTSTAMP:20260421T144618
CREATED:20230812T000125Z
LAST-MODIFIED:20230812T043037Z
UID:10000020-1696665600-1696692600@thriveadaptive.org
SUMMARY:Life Rolls On - They are Will Surf Again: Santa Barbara
DESCRIPTION:October 7\, 2023: They Will Surf Again – Santa Barbara\, CA \nHundreds of volunteers\, people of all ages with disabilities\, and entire families come together for an epic day in the ocean. \nWhether you’ve surfed with us for years\, are a beginner\, or just want to meet people and hang out for the day…YOU BELONG HERE. Everyone is welcome. \nWe will be leading a group of both in and out of water volunteers through the full day empowering people with disabilities surfing the waves. Meals are provided. No experience necessary. \nSign up for medical support
URL:https://thriveadaptive.org/event/life-rolls-on-they-are-will-surf-again-santa-barbara/
LOCATION:Rincon Beach Park\, South Via Real\, Carpenteria\, CA\, 90313\, United States
CATEGORIES:Adaptive Sports Clinics,Adaptive Surfing
ATTACH;FMTTYPE=image/jpeg:https://thriveadaptive.org/wp-content/uploads/2023/06/unnamed.jpg
END:VEVENT
BEGIN:VEVENT
DTSTART;TZID=UTC:20231007T090000
DTEND;TZID=UTC:20231007T103000
DTSTAMP:20260421T144618
CREATED:20230906T211726Z
LAST-MODIFIED:20230906T211726Z
UID:10000030-1696669200-1696674600@thriveadaptive.org
SUMMARY:CAF + PlayLA: Blind & Visually Impaired Soccer
DESCRIPTION:Join PlayLA + Challenged Athletes Foundation: October 7th\, for the Blind and Visually Impaired Soccer Clinic  at Mar Vista Recreation Center in Mar Vista\, CA \nVisually impaired & blind soccer clinics\, supported by the U.S. Association of Blind Athletes\, offer an adaptation of soccer for youth with a vision impairment. The team contact sport includes a component of medium-level cardiovascular exercise in an inclusive and supportive environment for all participants. \nRegister to participate for free
URL:https://thriveadaptive.org/event/caf-playla-blind-visually-impaired-soccer-4/
LOCATION:Mar Vista Recreation Center\, 11430 Woodbine ST\, Los Angeles\, CA\, 90066
CATEGORIES:Adaptive Sports Clinics,Blind and Visually Impaired Soccer
ATTACH;FMTTYPE=image/png:https://thriveadaptive.org/wp-content/uploads/2023/09/Thrive_Adaptive_USABA-PlayLA_TyOl.png
END:VEVENT
BEGIN:VEVENT
DTSTART;TZID=UTC:20231007T100000
DTEND;TZID=UTC:20231007T133000
DTSTAMP:20260421T144618
CREATED:20230906T042110Z
LAST-MODIFIED:20230906T042110Z
UID:10000026-1696672800-1696685400@thriveadaptive.org
SUMMARY:October 7: Rancho Los Amigos SCI Games
DESCRIPTION:Join Rancho Los Amigos National Spinal Cord Injury Rehabilitation Center for their annual multi-sport camp and resource fair for people with disabilities. \nThe annual games are designed for beginner wheelchair sports enthusiast and families alike. The games provide an excellent opportunity for participants to experience a wide variety of wheelchair sports. \nPlus\, the event is completely FREE to all participants! \nSports chairs will be provided. \nSchedule and free registration found here
URL:https://thriveadaptive.org/event/october-7-rancho-los-amigos-sci-games/
LOCATION:Rancho Los Amigos\, 7601 Imperial Highway\, Downey\, ca\, 90242
CATEGORIES:Adaptive Sports Clinics,Multi Sports Day
ATTACH;FMTTYPE=image/png:https://thriveadaptive.org/wp-content/uploads/2023/09/Screen-Shot-2023-09-05-at-9.09.13-PM.png
END:VEVENT
BEGIN:VEVENT
DTSTART;TZID=UTC:20231014T090000
DTEND;TZID=UTC:20231014T103000
DTSTAMP:20260421T144618
CREATED:20230906T050450Z
LAST-MODIFIED:20230906T050450Z
UID:10000027-1697274000-1697279400@thriveadaptive.org
SUMMARY:CAF + PlayLA: Blind & Visually Impaired Soccer
DESCRIPTION:Join PlayLA + Challenged Athletes Foundation: October 14th\, for the Blind and Visually Impaired Soccer Clinic  at Hubert Humphrey Medical Center in Pacoima\, CA \nVisually impaired & blind soccer clinics\, supported by the U.S. Association of Blind Athletes\, offer an adaptation of soccer for youth with a vision impairment. The team contact sport includes a component of medium-level cardiovascular exercise in an inclusive and supportive environment for all participants. \nRegister to participate for free
URL:https://thriveadaptive.org/event/caf-playla-blind-visually-impaired-soccer/
LOCATION:Hubert Humphrey Recreation Center\, 12560 Filmore St. Pacoima\, CA\, 91331\, Pacoima\, CA\, 91331\, United States
CATEGORIES:Adaptive Sports Clinics,Blind and Visually Impaired Soccer
ATTACH;FMTTYPE=image/png:https://thriveadaptive.org/wp-content/uploads/2023/09/Thrive_Adaptive_USABA-PlayLA_TyOl.png
END:VEVENT
BEGIN:VEVENT
DTSTART;TZID=UTC:20231014T090000
DTEND;TZID=UTC:20231014T160000
DTSTAMP:20260421T144618
CREATED:20230729T002520Z
LAST-MODIFIED:20230809T045200Z
UID:10000017-1697274000-1697299200@thriveadaptive.org
SUMMARY:Triumph Foundation: Over The Line Baseball Tournament
DESCRIPTION:On October 14\, Dozens of children\, adults and veterans with disabilities will play in a fun filled day of modified adaptive baseball. Join Thrive Adaptive at Barry A. Sanders Field alongside our community partners at Triumph Foundation as we keep the athletes cool and safe throughout the day. \nSign up for medical support
URL:https://thriveadaptive.org/event/triumph-foundation-over-the-line-baseball-tournament/
LOCATION:Barry A Sanders Field\, 6300 Balboa Blvd\, Van Nuys\, CA\, 91316\, United States
CATEGORIES:Adaptive Sports Clinics,Medical Support
ATTACH;FMTTYPE=image/jpeg:https://thriveadaptive.org/wp-content/uploads/2023/07/OTL-Baseball-Triumph.jpeg
ORGANIZER;CN="Triumph Foundation":MAILTO:info@triumph-foundation.org
END:VEVENT
BEGIN:VEVENT
DTSTART;VALUE=DATE:20231021
DTEND;VALUE=DATE:20231023
DTSTAMP:20260421T144618
CREATED:20230926T195806Z
LAST-MODIFIED:20231017T205450Z
UID:10000032-1697846400-1698019199@thriveadaptive.org
SUMMARY:San Diego Triathlon x Challenged Athlete Foundation
DESCRIPTION:Thrive Adaptive is proud align with Challenged Athletes Foundation in San Diego’s beautiful Mission Bay for their 30th annual community challenge\, October 22. \nOur volunteers will be spending Sunday tending to various wellness stations throughout the running & biking course of the San Diego Triathlon. \nSchedules include: \nSunday \n\n8a – 1p (at the start of the handcycling/biking course\n8a -1pm (at one of three stations along the running course
URL:https://thriveadaptive.org/event/san-diego-triathlon-x-challenged-athlete-foundation/
LOCATION:Bonita Cove\, 1100 W Mission Bay Drive\, San Diego\, 92109
CATEGORIES:Adaptive Sports Clinics,Adaptive Surfing,Featured Events,Medical Support,Multi Sports Day,Practices and Competions
ATTACH;FMTTYPE=image/jpeg:https://thriveadaptive.org/wp-content/uploads/2023/09/caf800x500.jpeg
END:VEVENT
BEGIN:VEVENT
DTSTART;TZID=UTC:20231021T093000
DTEND;TZID=UTC:20231021T120000
DTSTAMP:20260421T144618
CREATED:20230906T035503Z
LAST-MODIFIED:20230906T035503Z
UID:10000024-1697880600-1697889600@thriveadaptive.org
SUMMARY:October 21: PlayLA + Triumph Foundation Wheelchair Basketball Clinic
DESCRIPTION:PlayLA and Triumph Foundation are teaming up for a free wheelchair basketball clinic for kids. Join us from 9:30-12 at Barak and Michelle Obama Sports Complex. Adapted athletes with all levels of experience are invited to participate. \nSports chairs will be provided. \nRegister to play for free here.
URL:https://thriveadaptive.org/event/october-21-playla-triumph-foundation-wheelchair-basketball-clinic/
LOCATION:Barak and Michelle Obama Sports Complex\, 5001 Obama Blvd\, Los Angeles\, CA\, 90016\, United States
CATEGORIES:Adaptive Sports Clinics,Wheelchair Basketball
ATTACH;FMTTYPE=image/jpeg:https://thriveadaptive.org/wp-content/uploads/2023/09/Thrive_Adaptive_Wheelchair_Basketball_Event_Photo-scaled.jpeg
ORGANIZER;CN="Triumph Foundation":MAILTO:info@triumph-foundation.org
END:VEVENT
END:VCALENDAR