BEGIN:VCALENDAR
VERSION:2.0
PRODID:-//Thrive Adaptive - ECPv6.10.1.1//NONSGML v1.0//EN
CALSCALE:GREGORIAN
METHOD:PUBLISH
X-ORIGINAL-URL:https://thriveadaptive.org
X-WR-CALDESC:Events for Thrive Adaptive
REFRESH-INTERVAL;VALUE=DURATION:PT1H
X-Robots-Tag:noindex
X-PUBLISHED-TTL:PT1H
BEGIN:VTIMEZONE
TZID:UTC
BEGIN:STANDARD
TZOFFSETFROM:+0000
TZOFFSETTO:+0000
TZNAME:UTC
DTSTART:20230101T000000
END:STANDARD
END:VTIMEZONE
BEGIN:VEVENT
DTSTART;TZID=UTC:20230907T080000
DTEND;TZID=UTC:20230910T160000
DTSTAMP:20260421T161644
CREATED:20230715T205259Z
LAST-MODIFIED:20230802T063116Z
UID:10000015-1694073600-1694361600@thriveadaptive.org
SUMMARY:US Open of Adaptive Surfing: Oceanside\, CA
DESCRIPTION:Now is your opportunity to join us supporting over 100 athletes as they compete for over $60\,000 at the US Open of Adaptive Surfing held 9/7-10 in Oceanside\, California. \nVolunteer sign up information can be found here
URL:https://thriveadaptive.org/event/us-open-of-adaptive-surfing-oceanside-ca/
LOCATION:Oceanside Pier\, Oceanside\, CA\, United States
CATEGORIES:Adaptive Surfing,Practices and Competions
ATTACH;FMTTYPE=image/jpeg:https://thriveadaptive.org/wp-content/uploads/2023/07/1.jpg
END:VEVENT
BEGIN:VEVENT
DTSTART;TZID=UTC:20230909T093000
DTEND;TZID=UTC:20230909T120000
DTSTAMP:20260421T161644
CREATED:20230906T032824Z
LAST-MODIFIED:20230906T032824Z
UID:10000022-1694251800-1694260800@thriveadaptive.org
SUMMARY:September 9: PlayLA + Triumph Foundation Wheelchair Basketball Clinic
DESCRIPTION:PlayLA and Triumph Foundation are teaming up for a free wheelchair basketball clinic for kids. Join us from 9:30-12 at Westwood Recreation Center – South Gym. Adapted athletes with all levels of experience are invited to participate. \nSports chairs will be provided. \nRegister for free here.
URL:https://thriveadaptive.org/event/september-9-playla-triumph-foundation-wheelchair-basketball-clinic/
LOCATION:Westwood Recreation Center – South Gym\, 1350 S Sepulveda Blvd\, Los Angeles\, CA\, 90025-2697\, United States
CATEGORIES:Adaptive Sports Clinics,Virtual Events,Wheelchair Basketball
ATTACH;FMTTYPE=image/jpeg:https://thriveadaptive.org/wp-content/uploads/2023/09/Thrive_Adaptive_Wheelchair_Basketball_Event_Photo-scaled.jpeg
ORGANIZER;CN="Triumph Foundation":MAILTO:info@triumph-foundation.org
END:VEVENT
BEGIN:VEVENT
DTSTART;TZID=UTC:20230916T090000
DTEND;TZID=UTC:20230916T103000
DTSTAMP:20260421T161644
CREATED:20230906T211618Z
LAST-MODIFIED:20230906T211618Z
UID:10000029-1694854800-1694860200@thriveadaptive.org
SUMMARY:CAF + PlayLA: Blind & Visually Impaired Soccer
DESCRIPTION:Join PlayLA + Challenged Athletes Foundation: September 16th\, for the Blind and Visually Impaired Soccer Clinic  at Mar Vista Recreation Center in Mar Vista\, CA \nVisually impaired & blind soccer clinics\, supported by the U.S. Association of Blind Athletes\, offer an adaptation of soccer for youth with a vision impairment. The team contact sport includes a component of medium-level cardiovascular exercise in an inclusive and supportive environment for all participants. \nRegister to participate for free
URL:https://thriveadaptive.org/event/caf-playla-blind-visually-impaired-soccer-3/
LOCATION:Mar Vista Recreation Center\, 11430 Woodbine ST\, Los Angeles\, CA\, 90066
CATEGORIES:Adaptive Sports Clinics,Blind and Visually Impaired Soccer
ATTACH;FMTTYPE=image/png:https://thriveadaptive.org/wp-content/uploads/2023/09/Thrive_Adaptive_USABA-PlayLA_TyOl.png
END:VEVENT
BEGIN:VEVENT
DTSTART;TZID=UTC:20230923T080000
DTEND;TZID=UTC:20230923T160000
DTSTAMP:20260421T161644
CREATED:20230809T181921Z
LAST-MODIFIED:20230809T181921Z
UID:10000019-1695456000-1695484800@thriveadaptive.org
SUMMARY:Life Rolls On: They Will Surf Again - La Jolla\, CA
DESCRIPTION:You belong here! Join Thrive Adaptive alongside our partners Life Rolls on Foundation for their annual surfing event on the La Jolla Shores. Volunteers will have the opportunity to help dozens of athletes of all abilities ride the waves in La Jolla. Throughout the day\, varying roles from land support to shallow and deep water will be available. \nJoin us Saturday September\, 23rd. \nSignups are open now
URL:https://thriveadaptive.org/event/life-rolls-on-they-will-surf-again-la-jolla-ca/
LOCATION:La Jolla Shores\, 8200 Camino del Or\, La Jolla Shores\, CA\, 92037
CATEGORIES:Adaptive Sports Clinics,Adaptive Surfing
ATTACH;FMTTYPE=image/jpeg:https://thriveadaptive.org/wp-content/uploads/2023/06/unnamed-5.jpg
END:VEVENT
BEGIN:VEVENT
DTSTART;TZID=UTC:20230930T093000
DTEND;TZID=UTC:20230930T120000
DTSTAMP:20260421T161644
CREATED:20230906T033653Z
LAST-MODIFIED:20230906T033653Z
UID:10000023-1696066200-1696075200@thriveadaptive.org
SUMMARY:September 30: PlayLA + Triumph Foundation Wheelchair Basketball Clinic
DESCRIPTION:PlayLA and Triumph Foundation are teaming up for a free wheelchair basketball clinic for kids. Join us from 9:30-12 at Lake View Terrace Recreation Center. Adapted athletes with all levels of experience are invited to participate. \nSports chairs will be provided. \nRegister to play for free here.
URL:https://thriveadaptive.org/event/september-30-playla-triumph-foundation-wheelchair-basketball-clinic/
LOCATION:Lakeview Terrace Recreation Center\, 11075 Foothill Blvd\, Lake View Terrace\, CA\, 91342\, United States
CATEGORIES:Adaptive Sports Clinics,Wheelchair Basketball
ATTACH;FMTTYPE=image/jpeg:https://thriveadaptive.org/wp-content/uploads/2023/09/Thrive_Adaptive_Wheelchair_Basketball_Event_Photo-scaled.jpeg
ORGANIZER;CN="Triumph Foundation":MAILTO:info@triumph-foundation.org
END:VEVENT
END:VCALENDAR