BEGIN:VCALENDAR
VERSION:2.0
PRODID:-//Thrive Adaptive - ECPv6.10.1.1//NONSGML v1.0//EN
CALSCALE:GREGORIAN
METHOD:PUBLISH
X-ORIGINAL-URL:https://thriveadaptive.org
X-WR-CALDESC:Events for Thrive Adaptive
REFRESH-INTERVAL;VALUE=DURATION:PT1H
X-Robots-Tag:noindex
X-PUBLISHED-TTL:PT1H
BEGIN:VTIMEZONE
TZID:UTC
BEGIN:STANDARD
TZOFFSETFROM:+0000
TZOFFSETTO:+0000
TZNAME:UTC
DTSTART:20230101T000000
END:STANDARD
END:VTIMEZONE
BEGIN:VEVENT
DTSTART;TZID=UTC:20231118T083000
DTEND;TZID=UTC:20231118T110000
DTSTAMP:20260423T104535
CREATED:20231110T200453Z
LAST-MODIFIED:20231110T200554Z
UID:10000058-1700296200-1700305200@thriveadaptive.org
SUMMARY:SoCal Adaptive Carrizo Canyon Adaptive Hike - Palm Desert\, CA
DESCRIPTION:Carrizo Canyon adaptive hike\n\nSaturday\, November 18\, 2023\n8:30 AM  11:00 AM\n\n\nArt Simth Trailhead parking lot Roy Wilson Memorial Highway Palm Desert\, CA\, 92260United States (map)
URL:https://thriveadaptive.org/event/socal-adaptive-carrizo-canyon-adaptive-hike-palm-desert-ca/
CATEGORIES:Adaptive Hiking,Adaptive Sports Clinics
ATTACH;FMTTYPE=image/png:https://thriveadaptive.org/wp-content/uploads/2023/11/socal-hiking.png
END:VEVENT
END:VCALENDAR