BEGIN:VCALENDAR
VERSION:2.0
PRODID:-//Thrive Adaptive - ECPv6.10.1.1//NONSGML v1.0//EN
CALSCALE:GREGORIAN
METHOD:PUBLISH
X-ORIGINAL-URL:https://thriveadaptive.org
X-WR-CALDESC:Events for Thrive Adaptive
REFRESH-INTERVAL;VALUE=DURATION:PT1H
X-Robots-Tag:noindex
X-PUBLISHED-TTL:PT1H
BEGIN:VTIMEZONE
TZID:UTC
BEGIN:STANDARD
TZOFFSETFROM:+0000
TZOFFSETTO:+0000
TZNAME:UTC
DTSTART:20250101T000000
END:STANDARD
END:VTIMEZONE
BEGIN:VEVENT
DTSTART;VALUE=DATE:20250311
DTEND;VALUE=DATE:20250312
DTSTAMP:20260420T103418
CREATED:20250113T110557Z
LAST-MODIFIED:20250307T024248Z
UID:10000179-1741651200-1741737599@thriveadaptive.org
SUMMARY:March 11: Triumph Foundation Adaptive Snow Skiing with USARC |
DESCRIPTION:Who wants to go snow skiing with Triumph Foundation in Big Bear with United States Adaptive Recreation Center? \nEmail Melissa for more information and to sign up. \n$40 deposit. 200lb weight limit. These clinic dates are open to those with mobility impairment/paralysis.
URL:https://thriveadaptive.org/event/adaptive-snow-skiing-with-usarc-3/
LOCATION:United States Adaptive Recreation Center\, 43101 Goldmine Dr\, Big Bear Lake\, CA 92315
ATTACH;FMTTYPE=image/jpeg:https://thriveadaptive.org/wp-content/uploads/2025/01/adaptive-snow-skiing.jpg
ORGANIZER;CN="Triumph Foundation":MAILTO:info@triumph-foundation.org
END:VEVENT
END:VCALENDAR