BEGIN:VCALENDAR
VERSION:2.0
PRODID:-//Thrive Adaptive - ECPv6.10.1.1//NONSGML v1.0//EN
CALSCALE:GREGORIAN
METHOD:PUBLISH
X-ORIGINAL-URL:https://thriveadaptive.org
X-WR-CALDESC:Events for Thrive Adaptive
REFRESH-INTERVAL;VALUE=DURATION:PT1H
X-Robots-Tag:noindex
X-PUBLISHED-TTL:PT1H
BEGIN:VTIMEZONE
TZID:UTC
BEGIN:STANDARD
TZOFFSETFROM:+0000
TZOFFSETTO:+0000
TZNAME:UTC
DTSTART:20250101T000000
END:STANDARD
END:VTIMEZONE
BEGIN:VEVENT
DTSTART;VALUE=DATE:20250307
DTEND;VALUE=DATE:20250310
DTSTAMP:20260420T103354
CREATED:20250113T105922Z
LAST-MODIFIED:20250219T053444Z
UID:10000178-1741305600-1741564799@thriveadaptive.org
SUMMARY:Abilities Expo – Los Angeles Convention Center
DESCRIPTION:March 7-9\, 2025 \nCome out to this FREE IN PERSON Abilities Expo at the Los Angeles Convention Center to see us and the latest & greatest in adapted products and services. \nThe show is the go-to source for the community of people with disabilities\, they families\, seniors\, veterans\, and healthcare professionals. Discover ability-enhancing products and services. \nLuskinOIC and Angel City Sports will be at the Sports Zone all three days! \nTriumph will be at booth #549 so come by and say hello! \nREGISTER
URL:https://thriveadaptive.org/event/abilities-expo-los-angeles-convention-center/
LOCATION:Los Angeles Convention Center\, 1201 South Figeroua Street\, Los Angeles\, CA\, 90015
ATTACH;FMTTYPE=image/png:https://thriveadaptive.org/wp-content/uploads/2025/01/abilities-expo-logo.png
END:VEVENT
BEGIN:VEVENT
DTSTART;TZID=UTC:20250308T083000
DTEND;TZID=UTC:20250308T093000
DTSTAMP:20260420T103354
CREATED:20250113T125859Z
LAST-MODIFIED:20250113T130837Z
UID:10000207-1741422600-1741426200@thriveadaptive.org
SUMMARY:Adaptive Hiking
DESCRIPTION:
URL:https://thriveadaptive.org/event/adaptive-hiking-2/
LOCATION:Mission Creek Preserve Trailhead\, 61598-61548 Mission Creek Rd\, WhiteWater\, CA
ATTACH;FMTTYPE=image/png:https://thriveadaptive.org/wp-content/uploads/2025/01/Adaptive-hiking2.png
END:VEVENT
BEGIN:VEVENT
DTSTART;TZID=UTC:20250308T110000
DTEND;TZID=UTC:20250308T130000
DTSTAMP:20260420T103354
CREATED:20250130T094535Z
LAST-MODIFIED:20250307T030259Z
UID:10000703-1741431600-1741438800@thriveadaptive.org
SUMMARY:March 8: Socal Adaptive Sports: Cheerleading and Flag Football Clinics | La Quinta
DESCRIPTION:
URL:https://thriveadaptive.org/event/2025-cheerleading-and-flag-football-clinics-3/
LOCATION:La Quinta Middle School\, 78900 Avenue 50\, La Quinta\, CA\, 92253\, United States
ATTACH;FMTTYPE=image/png:https://thriveadaptive.org/wp-content/uploads/2025/01/Cheerleading-and-Flag-Football-Clinics.png
END:VEVENT
END:VCALENDAR