BEGIN:VCALENDAR
VERSION:2.0
PRODID:-//Thrive Adaptive - ECPv6.10.1.1//NONSGML v1.0//EN
CALSCALE:GREGORIAN
METHOD:PUBLISH
X-WR-CALNAME:Thrive Adaptive
X-ORIGINAL-URL:https://thriveadaptive.org
X-WR-CALDESC:Events for Thrive Adaptive
REFRESH-INTERVAL;VALUE=DURATION:PT1H
X-Robots-Tag:noindex
X-PUBLISHED-TTL:PT1H
BEGIN:VTIMEZONE
TZID:UTC
BEGIN:STANDARD
TZOFFSETFROM:+0000
TZOFFSETTO:+0000
TZNAME:UTC
DTSTART:20250101T000000
END:STANDARD
END:VTIMEZONE
BEGIN:VEVENT
DTSTART;TZID=UTC:20250301T090000
DTEND;TZID=UTC:20250301T103000
DTSTAMP:20260420T103143
CREATED:20250128T062220Z
LAST-MODIFIED:20250219T092649Z
UID:10000217-1740819600-1740825000@thriveadaptive.org
SUMMARY:March 1: PlayLA Goalball Clinics | Los Angeles
DESCRIPTION:
URL:https://thriveadaptive.org/event/winter-playla-adaptive-goalball-clinics-5/
LOCATION:South Western Ave Los Angeles\, 3916 South Western Ave\, Los Angeles\, CA\, 90062\, United States
CATEGORIES:Goalball
ATTACH;FMTTYPE=image/png:https://thriveadaptive.org/wp-content/uploads/2025/01/Screenshot-2025-02-19-at-1.24.22 AM.png
END:VEVENT
BEGIN:VEVENT
DTSTART;TZID=UTC:20250301T110000
DTEND;TZID=UTC:20250301T130000
DTSTAMP:20260420T103143
CREATED:20250113T125242Z
LAST-MODIFIED:20250219T082738Z
UID:10000205-1740826800-1740834000@thriveadaptive.org
SUMMARY:March 1: Socal Adaptive Sports: Cheerleading and Flag Football Clinics | La Quinta
DESCRIPTION:
URL:https://thriveadaptive.org/event/cheerleading-and-flag-football-clinics/
LOCATION:La Quinta Middle School\, 78900 Avenue 50\, La Quinta\, CA\, 92253\, United States
CATEGORIES:Wheelchair Football
ATTACH;FMTTYPE=image/png:https://thriveadaptive.org/wp-content/uploads/2025/01/Cheerleading-and-Flag-Football-Clinics.png
END:VEVENT
END:VCALENDAR