BEGIN:VCALENDAR
VERSION:2.0
PRODID:-//Thrive Adaptive - ECPv6.10.1.1//NONSGML v1.0//EN
CALSCALE:GREGORIAN
METHOD:PUBLISH
X-WR-CALNAME:Thrive Adaptive
X-ORIGINAL-URL:https://thriveadaptive.org
X-WR-CALDESC:Events for Thrive Adaptive
REFRESH-INTERVAL;VALUE=DURATION:PT1H
X-Robots-Tag:noindex
X-PUBLISHED-TTL:PT1H
BEGIN:VTIMEZONE
TZID:UTC
BEGIN:STANDARD
TZOFFSETFROM:+0000
TZOFFSETTO:+0000
TZNAME:UTC
DTSTART:20250101T000000
END:STANDARD
END:VTIMEZONE
BEGIN:VEVENT
DTSTART;TZID=UTC:20250225T150000
DTEND;TZID=UTC:20250225T150000
DTSTAMP:20260420T103139
CREATED:20250130T061018Z
LAST-MODIFIED:20250130T061355Z
UID:10000687-1740495600-1740495600@thriveadaptive.org
SUMMARY:Palomar SCI Life Series Group
DESCRIPTION:We’re excited to announce the launch of our new SCI Life Series Group at Palomar Medical Center.
URL:https://thriveadaptive.org/event/palomar-sci-life-series-group/
LOCATION:Palomar Medical Center\,\, Palomar Medical Center 2181 W. Citracado Parkway Escondido\, CA 92029
ATTACH;FMTTYPE=image/jpeg:https://thriveadaptive.org/wp-content/uploads/2025/01/Palomar-Group-Banner.jpg
END:VEVENT
BEGIN:VEVENT
DTSTART;TZID=UTC:20250225T160000
DTEND;TZID=UTC:20250225T162500
DTSTAMP:20260420T103139
CREATED:20250129T081010Z
LAST-MODIFIED:20250129T081050Z
UID:10000488-1740499200-1740500700@thriveadaptive.org
SUMMARY:Spring Adaptive - T/Th - 4:00PM - S2
DESCRIPTION:Adaptive Aquatics is a swim lesson program open for adult and youth participants with disabilities. This is a group lesson\, where the instructor incorporates water safety and swimming fundamentals\, while accommodating the needs of each individual. Aids are encouraged to get in the water with their participant at no extra cost\, but are not mandated to unless specifically needed for medical or safety reasons. Please note online registration is limited. If an activity says it is available but you receive an Online Registration Limit/Activity enrollment error it means the online spots have already been filled and you need to register at the pool. Additionally\, if it says “Call Facility\,” you must register at the pool. We apologize for the inconvenience. Participants will only be able to enroll in one lesson per session from home. If you want additional lessons you will need to register at the pool.
URL:https://thriveadaptive.org/event/spring-adaptive-t-th-400pm-s2-7/
LOCATION:Klamath St. Los Angeles\, 4721 Klamath St.\, Los Angeles\, CA\, 90032\, United States
END:VEVENT
BEGIN:VEVENT
DTSTART;TZID=UTC:20250225T160000
DTEND;TZID=UTC:20250225T162500
DTSTAMP:20260420T103139
CREATED:20250129T131501Z
LAST-MODIFIED:20250129T131533Z
UID:10000643-1740499200-1740500700@thriveadaptive.org
SUMMARY:Winter Adaptive Swim - Tue/Thur - 4pm - S2
DESCRIPTION:
URL:https://thriveadaptive.org/event/winter-adaptive-swim-tue-thur-4pm-s2-7/
LOCATION:5858 Shoup Ave.\, 5858 Shoup Ave. Woodland Hills\, CA\, 91367
END:VEVENT
BEGIN:VEVENT
DTSTART;TZID=UTC:20250225T163000
DTEND;TZID=UTC:20250225T183000
DTSTAMP:20260420T103139
CREATED:20250129T141758Z
LAST-MODIFIED:20250130T075640Z
UID:10000659-1740501000-1740508200@thriveadaptive.org
SUMMARY:Bowling at Yucca Bowl every Tuesday
DESCRIPTION:
URL:https://thriveadaptive.org/event/bowling-at-yucca-bowl-every-tuesday-4/
LOCATION:Yucca Bowl\, 58146 29 Palms Highway\, Yucca Valley\, CA\, 92284\, United States
ATTACH;FMTTYPE=image/png:https://thriveadaptive.org/wp-content/uploads/2025/01/Bowling-at-Yucca-Bowl-every-Tuesday-1.png
END:VEVENT
BEGIN:VEVENT
DTSTART;TZID=UTC:20250225T170000
DTEND;TZID=UTC:20250225T172500
DTSTAMP:20260420T103139
CREATED:20250129T100324Z
LAST-MODIFIED:20250129T100353Z
UID:10000519-1740502800-1740504300@thriveadaptive.org
SUMMARY:Winter Adaptive Lessons - T/Th - S2
DESCRIPTION:Adaptive Aquatics is a swim lesson program open for adult and youth participants with disabilities. This is a group lesson\, where the instructor incorporates water safety and swimming fundamentals\, while accommodating the needs of each individual. Aids are encouraged to get in the water with their participant at no extra cost\, but are not mandated to unless specifically needed for medical or safety reasons. Please note online registration is limited. If an activity says it is available but you receive an Online Registration Limit/Activity enrollment error it means the online spots have already been filled and you need to register at the pool. Additionally\, if it says “Call Facility\,” you must register at the pool. We apologize for the inconvenience. Participants will only be able to enroll in one lesson per session from home. If you want additional lessons you will need to register at the pool.
URL:https://thriveadaptive.org/event/winter-adaptive-lessons-t-th-s2-7/
LOCATION:Huston Street Van Nuys\, 14201 Huston Street\, Van Nuys\, CA\, 91423\, United States
END:VEVENT
BEGIN:VEVENT
DTSTART;TZID=UTC:20250225T173000
DTEND;TZID=UTC:20250225T175500
DTSTAMP:20260420T103139
CREATED:20250129T122420Z
LAST-MODIFIED:20250129T122449Z
UID:10000603-1740504600-1740506100@thriveadaptive.org
SUMMARY:Spring Adaptive Lesson - T/Th - S2
DESCRIPTION:Adaptive Aquatics is a swim lesson program open for adult and youth participants with disabilities. This is a group lesson\, where the instructor incorporates water safety and swimming fundamentals\, while accommodating the needs of each individual. Aids are encouraged to get in the water with their participant at no extra cost\, but are not mandated to unless specifically needed for medical or safety reasons. Please note online registration is limited. If an activity says it is available but you receive an Online Registration Limit/Activity enrollment error it means the online spots have already been filled and you need to register at the pool. Additionally\, if it says “Call Facility\,” you must register at the pool. We apologize for the inconvenience. Participants will only be able to enroll in one lesson per session from home. If you want additional lessons you will need to register at the pool.
URL:https://thriveadaptive.org/event/spring-adaptive-lesson-t-th-s2-7/
LOCATION:Valley Blvd. Los Angeles\, 3501 Valley Blvd. Los Angeles\, CA\, 90031
END:VEVENT
BEGIN:VEVENT
DTSTART;TZID=UTC:20250225T183000
DTEND;TZID=UTC:20250225T185500
DTSTAMP:20260420T103139
CREATED:20250128T081343Z
LAST-MODIFIED:20250128T081432Z
UID:10000238-1740508200-1740509700@thriveadaptive.org
SUMMARY:Spring Adaptive Beginner Lesson S2
DESCRIPTION:Adaptive Aquatics is a swim lesson program open for adult and youth participants with disabilities. This is a group lesson\, where the instructor incorporates water safety and swimming fundamentals\, while accommodating the needs of each individual. Aids are encouraged to get in the water with their participant at no extra cost\, but are not mandated to unless specifically needed for medical or safety reasons. Please note online registration is limited. If an activity says it is available but you receive an Online Registration Limit/Activity enrollment error it means the online spots have already been filled and you need to register at the pool. Additionally\, if it says “Call Facility\,” you must register at the pool. We apologize for the inconvenience. Participants will only be able to enroll in one lesson per session from home. If you want additional lessons you will need to register at the pool.
URL:https://thriveadaptive.org/event/spring-adaptive-beginner-lesson-s2-7/
LOCATION:8120 Vanalden Ave. Reseda\, CA\, 91335\, 8120 Vanalden Ave.\, Reseda\, CA\, 91335\, United States
END:VEVENT
BEGIN:VEVENT
DTSTART;TZID=UTC:20250225T183000
DTEND;TZID=UTC:20250225T185500
DTSTAMP:20260420T103139
CREATED:20250129T102157Z
LAST-MODIFIED:20250129T102226Z
UID:10000527-1740508200-1740509700@thriveadaptive.org
SUMMARY:Spring Adaptive Swim Lessons - T/Th - 6:30PM - S2
DESCRIPTION:Adaptive Aquatics is a swim lesson program open for adult and youth participants with disabilities. This is a group lesson\, where the instructor incorporates water safety and swimming fundamentals\, while accommodating the needs of each individual. Aids are encouraged to get in the water with their participant at no extra cost\, but are not mandated to unless specifically needed for medical or safety reasons. Please note online registration is limited. If an activity says it is available but you receive an Online Registration Limit/Activity enrollment error it means the online spots have already been filled and you need to register at the pool. Additionally\, if it says “Call Facility\,” you must register at the pool. We apologize for the inconvenience. Participants will only be able to enroll in one lesson per session from home. If you want additional lessons you will need to register at the pool.
URL:https://thriveadaptive.org/event/spring-adaptive-swim-lessons-t-th-630pm-s2-7/
LOCATION:3704 Verdugo Road Los Angeles\, 3704 Verdugo Road Los Angeles\, CA\, 90065
END:VEVENT
BEGIN:VEVENT
DTSTART;TZID=UTC:20250225T183000
DTEND;TZID=UTC:20250225T185500
DTSTAMP:20260420T103139
CREATED:20250129T114844Z
LAST-MODIFIED:20250129T114912Z
UID:10000580-1740508200-1740509700@thriveadaptive.org
SUMMARY:Spring Adaptive Swim Lessons - T/Th - S2
DESCRIPTION:
URL:https://thriveadaptive.org/event/spring-adaptive-swim-lessons-t-th-s2-7/
LOCATION:Cole Ave. Los Angeles\, 1122 Cole Ave. Los Angeles\, CA\, 90038
END:VEVENT
BEGIN:VEVENT
DTSTART;TZID=UTC:20250225T183000
DTEND;TZID=UTC:20250225T185500
DTSTAMP:20260420T103139
CREATED:20250130T102250Z
LAST-MODIFIED:20250130T102320Z
UID:10000717-1740508200-1740509700@thriveadaptive.org
SUMMARY:Spring Youth Adaptive Lessons - Tue/Th - 6:30PM - S2
DESCRIPTION:Adaptive Aquatics is a swim lesson program open for adult and youth participants with disabilities. This is a group lesson\, where the instructor incorporates water safety and swimming fundamentals\, while accommodating the needs of each individual. Aids are encouraged to get in the water with their participant at no extra cost\, but are not mandated to unless specifically needed for medical or safety reasons. Please note online registration is limited. If an activity says it is available but you receive an Online Registration Limit/Activity enrollment error it means the online spots have already been filled and you need to register at the pool. Additionally\, if it says “Call Facility\,” you must register at the pool. We apologize for the inconvenience. Participants will only be able to enroll in one lesson per session from home. If you want additional lessons you will need to register at the pool.
URL:https://thriveadaptive.org/event/spring-youth-adaptive-lessons-tue-th-630pm-s2-7/
LOCATION:Yosemite Dr Los Angeles\, 1840 Yosemite Dr\, Los Angeles\, CA\, 90041\, United States
END:VEVENT
END:VCALENDAR