BEGIN:VCALENDAR
VERSION:2.0
PRODID:-//Thrive Adaptive - ECPv6.10.1.1//NONSGML v1.0//EN
CALSCALE:GREGORIAN
METHOD:PUBLISH
X-ORIGINAL-URL:https://thriveadaptive.org
X-WR-CALDESC:Events for Thrive Adaptive
REFRESH-INTERVAL;VALUE=DURATION:PT1H
X-Robots-Tag:noindex
X-PUBLISHED-TTL:PT1H
BEGIN:VTIMEZONE
TZID:UTC
BEGIN:STANDARD
TZOFFSETFROM:+0000
TZOFFSETTO:+0000
TZNAME:UTC
DTSTART:20250101T000000
END:STANDARD
END:VTIMEZONE
BEGIN:VEVENT
DTSTART;TZID=UTC:20250223T120000
DTEND;TZID=UTC:20250223T160000
DTSTAMP:20260421T150749
CREATED:20250113T104648Z
LAST-MODIFIED:20250219T082010Z
UID:10000177-1740312000-1740326400@thriveadaptive.org
SUMMARY:February 23: Angel City Sports LA Adaptive Sports Fair | Los Angeles
DESCRIPTION:You’re invited to participate with Thrive Adaptive as a general volunteer for the LA Adaptive Sports Fair with our hosts from Angel City Sports. This event is designed to empower individuals impacted by gun violence. \nALL ARE WELCOME! REGISTER HERE \nDate: February 23\, 2025\nTime: 12 PM – 4 PM\nLocation: Ted Watkins Park (a.k.a. Will Rogers State Park)\n1335 E 103rd St. Los Angeles\, CA 90002 \nExperience an exciting day filled with: Adaptive sports like wheelchair football\, basketball\, tennis\, boccia\, and para-fencing. Live music\, a DJ\, and incredible performances. Delicious food and access to local resources for those affected by gun violence. \nOpportunities to connect with local organizations making a difference. Special guests\, including a representative from the LA City Council office\, will be there to show their support. \nWhether you’re an athlete\, a supporter\, or simply curious\, come celebrate resilience and community. Don’t miss this inspiring day! \n 
URL:https://thriveadaptive.org/event/la-adaptive-sports-fair/
LOCATION:Ted Watkins Park (a.k.a. Will Rogers State Park)\, 1335 E 103rd St. Los Angeles\, CA 90002
CATEGORIES:Adaptive Sports Clinics,Featured Events,Multi Sports Day
ATTACH;FMTTYPE=image/jpeg:https://thriveadaptive.org/wp-content/uploads/2025/01/la-adaptive-sports-fair-instagram.jpg
END:VEVENT
BEGIN:VEVENT
DTSTART;TZID=UTC:20250223T123000
DTEND;TZID=UTC:20250223T125500
DTSTAMP:20260421T150749
CREATED:20250128T070623Z
LAST-MODIFIED:20250128T070655Z
UID:10000224-1740313800-1740315300@thriveadaptive.org
SUMMARY:Spring Adaptive
DESCRIPTION:Adaptive Aquatics is a swim lesson program open for adult and youth participants with disabilities. This is a group lesson\, where the instructor incorporates water safety and swimming fundamentals\, while accommodating the needs of each individual. Aids are encouraged to get in the water with their participant at no extra cost\, but are not mandated to unless specifically needed for medical or safety reasons. Please note online registration is limited. If an activity says it is available but you receive an Online Registration Limit/Activity enrollment error it means the online spots have already been filled and you need to register at the pool. Additionally\, if it says “Call Facility\,” you must register at the pool. We apologize for the inconvenience. Participants will only be able to enroll in one lesson per session from home. If you want additional lessons you will need to register at the pool.
URL:https://thriveadaptive.org/event/spring-adaptive-8/
LOCATION:Street Los Angeles\, 5931 W. 18th Street\, Los Angeles\, CA\, 90035\, United States
END:VEVENT
BEGIN:VEVENT
DTSTART;TZID=UTC:20250223T130000
DTEND;TZID=UTC:20250223T132500
DTSTAMP:20260421T150749
CREATED:20250130T110710Z
LAST-MODIFIED:20250130T110739Z
UID:10000742-1740315600-1740317100@thriveadaptive.org
SUMMARY:Spring Adaptive Swimmer Lesson - Sat/Sun - S2
DESCRIPTION:Adaptive Aquatics is a swim lesson program open for adult and youth participants with disabilities. This is a group lesson\, where the instructor incorporates water safety and swimming fundamentals\, while accommodating the needs of each individual. Aids are encouraged to get in the water with their participant at no extra cost\, but are not mandated to unless specifically needed for medical or safety reasons. Please note online registration is limited. If an activity says it is available but you receive an Online Registration Limit/Activity enrollment error it means the online spots have already been filled and you need to register at the pool. Additionally\, if it says “Call Facility\,” you must register at the pool. We apologize for the inconvenience. Participants will only be able to enroll in one lesson per session from home. If you want additional lessons you will need to register at the pool.
URL:https://thriveadaptive.org/event/spring-adaptive-swimmer-lesson-sat-sun-s2-8/
LOCATION:8120 Vanalden Ave. Reseda\, CA\, 91335\, 8120 Vanalden Ave.\, Reseda\, CA\, 91335\, United States
END:VEVENT
BEGIN:VEVENT
DTSTART;TZID=UTC:20250223T133000
DTEND;TZID=UTC:20250223T135500
DTSTAMP:20260421T150750
CREATED:20250128T083202Z
LAST-MODIFIED:20250128T083230Z
UID:10000247-1740317400-1740318900@thriveadaptive.org
SUMMARY:Spring Adaptive Beginner Lesson - Sat/Sun - S2
DESCRIPTION:Adaptive Aquatics is a swim lesson program open for adult and youth participants with disabilities. This is a group lesson\, where the instructor incorporates water safety and swimming fundamentals\, while accommodating the needs of each individual. Aids are encouraged to get in the water with their participant at no extra cost\, but are not mandated to unless specifically needed for medical or safety reasons. Please note online registration is limited. If an activity says it is available but you receive an Online Registration Limit/Activity enrollment error it means the online spots have already been filled and you need to register at the pool. Additionally\, if it says “Call Facility\,” you must register at the pool. We apologize for the inconvenience. Participants will only be able to enroll in one lesson per session from home. If you want additional lessons you will need to register at the pool.
URL:https://thriveadaptive.org/event/spring-adaptive-beginner-lesson-sat-sun-s2-8/
LOCATION:8120 Vanalden Ave. Reseda\, CA\, 91335\, 8120 Vanalden Ave.\, Reseda\, CA\, 91335\, United States
END:VEVENT
BEGIN:VEVENT
DTSTART;TZID=UTC:20250223T133000
DTEND;TZID=UTC:20250223T135500
DTSTAMP:20260421T150750
CREATED:20250129T061240Z
LAST-MODIFIED:20250129T061312Z
UID:10000420-1740317400-1740318900@thriveadaptive.org
SUMMARY:Spring Adaptive Swim Lessons - Sat/Sun - S2
DESCRIPTION:Adaptive Aquatics is a swim lesson program open for adult and youth participants with disabilities. This is a group lesson\, where the instructor incorporates water safety and swimming fundamentals\, while accommodating the needs of each individual. Aids are encouraged to get in the water with their participant at no extra cost\, but are not mandated to unless specifically needed for medical or safety reasons. Please note online registration is limited. If an activity says it is available but you receive an Online Registration Limit/Activity enrollment error it means the online spots have already been filled and you need to register at the pool. Additionally\, if it says “Call Facility\,” you must register at the pool. We apologize for the inconvenience. Participants will only be able to enroll in one lesson per session from home. If you want additional lessons you will need to register at the pool.
URL:https://thriveadaptive.org/event/spring-adaptive-swim-lessons-sat-sun-s2-8/
LOCATION:Mathews St\, 456 S. Mathews St.\, Los Angeles\, CA\, 90033\, United States
END:VEVENT
BEGIN:VEVENT
DTSTART;TZID=UTC:20250223T133000
DTEND;TZID=UTC:20250223T135500
DTSTAMP:20260421T150750
CREATED:20250129T082954Z
LAST-MODIFIED:20250129T083027Z
UID:10000505-1740317400-1740318900@thriveadaptive.org
SUMMARY:Spring Adaptive - Sat/Sun - 1:30PM - S2
DESCRIPTION:Adaptive Aquatics is a swim lesson program open for adult and youth participants with disabilities. This is a group lesson\, where the instructor incorporates water safety and swimming fundamentals\, while accommodating the needs of each individual. Aids are encouraged to get in the water with their participant at no extra cost\, but are not mandated to unless specifically needed for medical or safety reasons. Please note online registration is limited. If an activity says it is available but you receive an Online Registration Limit/Activity enrollment error it means the online spots have already been filled and you need to register at the pool. Additionally\, if it says “Call Facility\,” you must register at the pool. We apologize for the inconvenience. Participants will only be able to enroll in one lesson per session from home. If you want additional lessons you will need to register at the pool.
URL:https://thriveadaptive.org/event/spring-adaptive-sat-sun-130pm-s2-8/
LOCATION:Klamath St. Los Angeles\, 4721 Klamath St.\, Los Angeles\, CA\, 90032\, United States
END:VEVENT
BEGIN:VEVENT
DTSTART;TZID=UTC:20250223T133000
DTEND;TZID=UTC:20250223T135500
DTSTAMP:20260421T150750
CREATED:20250129T104442Z
LAST-MODIFIED:20250129T104519Z
UID:10000544-1740317400-1740318900@thriveadaptive.org
SUMMARY:Spring Adaptive Swim Lessons - Sat/Sun - 1:30PM - S2
DESCRIPTION:Adaptive Aquatics is a swim lesson program open for adult and youth participants with disabilities. This is a group lesson\, where the instructor incorporates water safety and swimming fundamentals\, while accommodating the needs of each individual. Aids are encouraged to get in the water with their participant at no extra cost\, but are not mandated to unless specifically needed for medical or safety reasons. Please note online registration is limited. If an activity says it is available but you receive an Online Registration Limit/Activity enrollment error it means the online spots have already been filled and you need to register at the pool. Additionally\, if it says “Call Facility\,” you must register at the pool. We apologize for the inconvenience. Participants will only be able to enroll in one lesson per session from home. If you want additional lessons you will need to register at the pool.
URL:https://thriveadaptive.org/event/spring-adaptive-swim-lessons-sat-sun-130pm-s2-8/
LOCATION:3704 Verdugo Road Los Angeles\, 3704 Verdugo Road Los Angeles\, CA\, 90065
END:VEVENT
BEGIN:VEVENT
DTSTART;TZID=UTC:20250223T140000
DTEND;TZID=UTC:20250223T142500
DTSTAMP:20260421T150750
CREATED:20250129T105628Z
LAST-MODIFIED:20250129T105659Z
UID:10000551-1740319200-1740320700@thriveadaptive.org
SUMMARY:Winter/Spring Adaptive Lessons
DESCRIPTION:Adaptive Aquatics is a swim lesson program open for adult and youth participants with disabilities. This is a group lesson\, where the instructor incorporates water safety and swimming fundamentals\, while accommodating the needs of each individual. Aids are encouraged to get in the water with their participant at no extra cost\, but are not mandated to unless specifically needed for medical or safety reasons. Please note online registration is limited. If an activity says it is available but you receive an Online Registration Limit/Activity enrollment error it means the online spots have already been filled and you need to register at the pool. Additionally\, if it says “Call Facility\,” you must register at the pool. We apologize for the inconvenience. Participants will only be able to enroll in one lesson per session from home. If you want additional lessons you will need to register at the pool.
URL:https://thriveadaptive.org/event/winter-spring-adaptive-lessons-8/
LOCATION:Gaffey St\, San Pedro\, 3601 S Gaffey St\, San Pedro\, CA\, 90731\, United States
END:VEVENT
BEGIN:VEVENT
DTSTART;TZID=UTC:20250223T150000
DTEND;TZID=UTC:20250223T152500
DTSTAMP:20260421T150750
CREATED:20250129T072919Z
LAST-MODIFIED:20250129T072950Z
UID:10000465-1740322800-1740324300@thriveadaptive.org
SUMMARY:Spring Youth Adaptive Lessons - Sat/Sun - S2
DESCRIPTION:Adaptive Aquatics is a swim lesson program open for adult and youth participants with disabilities. This is a group lesson\, where the instructor incorporates water safety and swimming fundamentals\, while accommodating the needs of each individual. Aids are encouraged to get in the water with their participant at no extra cost\, but are not mandated to unless specifically needed for medical or safety reasons. Please note online registration is limited. If an activity says it is available but you receive an Online Registration Limit/Activity enrollment error it means the online spots have already been filled and you need to register at the pool. Additionally\, if it says “Call Facility\,” you must register at the pool. We apologize for the inconvenience. Participants will only be able to enroll in one lesson per session from home. If you want additional lessons you will need to register at the pool.
URL:https://thriveadaptive.org/event/spring-youth-adaptive-lessons-sat-sun-s2-8/
LOCATION:Colton Street Los Angeles\, 1419 Colton Street\, Los Angeles\, CA\, 90026\, United States
END:VEVENT
BEGIN:VEVENT
DTSTART;TZID=UTC:20250223T153000
DTEND;TZID=UTC:20250223T155500
DTSTAMP:20260421T150750
CREATED:20250129T124149Z
LAST-MODIFIED:20250129T124224Z
UID:10000620-1740324600-1740326100@thriveadaptive.org
SUMMARY:Spring Adaptive Lesson - Sat/Sun - S2
DESCRIPTION:Adaptive Aquatics is a swim lesson program open for adult and youth participants with disabilities. This is a group lesson\, where the instructor incorporates water safety and swimming fundamentals\, while accommodating the needs of each individual. Aids are encouraged to get in the water with their participant at no extra cost\, but are not mandated to unless specifically needed for medical or safety reasons. Please note online registration is limited. If an activity says it is available but you receive an Online Registration Limit/Activity enrollment error it means the online spots have already been filled and you need to register at the pool. Additionally\, if it says “Call Facility\,” you must register at the pool. We apologize for the inconvenience. Participants will only be able to enroll in one lesson per session from home. If you want additional lessons you will need to register at the pool.
URL:https://thriveadaptive.org/event/spring-adaptive-lesson-sat-sun-s2-8/
LOCATION:Valley Blvd. Los Angeles\, 3501 Valley Blvd. Los Angeles\, CA\, 90031
END:VEVENT
BEGIN:VEVENT
DTSTART;TZID=UTC:20250223T163000
DTEND;TZID=UTC:20250223T163000
DTSTAMP:20260421T150750
CREATED:20250130T055734Z
LAST-MODIFIED:20250130T060841Z
UID:10000686-1740328200-1740328200@thriveadaptive.org
SUMMARY:Adaptive Shooting Clinic
DESCRIPTION:Apple Valley Gun Club and Triumph partnered to hold special adaptive shooting clinics for people with disabilities.
URL:https://thriveadaptive.org/event/adaptive-shooting-clinic/
LOCATION:Apple Valley Gun Club\,\, Apple Valley Gun Club 16699 Stoddard Wells Road Victorville\, CA 92395
ATTACH;FMTTYPE=image/jpeg:https://thriveadaptive.org/wp-content/uploads/2025/01/shooting.jpg
END:VEVENT
END:VCALENDAR