BEGIN:VCALENDAR
VERSION:2.0
PRODID:-//Thrive Adaptive - ECPv6.10.1.1//NONSGML v1.0//EN
CALSCALE:GREGORIAN
METHOD:PUBLISH
X-WR-CALNAME:Thrive Adaptive
X-ORIGINAL-URL:https://thriveadaptive.org
X-WR-CALDESC:Events for Thrive Adaptive
REFRESH-INTERVAL;VALUE=DURATION:PT1H
X-Robots-Tag:noindex
X-PUBLISHED-TTL:PT1H
BEGIN:VTIMEZONE
TZID:UTC
BEGIN:STANDARD
TZOFFSETFROM:+0000
TZOFFSETTO:+0000
TZNAME:UTC
DTSTART:20250101T000000
END:STANDARD
END:VTIMEZONE
BEGIN:VEVENT
DTSTART;TZID=UTC:20250222T083000
DTEND;TZID=UTC:20250222T093000
DTSTAMP:20260420T132829
CREATED:20250113T115352Z
LAST-MODIFIED:20250128T070937Z
UID:10000186-1740213000-1740216600@thriveadaptive.org
SUMMARY:Winter PlayLA Para Equestrian Lessons
DESCRIPTION:If you sign up for the Para Equestrian activities linked to Chatsworth it will be held at Ride On\, 10860 Topanga Canyon Blvd\, Chatsworth\, CA 91311. This program is specialized for youth with disabilities. Participation in this activity may require specific physical capabilities\, including but not limited to\, independent balance\, trunk strength\, or grasping. If you have any questions about participating\, please feel free to contact Irving Moreno at Irving.moreno@lacity.org.
URL:https://thriveadaptive.org/event/winter-playla-para-equestrian-lessons/
LOCATION:Devonshire Street Chatsworth\, 22360 Devonshire Street\, Chatsworth\, CA\, 91311\, United States
END:VEVENT
BEGIN:VEVENT
DTSTART;TZID=UTC:20250222T090000
DTEND;TZID=UTC:20250222T103000
DTSTAMP:20260420T132829
CREATED:20250128T061922Z
LAST-MODIFIED:20250128T072324Z
UID:10000216-1740214800-1740220200@thriveadaptive.org
SUMMARY:Winter PlayLA Adaptive Goalball Clinics
DESCRIPTION:
URL:https://thriveadaptive.org/event/winter-playla-adaptive-goalball-clinics-4/
LOCATION:South Western Ave Los Angeles\, 3916 South Western Ave\, Los Angeles\, CA\, 90062\, United States
END:VEVENT
BEGIN:VEVENT
DTSTART;TZID=UTC:20250222T123000
DTEND;TZID=UTC:20250222T125500
DTSTAMP:20260420T132829
CREATED:20250128T070323Z
LAST-MODIFIED:20250128T070400Z
UID:10000223-1740227400-1740228900@thriveadaptive.org
SUMMARY:Spring Adaptive
DESCRIPTION:Adaptive Aquatics is a swim lesson program open for adult and youth participants with disabilities. This is a group lesson\, where the instructor incorporates water safety and swimming fundamentals\, while accommodating the needs of each individual. Aids are encouraged to get in the water with their participant at no extra cost\, but are not mandated to unless specifically needed for medical or safety reasons. Please note online registration is limited. If an activity says it is available but you receive an Online Registration Limit/Activity enrollment error it means the online spots have already been filled and you need to register at the pool. Additionally\, if it says “Call Facility\,” you must register at the pool. We apologize for the inconvenience. Participants will only be able to enroll in one lesson per session from home. If you want additional lessons you will need to register at the pool.
URL:https://thriveadaptive.org/event/spring-adaptive-7/
LOCATION:Street Los Angeles\, 5931 W. 18th Street\, Los Angeles\, CA\, 90035\, United States
END:VEVENT
BEGIN:VEVENT
DTSTART;TZID=UTC:20250222T130000
DTEND;TZID=UTC:20250222T132500
DTSTAMP:20260420T132829
CREATED:20250130T110617Z
LAST-MODIFIED:20250130T110650Z
UID:10000741-1740229200-1740230700@thriveadaptive.org
SUMMARY:Spring Adaptive Swimmer Lesson - Sat/Sun - S2
DESCRIPTION:Adaptive Aquatics is a swim lesson program open for adult and youth participants with disabilities. This is a group lesson\, where the instructor incorporates water safety and swimming fundamentals\, while accommodating the needs of each individual. Aids are encouraged to get in the water with their participant at no extra cost\, but are not mandated to unless specifically needed for medical or safety reasons. Please note online registration is limited. If an activity says it is available but you receive an Online Registration Limit/Activity enrollment error it means the online spots have already been filled and you need to register at the pool. Additionally\, if it says “Call Facility\,” you must register at the pool. We apologize for the inconvenience. Participants will only be able to enroll in one lesson per session from home. If you want additional lessons you will need to register at the pool.
URL:https://thriveadaptive.org/event/spring-adaptive-swimmer-lesson-sat-sun-s2-7/
LOCATION:8120 Vanalden Ave. Reseda\, CA\, 91335\, 8120 Vanalden Ave.\, Reseda\, CA\, 91335\, United States
END:VEVENT
BEGIN:VEVENT
DTSTART;TZID=UTC:20250222T133000
DTEND;TZID=UTC:20250222T135500
DTSTAMP:20260420T132829
CREATED:20250128T083032Z
LAST-MODIFIED:20250128T083114Z
UID:10000246-1740231000-1740232500@thriveadaptive.org
SUMMARY:Spring Adaptive Beginner Lesson - Sat/Sun - S2
DESCRIPTION:Adaptive Aquatics is a swim lesson program open for adult and youth participants with disabilities. This is a group lesson\, where the instructor incorporates water safety and swimming fundamentals\, while accommodating the needs of each individual. Aids are encouraged to get in the water with their participant at no extra cost\, but are not mandated to unless specifically needed for medical or safety reasons. Please note online registration is limited. If an activity says it is available but you receive an Online Registration Limit/Activity enrollment error it means the online spots have already been filled and you need to register at the pool. Additionally\, if it says “Call Facility\,” you must register at the pool. We apologize for the inconvenience. Participants will only be able to enroll in one lesson per session from home. If you want additional lessons you will need to register at the pool.
URL:https://thriveadaptive.org/event/spring-adaptive-beginner-lesson-sat-sun-s2-7/
LOCATION:8120 Vanalden Ave. Reseda\, CA\, 91335\, 8120 Vanalden Ave.\, Reseda\, CA\, 91335\, United States
END:VEVENT
BEGIN:VEVENT
DTSTART;TZID=UTC:20250222T133000
DTEND;TZID=UTC:20250222T135500
DTSTAMP:20260420T132829
CREATED:20250129T061143Z
LAST-MODIFIED:20250129T061216Z
UID:10000419-1740231000-1740232500@thriveadaptive.org
SUMMARY:Spring Adaptive Swim Lessons - Sat/Sun - S2
DESCRIPTION:Adaptive Aquatics is a swim lesson program open for adult and youth participants with disabilities. This is a group lesson\, where the instructor incorporates water safety and swimming fundamentals\, while accommodating the needs of each individual. Aids are encouraged to get in the water with their participant at no extra cost\, but are not mandated to unless specifically needed for medical or safety reasons. Please note online registration is limited. If an activity says it is available but you receive an Online Registration Limit/Activity enrollment error it means the online spots have already been filled and you need to register at the pool. Additionally\, if it says “Call Facility\,” you must register at the pool. We apologize for the inconvenience. Participants will only be able to enroll in one lesson per session from home. If you want additional lessons you will need to register at the pool.
URL:https://thriveadaptive.org/event/spring-adaptive-swim-lessons-sat-sun-s2-7/
LOCATION:Mathews St\, 456 S. Mathews St.\, Los Angeles\, CA\, 90033\, United States
END:VEVENT
BEGIN:VEVENT
DTSTART;TZID=UTC:20250222T133000
DTEND;TZID=UTC:20250222T135500
DTSTAMP:20260420T132829
CREATED:20250129T082739Z
LAST-MODIFIED:20250129T082931Z
UID:10000504-1740231000-1740232500@thriveadaptive.org
SUMMARY:Spring Adaptive - Sat/Sun - 1:30PM - S2
DESCRIPTION:Adaptive Aquatics is a swim lesson program open for adult and youth participants with disabilities. This is a group lesson\, where the instructor incorporates water safety and swimming fundamentals\, while accommodating the needs of each individual. Aids are encouraged to get in the water with their participant at no extra cost\, but are not mandated to unless specifically needed for medical or safety reasons. Please note online registration is limited. If an activity says it is available but you receive an Online Registration Limit/Activity enrollment error it means the online spots have already been filled and you need to register at the pool. Additionally\, if it says “Call Facility\,” you must register at the pool. We apologize for the inconvenience. Participants will only be able to enroll in one lesson per session from home. If you want additional lessons you will need to register at the pool.
URL:https://thriveadaptive.org/event/spring-adaptive-sat-sun-130pm-s2-7/
LOCATION:Klamath St. Los Angeles\, 4721 Klamath St.\, Los Angeles\, CA\, 90032\, United States
END:VEVENT
BEGIN:VEVENT
DTSTART;TZID=UTC:20250222T133000
DTEND;TZID=UTC:20250222T135500
DTSTAMP:20260420T132829
CREATED:20250129T104327Z
LAST-MODIFIED:20250129T104417Z
UID:10000543-1740231000-1740232500@thriveadaptive.org
SUMMARY:Spring Adaptive Swim Lessons - Sat/Sun - 1:30PM - S2
DESCRIPTION:Adaptive Aquatics is a swim lesson program open for adult and youth participants with disabilities. This is a group lesson\, where the instructor incorporates water safety and swimming fundamentals\, while accommodating the needs of each individual. Aids are encouraged to get in the water with their participant at no extra cost\, but are not mandated to unless specifically needed for medical or safety reasons. Please note online registration is limited. If an activity says it is available but you receive an Online Registration Limit/Activity enrollment error it means the online spots have already been filled and you need to register at the pool. Additionally\, if it says “Call Facility\,” you must register at the pool. We apologize for the inconvenience. Participants will only be able to enroll in one lesson per session from home. If you want additional lessons you will need to register at the pool.
URL:https://thriveadaptive.org/event/spring-adaptive-swim-lessons-sat-sun-130pm-s2-7/
LOCATION:3704 Verdugo Road Los Angeles\, 3704 Verdugo Road Los Angeles\, CA\, 90065
END:VEVENT
BEGIN:VEVENT
DTSTART;TZID=UTC:20250222T140000
DTEND;TZID=UTC:20250222T142500
DTSTAMP:20260420T132829
CREATED:20250129T105539Z
LAST-MODIFIED:20250129T105611Z
UID:10000550-1740232800-1740234300@thriveadaptive.org
SUMMARY:Winter/Spring Adaptive Lessons
DESCRIPTION:Adaptive Aquatics is a swim lesson program open for adult and youth participants with disabilities. This is a group lesson\, where the instructor incorporates water safety and swimming fundamentals\, while accommodating the needs of each individual. Aids are encouraged to get in the water with their participant at no extra cost\, but are not mandated to unless specifically needed for medical or safety reasons. Please note online registration is limited. If an activity says it is available but you receive an Online Registration Limit/Activity enrollment error it means the online spots have already been filled and you need to register at the pool. Additionally\, if it says “Call Facility\,” you must register at the pool. We apologize for the inconvenience. Participants will only be able to enroll in one lesson per session from home. If you want additional lessons you will need to register at the pool.
URL:https://thriveadaptive.org/event/winter-spring-adaptive-lessons-7/
LOCATION:Gaffey St\, San Pedro\, 3601 S Gaffey St\, San Pedro\, CA\, 90731\, United States
END:VEVENT
BEGIN:VEVENT
DTSTART;TZID=UTC:20250222T150000
DTEND;TZID=UTC:20250222T152500
DTSTAMP:20260420T132829
CREATED:20250129T072823Z
LAST-MODIFIED:20250129T072901Z
UID:10000464-1740236400-1740237900@thriveadaptive.org
SUMMARY:Spring Youth Adaptive Lessons - Sat/Sun - S2
DESCRIPTION:Adaptive Aquatics is a swim lesson program open for adult and youth participants with disabilities. This is a group lesson\, where the instructor incorporates water safety and swimming fundamentals\, while accommodating the needs of each individual. Aids are encouraged to get in the water with their participant at no extra cost\, but are not mandated to unless specifically needed for medical or safety reasons. Please note online registration is limited. If an activity says it is available but you receive an Online Registration Limit/Activity enrollment error it means the online spots have already been filled and you need to register at the pool. Additionally\, if it says “Call Facility\,” you must register at the pool. We apologize for the inconvenience. Participants will only be able to enroll in one lesson per session from home. If you want additional lessons you will need to register at the pool.
URL:https://thriveadaptive.org/event/spring-youth-adaptive-lessons-sat-sun-s2-7/
LOCATION:Colton Street Los Angeles\, 1419 Colton Street\, Los Angeles\, CA\, 90026\, United States
END:VEVENT
BEGIN:VEVENT
DTSTART;TZID=UTC:20250222T153000
DTEND;TZID=UTC:20250222T155500
DTSTAMP:20260420T132829
CREATED:20250129T124100Z
LAST-MODIFIED:20250129T124132Z
UID:10000619-1740238200-1740239700@thriveadaptive.org
SUMMARY:Spring Adaptive Lesson - Sat/Sun - S2
DESCRIPTION:Adaptive Aquatics is a swim lesson program open for adult and youth participants with disabilities. This is a group lesson\, where the instructor incorporates water safety and swimming fundamentals\, while accommodating the needs of each individual. Aids are encouraged to get in the water with their participant at no extra cost\, but are not mandated to unless specifically needed for medical or safety reasons. Please note online registration is limited. If an activity says it is available but you receive an Online Registration Limit/Activity enrollment error it means the online spots have already been filled and you need to register at the pool. Additionally\, if it says “Call Facility\,” you must register at the pool. We apologize for the inconvenience. Participants will only be able to enroll in one lesson per session from home. If you want additional lessons you will need to register at the pool.
URL:https://thriveadaptive.org/event/spring-adaptive-lesson-sat-sun-s2-7/
LOCATION:Valley Blvd. Los Angeles\, 3501 Valley Blvd. Los Angeles\, CA\, 90031
END:VEVENT
END:VCALENDAR