BEGIN:VCALENDAR
VERSION:2.0
PRODID:-//Thrive Adaptive - ECPv6.10.1.1//NONSGML v1.0//EN
CALSCALE:GREGORIAN
METHOD:PUBLISH
X-ORIGINAL-URL:https://thriveadaptive.org
X-WR-CALDESC:Events for Thrive Adaptive
REFRESH-INTERVAL;VALUE=DURATION:PT1H
X-Robots-Tag:noindex
X-PUBLISHED-TTL:PT1H
BEGIN:VTIMEZONE
TZID:UTC
BEGIN:STANDARD
TZOFFSETFROM:+0000
TZOFFSETTO:+0000
TZNAME:UTC
DTSTART:20250101T000000
END:STANDARD
END:VTIMEZONE
BEGIN:VEVENT
DTSTART;TZID=UTC:20250220T160000
DTEND;TZID=UTC:20250220T162500
DTSTAMP:20260422T113659
CREATED:20250129T080901Z
LAST-MODIFIED:20250129T080950Z
UID:10000487-1740067200-1740068700@thriveadaptive.org
SUMMARY:Spring Adaptive - T/Th - 4:00PM - S2
DESCRIPTION:Adaptive Aquatics is a swim lesson program open for adult and youth participants with disabilities. This is a group lesson\, where the instructor incorporates water safety and swimming fundamentals\, while accommodating the needs of each individual. Aids are encouraged to get in the water with their participant at no extra cost\, but are not mandated to unless specifically needed for medical or safety reasons. Please note online registration is limited. If an activity says it is available but you receive an Online Registration Limit/Activity enrollment error it means the online spots have already been filled and you need to register at the pool. Additionally\, if it says “Call Facility\,” you must register at the pool. We apologize for the inconvenience. Participants will only be able to enroll in one lesson per session from home. If you want additional lessons you will need to register at the pool.
URL:https://thriveadaptive.org/event/spring-adaptive-t-th-400pm-s2-6/
LOCATION:Klamath St. Los Angeles\, 4721 Klamath St.\, Los Angeles\, CA\, 90032\, United States
END:VEVENT
BEGIN:VEVENT
DTSTART;TZID=UTC:20250220T160000
DTEND;TZID=UTC:20250220T162500
DTSTAMP:20260422T113659
CREATED:20250129T131402Z
LAST-MODIFIED:20250129T131442Z
UID:10000642-1740067200-1740068700@thriveadaptive.org
SUMMARY:Winter Adaptive Swim - Tue/Thur - 4pm - S2
DESCRIPTION:
URL:https://thriveadaptive.org/event/winter-adaptive-swim-tue-thur-4pm-s2-6/
LOCATION:5858 Shoup Ave.\, 5858 Shoup Ave. Woodland Hills\, CA\, 91367
END:VEVENT
BEGIN:VEVENT
DTSTART;TZID=UTC:20250220T170000
DTEND;TZID=UTC:20250220T172500
DTSTAMP:20260422T113659
CREATED:20250129T100236Z
LAST-MODIFIED:20250129T100304Z
UID:10000518-1740070800-1740072300@thriveadaptive.org
SUMMARY:Winter Adaptive Lessons - T/Th - S2
DESCRIPTION:Adaptive Aquatics is a swim lesson program open for adult and youth participants with disabilities. This is a group lesson\, where the instructor incorporates water safety and swimming fundamentals\, while accommodating the needs of each individual. Aids are encouraged to get in the water with their participant at no extra cost\, but are not mandated to unless specifically needed for medical or safety reasons. Please note online registration is limited. If an activity says it is available but you receive an Online Registration Limit/Activity enrollment error it means the online spots have already been filled and you need to register at the pool. Additionally\, if it says “Call Facility\,” you must register at the pool. We apologize for the inconvenience. Participants will only be able to enroll in one lesson per session from home. If you want additional lessons you will need to register at the pool.
URL:https://thriveadaptive.org/event/winter-adaptive-lessons-t-th-s2-6/
LOCATION:Huston Street Van Nuys\, 14201 Huston Street\, Van Nuys\, CA\, 91423\, United States
END:VEVENT
BEGIN:VEVENT
DTSTART;TZID=UTC:20250220T173000
DTEND;TZID=UTC:20250220T173000
DTSTAMP:20260422T113659
CREATED:20250130T054909Z
LAST-MODIFIED:20250130T055355Z
UID:10000685-1740072600-1740072600@thriveadaptive.org
SUMMARY:Cottage Rehab Life Series SCI Support Group
DESCRIPTION:Our Cottage Rehab SCI Support Group meets every 3rd Thursday of the month.
URL:https://thriveadaptive.org/event/cottage-rehab-life-series-sci-support-group/
LOCATION:Gracie Fisher Foundation\,\, Gracie Fisher Foundation Inclusive Arts Clubhouse La Cumbre Plaza\, 121 South Hope Avenue\, Santa Barbara\, CA 93105.
ATTACH;FMTTYPE=image/jpeg:https://thriveadaptive.org/wp-content/uploads/2025/01/Cottage-Group-Banner.jpg
END:VEVENT
BEGIN:VEVENT
DTSTART;TZID=UTC:20250220T173000
DTEND;TZID=UTC:20250220T175500
DTSTAMP:20260422T113659
CREATED:20250129T122334Z
LAST-MODIFIED:20250129T122406Z
UID:10000602-1740072600-1740074100@thriveadaptive.org
SUMMARY:Spring Adaptive Lesson - T/Th - S2
DESCRIPTION:Adaptive Aquatics is a swim lesson program open for adult and youth participants with disabilities. This is a group lesson\, where the instructor incorporates water safety and swimming fundamentals\, while accommodating the needs of each individual. Aids are encouraged to get in the water with their participant at no extra cost\, but are not mandated to unless specifically needed for medical or safety reasons. Please note online registration is limited. If an activity says it is available but you receive an Online Registration Limit/Activity enrollment error it means the online spots have already been filled and you need to register at the pool. Additionally\, if it says “Call Facility\,” you must register at the pool. We apologize for the inconvenience. Participants will only be able to enroll in one lesson per session from home. If you want additional lessons you will need to register at the pool.
URL:https://thriveadaptive.org/event/spring-adaptive-lesson-t-th-s2-6/
LOCATION:Valley Blvd. Los Angeles\, 3501 Valley Blvd. Los Angeles\, CA\, 90031
END:VEVENT
BEGIN:VEVENT
DTSTART;TZID=UTC:20250220T183000
DTEND;TZID=UTC:20250220T185500
DTSTAMP:20260422T113659
CREATED:20250128T081142Z
LAST-MODIFIED:20250128T081215Z
UID:10000237-1740076200-1740077700@thriveadaptive.org
SUMMARY:Spring Adaptive Beginner Lesson S2
DESCRIPTION:Adaptive Aquatics is a swim lesson program open for adult and youth participants with disabilities. This is a group lesson\, where the instructor incorporates water safety and swimming fundamentals\, while accommodating the needs of each individual. Aids are encouraged to get in the water with their participant at no extra cost\, but are not mandated to unless specifically needed for medical or safety reasons. Please note online registration is limited. If an activity says it is available but you receive an Online Registration Limit/Activity enrollment error it means the online spots have already been filled and you need to register at the pool. Additionally\, if it says “Call Facility\,” you must register at the pool. We apologize for the inconvenience. Participants will only be able to enroll in one lesson per session from home. If you want additional lessons you will need to register at the pool.
URL:https://thriveadaptive.org/event/spring-adaptive-beginner-lesson-s2-6/
LOCATION:8120 Vanalden Ave. Reseda\, CA\, 91335\, 8120 Vanalden Ave.\, Reseda\, CA\, 91335\, United States
END:VEVENT
BEGIN:VEVENT
DTSTART;TZID=UTC:20250220T183000
DTEND;TZID=UTC:20250220T185500
DTSTAMP:20260422T113659
CREATED:20250129T102104Z
LAST-MODIFIED:20250129T102143Z
UID:10000526-1740076200-1740077700@thriveadaptive.org
SUMMARY:Spring Adaptive Swim Lessons - T/Th - 6:30PM - S2
DESCRIPTION:Adaptive Aquatics is a swim lesson program open for adult and youth participants with disabilities. This is a group lesson\, where the instructor incorporates water safety and swimming fundamentals\, while accommodating the needs of each individual. Aids are encouraged to get in the water with their participant at no extra cost\, but are not mandated to unless specifically needed for medical or safety reasons. Please note online registration is limited. If an activity says it is available but you receive an Online Registration Limit/Activity enrollment error it means the online spots have already been filled and you need to register at the pool. Additionally\, if it says “Call Facility\,” you must register at the pool. We apologize for the inconvenience. Participants will only be able to enroll in one lesson per session from home. If you want additional lessons you will need to register at the pool.
URL:https://thriveadaptive.org/event/spring-adaptive-swim-lessons-t-th-630pm-s2-6/
LOCATION:3704 Verdugo Road Los Angeles\, 3704 Verdugo Road Los Angeles\, CA\, 90065
END:VEVENT
BEGIN:VEVENT
DTSTART;TZID=UTC:20250220T183000
DTEND;TZID=UTC:20250220T185500
DTSTAMP:20260422T113659
CREATED:20250129T114800Z
LAST-MODIFIED:20250129T114827Z
UID:10000579-1740076200-1740077700@thriveadaptive.org
SUMMARY:Spring Adaptive Swim Lessons - T/Th - S2
DESCRIPTION:
URL:https://thriveadaptive.org/event/spring-adaptive-swim-lessons-t-th-s2-6/
LOCATION:Cole Ave. Los Angeles\, 1122 Cole Ave. Los Angeles\, CA\, 90038
END:VEVENT
BEGIN:VEVENT
DTSTART;TZID=UTC:20250220T183000
DTEND;TZID=UTC:20250220T185500
DTSTAMP:20260422T113659
CREATED:20250130T101730Z
LAST-MODIFIED:20250130T102035Z
UID:10000715-1740076200-1740077700@thriveadaptive.org
SUMMARY:Spring Youth Adaptive Lessons - Tue/Th - 6:30PM - S2
DESCRIPTION:Adaptive Aquatics is a swim lesson program open for adult and youth participants with disabilities. This is a group lesson\, where the instructor incorporates water safety and swimming fundamentals\, while accommodating the needs of each individual. Aids are encouraged to get in the water with their participant at no extra cost\, but are not mandated to unless specifically needed for medical or safety reasons. Please note online registration is limited. If an activity says it is available but you receive an Online Registration Limit/Activity enrollment error it means the online spots have already been filled and you need to register at the pool. Additionally\, if it says “Call Facility\,” you must register at the pool. We apologize for the inconvenience. Participants will only be able to enroll in one lesson per session from home. If you want additional lessons you will need to register at the pool.
URL:https://thriveadaptive.org/event/spring-youth-adaptive-lessons-tue-th-630pm-s2-5/
LOCATION:Yosemite Dr Los Angeles\, 1840 Yosemite Dr\, Los Angeles\, CA\, 90041\, United States
END:VEVENT
END:VCALENDAR