BEGIN:VCALENDAR
VERSION:2.0
PRODID:-//Thrive Adaptive - ECPv6.10.1.1//NONSGML v1.0//EN
CALSCALE:GREGORIAN
METHOD:PUBLISH
X-ORIGINAL-URL:https://thriveadaptive.org
X-WR-CALDESC:Events for Thrive Adaptive
REFRESH-INTERVAL;VALUE=DURATION:PT1H
X-Robots-Tag:noindex
X-PUBLISHED-TTL:PT1H
BEGIN:VTIMEZONE
TZID:UTC
BEGIN:STANDARD
TZOFFSETFROM:+0000
TZOFFSETTO:+0000
TZNAME:UTC
DTSTART:20250101T000000
END:STANDARD
END:VTIMEZONE
BEGIN:VEVENT
DTSTART;TZID=UTC:20250210T093000
DTEND;TZID=UTC:20250210T103000
DTSTAMP:20260422T113618
CREATED:20250129T155408Z
LAST-MODIFIED:20250130T072607Z
UID:10000677-1739179800-1739183400@thriveadaptive.org
SUMMARY:Boys and Girls Club Monday Morning Sports
DESCRIPTION:
URL:https://thriveadaptive.org/event/boys-and-girls-club-monday-morning-sports-5/
LOCATION:Boys and Girls Club Yucca Valley\, 56525 Little League DriveYucca Valley\, CA\, 92284United States
ATTACH;FMTTYPE=image/png:https://thriveadaptive.org/wp-content/uploads/2025/01/BoysandGirlsClubMondayeng.png
END:VEVENT
BEGIN:VEVENT
DTSTART;TZID=UTC:20250210T133000
DTEND;TZID=UTC:20250210T143000
DTSTAMP:20260422T113618
CREATED:20250128T105957Z
LAST-MODIFIED:20250128T110038Z
UID:10000292-1739194200-1739197800@thriveadaptive.org
SUMMARY:Winter VIP Basketball - Sundays (Jersey Included) - Youth/Teen
DESCRIPTION:
URL:https://thriveadaptive.org/event/winter-vip-basketball-sundays-jersey-included-youth-teen-12/
LOCATION:Burbank Blvd Encino\, 17015 Burbank Blvd\, Encino\, CA\, 91316\, United States
END:VEVENT
BEGIN:VEVENT
DTSTART;TZID=UTC:20250210T133000
DTEND;TZID=UTC:20250210T143000
DTSTAMP:20260422T113618
CREATED:20250128T112708Z
LAST-MODIFIED:20250128T112738Z
UID:10000309-1739194200-1739197800@thriveadaptive.org
SUMMARY:Winter VIP Basketball - Sundays (No Jersey) - Youth/Teen
DESCRIPTION:
URL:https://thriveadaptive.org/event/winter-vip-basketball-sundays-no-jersey-youth-teen-12/
LOCATION:Burbank Blvd Encino\, 17015 Burbank Blvd\, Encino\, CA\, 91316\, United States
END:VEVENT
BEGIN:VEVENT
DTSTART;TZID=UTC:20250210T133500
DTEND;TZID=UTC:20250210T143500
DTSTAMP:20260422T113618
CREATED:20250128T100009Z
LAST-MODIFIED:20250128T100053Z
UID:10000258-1739194500-1739198100@thriveadaptive.org
SUMMARY:Winter VIP Basketball - Saturdays (Jersey Included) - Youth/Teen
DESCRIPTION:
URL:https://thriveadaptive.org/event/winter-vip-basketball-saturdays-jersey-included-youth-teen-12/
LOCATION:Burbank Blvd Encino\, 17015 Burbank Blvd\, Encino\, CA\, 91316\, United States
END:VEVENT
BEGIN:VEVENT
DTSTART;TZID=UTC:20250210T133500
DTEND;TZID=UTC:20250210T143500
DTSTAMP:20260422T113618
CREATED:20250128T103100Z
LAST-MODIFIED:20250128T103149Z
UID:10000275-1739194500-1739198100@thriveadaptive.org
SUMMARY:Winter VIP Basketball - Saturdays (No Jersey) - Youth/Teen
DESCRIPTION:
URL:https://thriveadaptive.org/event/winter-vip-basketball-saturdays-no-jersey-youth-teen-12/
LOCATION:Burbank Blvd Encino\, 17015 Burbank Blvd\, Encino\, CA\, 91316\, United States
END:VEVENT
BEGIN:VEVENT
DTSTART;TZID=UTC:20250210T133500
DTEND;TZID=UTC:20250210T143500
DTSTAMP:20260422T113618
CREATED:20250128T115635Z
LAST-MODIFIED:20250128T115721Z
UID:10000326-1739194500-1739198100@thriveadaptive.org
SUMMARY:Winter VIP Basketball - Saturdays (Jersey Included) - Adults
DESCRIPTION:
URL:https://thriveadaptive.org/event/winter-vip-basketball-saturdays-jersey-included-adults-12/
LOCATION:Burbank Blvd Encino\, 17015 Burbank Blvd\, Encino\, CA\, 91316\, United States
END:VEVENT
BEGIN:VEVENT
DTSTART;TZID=UTC:20250210T133500
DTEND;TZID=UTC:20250210T143500
DTSTAMP:20260422T113618
CREATED:20250128T121928Z
LAST-MODIFIED:20250128T122009Z
UID:10000343-1739194500-1739198100@thriveadaptive.org
SUMMARY:Winter VIP Basketball - Saturdays (No Jersey) - Adult
DESCRIPTION:
URL:https://thriveadaptive.org/event/winter-vip-basketball-saturdays-no-jersey-adult-12/
LOCATION:Burbank Blvd Encino\, 17015 Burbank Blvd\, Encino\, CA\, 91316\, United States
END:VEVENT
BEGIN:VEVENT
DTSTART;TZID=UTC:20250210T133500
DTEND;TZID=UTC:20250210T143500
DTSTAMP:20260422T113618
CREATED:20250128T124359Z
LAST-MODIFIED:20250128T124441Z
UID:10000360-1739194500-1739198100@thriveadaptive.org
SUMMARY:Winter VIP Basketball - Sundays (Jersey Included) - Adults
DESCRIPTION:
URL:https://thriveadaptive.org/event/winter-vip-basketball-sundays-jersey-included-adults-12/
LOCATION:Burbank Blvd Encino\, 17015 Burbank Blvd\, Encino\, CA\, 91316\, United States
END:VEVENT
BEGIN:VEVENT
DTSTART;TZID=UTC:20250210T133500
DTEND;TZID=UTC:20250210T143500
DTSTAMP:20260422T113618
CREATED:20250128T131221Z
LAST-MODIFIED:20250128T131255Z
UID:10000377-1739194500-1739198100@thriveadaptive.org
SUMMARY:Winter VIP Basketball - Sundays (No Jersey) - Adult
DESCRIPTION:
URL:https://thriveadaptive.org/event/winter-vip-basketball-sundays-no-jersey-adult-12/
LOCATION:Burbank Blvd Encino\, 17015 Burbank Blvd\, Encino\, CA\, 91316\, United States
END:VEVENT
BEGIN:VEVENT
DTSTART;TZID=UTC:20250210T153000
DTEND;TZID=UTC:20250210T153000
DTSTAMP:20260422T113618
CREATED:20250130T045638Z
LAST-MODIFIED:20250130T050321Z
UID:10000680-1739201400-1739201400@thriveadaptive.org
SUMMARY:Scripps Rehabilitation SCI Life Series Group
DESCRIPTION:Join us at our new SCI Life Series Group in Encinitas at Scripps Rehabilitation Services every 2nd Monday of the month.
URL:https://thriveadaptive.org/event/scripps-rehabilitation-sci-life-series-group/
LOCATION:Scripps Encinitas\, Rehabilitation Services 1092 N. El Camino Real Encinitas\, CA 92024
ATTACH;FMTTYPE=image/jpeg:https://thriveadaptive.org/wp-content/uploads/2025/01/Scripps-Group-Banner.jpg
END:VEVENT
BEGIN:VEVENT
DTSTART;TZID=UTC:20250210T173000
DTEND;TZID=UTC:20250210T183000
DTSTAMP:20260422T113618
CREATED:20250129T154839Z
LAST-MODIFIED:20250130T073115Z
UID:10000673-1739208600-1739212200@thriveadaptive.org
SUMMARY:Adaptive Archery
DESCRIPTION:
URL:https://thriveadaptive.org/event/adaptive-archery-5/
LOCATION:Robinhood Archery Academy & Games\, 45435 Van Buren Street\, Indio\, CA\, 92201United States\, CA
ATTACH;FMTTYPE=image/png:https://thriveadaptive.org/wp-content/uploads/2025/01/Archeryenglish.png
END:VEVENT
END:VCALENDAR