BEGIN:VCALENDAR
VERSION:2.0
PRODID:-//Thrive Adaptive - ECPv6.10.1.1//NONSGML v1.0//EN
CALSCALE:GREGORIAN
METHOD:PUBLISH
X-WR-CALNAME:Thrive Adaptive
X-ORIGINAL-URL:https://thriveadaptive.org
X-WR-CALDESC:Events for Thrive Adaptive
REFRESH-INTERVAL;VALUE=DURATION:PT1H
X-Robots-Tag:noindex
X-PUBLISHED-TTL:PT1H
BEGIN:VTIMEZONE
TZID:UTC
BEGIN:STANDARD
TZOFFSETFROM:+0000
TZOFFSETTO:+0000
TZNAME:UTC
DTSTART:20250101T000000
END:STANDARD
END:VTIMEZONE
BEGIN:VEVENT
DTSTART;TZID=UTC:20250207T153000
DTEND;TZID=UTC:20250207T155500
DTSTAMP:20260420T132830
CREATED:20250129T065049Z
LAST-MODIFIED:20250129T065136Z
UID:10000438-1738942200-1738943700@thriveadaptive.org
SUMMARY:Spring Adaptive Lesson - Tue-Fri - S2
DESCRIPTION:Adaptive Aquatics is a swim lesson program open for adult and youth participants with disabilities. This is a group lesson\, where the instructor incorporates water safety and swimming fundamentals\, while accommodating the needs of each individual. Aids are encouraged to get in the water with their participant at no extra cost\, but are not mandated to unless specifically needed for medical or safety reasons. Please note online registration is limited. If an activity says it is available but you receive an Online Registration Limit/Activity enrollment error it means the online spots have already been filled and you need to register at the pool. Additionally\, if it says “Call Facility\,” you must register at the pool. We apologize for the inconvenience. Participants will only be able to enroll in one lesson per session from home. If you want additional lessons you will need to register at the pool.
URL:https://thriveadaptive.org/event/spring-adaptive-lesson-tue-fri-s2-4/
LOCATION:W. Pico Blvd Los Angeles\, 4526 W. Pico Blvd\, Los Angeles\, CA\, 90019\, United States
END:VEVENT
BEGIN:VEVENT
DTSTART;TZID=UTC:20250207T160000
DTEND;TZID=UTC:20250207T162500
DTSTAMP:20260420T132830
CREATED:20250129T055554Z
LAST-MODIFIED:20250129T055625Z
UID:10000406-1738944000-1738945500@thriveadaptive.org
SUMMARY:Spring Adaptive Swim Lessons S2
DESCRIPTION:Adaptive Aquatics is a swim lesson program open for adult and youth participants with disabilities. This is a group lesson\, where the instructor incorporates water safety and swimming fundamentals\, while accommodating the needs of each individual. Aids are encouraged to get in the water with their participant at no extra cost\, but are not mandated to unless specifically needed for medical or safety reasons. Please note online registration is limited. If an activity says it is available but you receive an Online Registration Limit/Activity enrollment error it means the online spots have already been filled and you need to register at the pool. Additionally\, if it says “Call Facility\,” you must register at the pool. We apologize for the inconvenience. Participants will only be able to enroll in one lesson per session from home. If you want additional lessons you will need to register at the pool.
URL:https://thriveadaptive.org/event/spring-adaptive-swim-lessons-s2-2/
LOCATION:Mathews St\, 456 S. Mathews St.\, Los Angeles\, CA\, 90033\, United States
END:VEVENT
BEGIN:VEVENT
DTSTART;TZID=UTC:20250207T160000
DTEND;TZID=UTC:20250207T162500
DTSTAMP:20260420T132830
CREATED:20250129T081416Z
LAST-MODIFIED:20250129T081451Z
UID:10000491-1738944000-1738945500@thriveadaptive.org
SUMMARY:Spring Adaptive - Wed/Fri - 4:00PM - S2
DESCRIPTION:Adaptive Aquatics is a swim lesson program open for adult and youth participants with disabilities. This is a group lesson\, where the instructor incorporates water safety and swimming fundamentals\, while accommodating the needs of each individual. Aids are encouraged to get in the water with their participant at no extra cost\, but are not mandated to unless specifically needed for medical or safety reasons. Please note online registration is limited. If an activity says it is available but you receive an Online Registration Limit/Activity enrollment error it means the online spots have already been filled and you need to register at the pool. Additionally\, if it says “Call Facility\,” you must register at the pool. We apologize for the inconvenience. Participants will only be able to enroll in one lesson per session from home. If you want additional lessons you will need to register at the pool.
URL:https://thriveadaptive.org/event/spring-adaptive-wed-fri-400pm-s2-2/
LOCATION:Klamath St. Los Angeles\, 4721 Klamath St.\, Los Angeles\, CA\, 90032\, United States
END:VEVENT
BEGIN:VEVENT
DTSTART;TZID=UTC:20250207T160000
DTEND;TZID=UTC:20250207T162500
DTSTAMP:20260420T132830
CREATED:20250129T102601Z
LAST-MODIFIED:20250129T102638Z
UID:10000530-1738944000-1738945500@thriveadaptive.org
SUMMARY:Spring Adaptive Swim Lessons - W/F - 4:00PM - S2
DESCRIPTION:Adaptive Aquatics is a swim lesson program open for adult and youth participants with disabilities. This is a group lesson\, where the instructor incorporates water safety and swimming fundamentals\, while accommodating the needs of each individual. Aids are encouraged to get in the water with their participant at no extra cost\, but are not mandated to unless specifically needed for medical or safety reasons. Please note online registration is limited. If an activity says it is available but you receive an Online Registration Limit/Activity enrollment error it means the online spots have already been filled and you need to register at the pool. Additionally\, if it says “Call Facility\,” you must register at the pool. We apologize for the inconvenience. Participants will only be able to enroll in one lesson per session from home. If you want additional lessons you will need to register at the pool.
URL:https://thriveadaptive.org/event/spring-adaptive-swim-lessons-w-f-400pm-s2-2/
LOCATION:3704 Verdugo Road Los Angeles\, 3704 Verdugo Road Los Angeles\, CA\, 90065
END:VEVENT
BEGIN:VEVENT
DTSTART;TZID=UTC:20250207T160000
DTEND;TZID=UTC:20250207T162500
DTSTAMP:20260420T132830
CREATED:20250129T131858Z
LAST-MODIFIED:20250129T131931Z
UID:10000646-1738944000-1738945500@thriveadaptive.org
SUMMARY:Winter Adaptive Swim - Wed/Fri - 4pm - S2
DESCRIPTION:
URL:https://thriveadaptive.org/event/winter-adaptive-swim-wed-fri-4pm-s2-2/
LOCATION:5858 Shoup Ave.\, 5858 Shoup Ave. Woodland Hills\, CA\, 91367
END:VEVENT
BEGIN:VEVENT
DTSTART;TZID=UTC:20250207T163000
DTEND;TZID=UTC:20250207T165500
DTSTAMP:20260420T132830
CREATED:20250129T111427Z
LAST-MODIFIED:20250129T111508Z
UID:10000560-1738945800-1738947300@thriveadaptive.org
SUMMARY:Spring Adaptive Lessons - W/F - S2
DESCRIPTION:Adaptive Aquatics is a swim lesson program open for adult and youth participants with disabilities. This is a group lesson\, where the instructor incorporates water safety and swimming fundamentals\, while accommodating the needs of each individual. Aids are encouraged to get in the water with their participant at no extra cost\, but are not mandated to unless specifically needed for medical or safety reasons. Please note online registration is limited. If an activity says it is available but you receive an Online Registration Limit/Activity enrollment error it means the online spots have already been filled and you need to register at the pool. Additionally\, if it says “Call Facility\,” you must register at the pool. We apologize for the inconvenience. Participants will only be able to enroll in one lesson per session from home. If you want additional lessons you will need to register at the pool.
URL:https://thriveadaptive.org/event/spring-adaptive-lessons-w-f-s2-2/
LOCATION:Hoover St Los Angeles\, 8800 S. Hoover St Los Angeles\, CA\, 90044
END:VEVENT
BEGIN:VEVENT
DTSTART;TZID=UTC:20250207T180000
DTEND;TZID=UTC:20250207T182500
DTSTAMP:20260420T132830
CREATED:20250129T052136Z
LAST-MODIFIED:20250129T052216Z
UID:10000391-1738951200-1738952700@thriveadaptive.org
SUMMARY:Spring Adaptive Swim S2
DESCRIPTION:Adaptive Aquatics is a swim lesson program open for adult and youth participants with disabilities. This is a group lesson\, where the instructor incorporates water safety and swimming fundamentals\, while accommodating the needs of each individual. Aids are encouraged to get in the water with their participant at no extra cost\, but are not mandated to unless specifically needed for medical or safety reasons. Please note online registration is limited. If an activity says it is available but you receive an Online Registration Limit/Activity enrollment error it means the online spots have already been filled and you need to register at the pool. Additionally\, if it says “Call Facility\,” you must register at the pool. We apologize for the inconvenience. Participants will only be able to enroll in one lesson per session from home. If you want additional lessons you will need to register at the pool.
URL:https://thriveadaptive.org/event/spring-adaptive-swim-s2-2/
LOCATION:Obama Blvd\, 5001 Obama Blvd.\, Los Angeles\, CA\, 90016\, United States
END:VEVENT
BEGIN:VEVENT
DTSTART;TZID=UTC:20250207T180000
DTEND;TZID=UTC:20250207T182500
DTSTAMP:20260420T132830
CREATED:20250129T071037Z
LAST-MODIFIED:20250129T071116Z
UID:10000451-1738951200-1738952700@thriveadaptive.org
SUMMARY:Spring Youth Adaptive Lessons - Wed/Fri - S2
DESCRIPTION:Adaptive Aquatics is a swim lesson program open for adult and youth participants with disabilities. This is a group lesson\, where the instructor incorporates water safety and swimming fundamentals\, while accommodating the needs of each individual. Aids are encouraged to get in the water with their participant at no extra cost\, but are not mandated to unless specifically needed for medical or safety reasons. Please note online registration is limited. If an activity says it is available but you receive an Online Registration Limit/Activity enrollment error it means the online spots have already been filled and you need to register at the pool. Additionally\, if it says “Call Facility\,” you must register at the pool. We apologize for the inconvenience. Participants will only be able to enroll in one lesson per session from home. If you want additional lessons you will need to register at the pool.
URL:https://thriveadaptive.org/event/spring-youth-adaptive-lessons-wed-fri-s2-2/
LOCATION:Colton Street Los Angeles\, 1419 Colton Street\, Los Angeles\, CA\, 90026\, United States
END:VEVENT
BEGIN:VEVENT
DTSTART;TZID=UTC:20250207T180000
DTEND;TZID=UTC:20250207T182500
DTSTAMP:20260420T132830
CREATED:20250129T122827Z
LAST-MODIFIED:20250129T122907Z
UID:10000606-1738951200-1738952700@thriveadaptive.org
SUMMARY:Spring Adaptive Lesson - W/F - S2
DESCRIPTION:Adaptive Aquatics is a swim lesson program open for adult and youth participants with disabilities. This is a group lesson\, where the instructor incorporates water safety and swimming fundamentals\, while accommodating the needs of each individual. Aids are encouraged to get in the water with their participant at no extra cost\, but are not mandated to unless specifically needed for medical or safety reasons. Please note online registration is limited. If an activity says it is available but you receive an Online Registration Limit/Activity enrollment error it means the online spots have already been filled and you need to register at the pool. Additionally\, if it says “Call Facility\,” you must register at the pool. We apologize for the inconvenience. Participants will only be able to enroll in one lesson per session from home. If you want additional lessons you will need to register at the pool.
URL:https://thriveadaptive.org/event/spring-adaptive-lesson-w-f-s2-2/
LOCATION:Valley Blvd. Los Angeles\, 3501 Valley Blvd. Los Angeles\, CA\, 90031
END:VEVENT
BEGIN:VEVENT
DTSTART;TZID=UTC:20250207T183000
DTEND;TZID=UTC:20250207T185500
DTSTAMP:20260420T132830
CREATED:20250130T105448Z
LAST-MODIFIED:20250130T105519Z
UID:10000728-1738953000-1738954500@thriveadaptive.org
SUMMARY:Spring Adaptive Swimmer Lesson - W/F - S2
DESCRIPTION:Adaptive Aquatics is a swim lesson program open for adult and youth participants with disabilities. This is a group lesson\, where the instructor incorporates water safety and swimming fundamentals\, while accommodating the needs of each individual. Aids are encouraged to get in the water with their participant at no extra cost\, but are not mandated to unless specifically needed for medical or safety reasons. Please note online registration is limited. If an activity says it is available but you receive an Online Registration Limit/Activity enrollment error it means the online spots have already been filled and you need to register at the pool. Additionally\, if it says “Call Facility\,” you must register at the pool. We apologize for the inconvenience. Participants will only be able to enroll in one lesson per session from home. If you want additional lessons you will need to register at the pool.
URL:https://thriveadaptive.org/event/spring-adaptive-swimmer-lesson-w-f-s2-2/
LOCATION:8120 Vanalden Ave. Reseda\, CA\, 91335\, 8120 Vanalden Ave.\, Reseda\, CA\, 91335\, United States
END:VEVENT
END:VCALENDAR