BEGIN:VCALENDAR
VERSION:2.0
PRODID:-//Thrive Adaptive - ECPv6.10.1.1//NONSGML v1.0//EN
CALSCALE:GREGORIAN
METHOD:PUBLISH
X-WR-CALNAME:Thrive Adaptive
X-ORIGINAL-URL:https://thriveadaptive.org
X-WR-CALDESC:Events for Thrive Adaptive
REFRESH-INTERVAL;VALUE=DURATION:PT1H
X-Robots-Tag:noindex
X-PUBLISHED-TTL:PT1H
BEGIN:VTIMEZONE
TZID:UTC
BEGIN:STANDARD
TZOFFSETFROM:+0000
TZOFFSETTO:+0000
TZNAME:UTC
DTSTART:20250101T000000
END:STANDARD
END:VTIMEZONE
BEGIN:VEVENT
DTSTART;TZID=UTC:20250206T103000
DTEND;TZID=UTC:20250206T120000
DTSTAMP:20260420T163947
CREATED:20250103T042711Z
LAST-MODIFIED:20250103T043714Z
UID:10000163-1738837800-1738843200@thriveadaptive.org
SUMMARY:2/6 | Angel City Sports: Adaptive Golf Clinic
DESCRIPTION:Join our community partners from Angel City Sports for their monthly adaptive golf clinic at Westchester Golf Course in Los Angeles. No experience is necessary. The event is appropriate for people of all ages and skill levels. Volunteers and participants can learn more and register here.
URL:https://thriveadaptive.org/event/2-6-angel-city-sports-adaptive-golf-clinic/
LOCATION:Westchester Golf Course\, 6900 W Manchester Ave\, Los Angeles\, CA\, 90045\, United States
CATEGORIES:Adaptive Golf,Adaptive Sports Clinics
ATTACH;FMTTYPE=image/png:https://thriveadaptive.org/wp-content/uploads/2023/11/acs-golf-pic.png
END:VEVENT
BEGIN:VEVENT
DTSTART;TZID=UTC:20250206T153000
DTEND;TZID=UTC:20250206T155500
DTSTAMP:20260420T163947
CREATED:20250129T064951Z
LAST-MODIFIED:20250129T065029Z
UID:10000437-1738855800-1738857300@thriveadaptive.org
SUMMARY:Spring Adaptive Lesson - Tue-Fri - S2
DESCRIPTION:Adaptive Aquatics is a swim lesson program open for adult and youth participants with disabilities. This is a group lesson\, where the instructor incorporates water safety and swimming fundamentals\, while accommodating the needs of each individual. Aids are encouraged to get in the water with their participant at no extra cost\, but are not mandated to unless specifically needed for medical or safety reasons. Please note online registration is limited. If an activity says it is available but you receive an Online Registration Limit/Activity enrollment error it means the online spots have already been filled and you need to register at the pool. Additionally\, if it says “Call Facility\,” you must register at the pool. We apologize for the inconvenience. Participants will only be able to enroll in one lesson per session from home. If you want additional lessons you will need to register at the pool.
URL:https://thriveadaptive.org/event/spring-adaptive-lesson-tue-fri-s2-3/
LOCATION:W. Pico Blvd Los Angeles\, 4526 W. Pico Blvd\, Los Angeles\, CA\, 90019\, United States
END:VEVENT
BEGIN:VEVENT
DTSTART;TZID=UTC:20250206T160000
DTEND;TZID=UTC:20250206T162500
DTSTAMP:20260420T163947
CREATED:20250129T080540Z
LAST-MODIFIED:20250129T080614Z
UID:10000483-1738857600-1738859100@thriveadaptive.org
SUMMARY:Spring Adaptive - T/Th - 4:00PM - S2
DESCRIPTION:Adaptive Aquatics is a swim lesson program open for adult and youth participants with disabilities. This is a group lesson\, where the instructor incorporates water safety and swimming fundamentals\, while accommodating the needs of each individual. Aids are encouraged to get in the water with their participant at no extra cost\, but are not mandated to unless specifically needed for medical or safety reasons. Please note online registration is limited. If an activity says it is available but you receive an Online Registration Limit/Activity enrollment error it means the online spots have already been filled and you need to register at the pool. Additionally\, if it says “Call Facility\,” you must register at the pool. We apologize for the inconvenience. Participants will only be able to enroll in one lesson per session from home. If you want additional lessons you will need to register at the pool.
URL:https://thriveadaptive.org/event/spring-adaptive-t-th-400pm-s2-2/
LOCATION:Klamath St. Los Angeles\, 4721 Klamath St.\, Los Angeles\, CA\, 90032\, United States
END:VEVENT
BEGIN:VEVENT
DTSTART;TZID=UTC:20250206T160000
DTEND;TZID=UTC:20250206T162500
DTSTAMP:20260420T163947
CREATED:20250129T131001Z
LAST-MODIFIED:20250129T131039Z
UID:10000638-1738857600-1738859100@thriveadaptive.org
SUMMARY:Winter Adaptive Swim - Tue/Thur - 4pm - S2
DESCRIPTION:
URL:https://thriveadaptive.org/event/winter-adaptive-swim-tue-thur-4pm-s2-2/
LOCATION:5858 Shoup Ave.\, 5858 Shoup Ave. Woodland Hills\, CA\, 91367
END:VEVENT
BEGIN:VEVENT
DTSTART;TZID=UTC:20250206T170000
DTEND;TZID=UTC:20250206T172500
DTSTAMP:20260420T163947
CREATED:20250129T095854Z
LAST-MODIFIED:20250129T095928Z
UID:10000514-1738861200-1738862700@thriveadaptive.org
SUMMARY:Winter Adaptive Lessons - T/Th - S2
DESCRIPTION:Adaptive Aquatics is a swim lesson program open for adult and youth participants with disabilities. This is a group lesson\, where the instructor incorporates water safety and swimming fundamentals\, while accommodating the needs of each individual. Aids are encouraged to get in the water with their participant at no extra cost\, but are not mandated to unless specifically needed for medical or safety reasons. Please note online registration is limited. If an activity says it is available but you receive an Online Registration Limit/Activity enrollment error it means the online spots have already been filled and you need to register at the pool. Additionally\, if it says “Call Facility\,” you must register at the pool. We apologize for the inconvenience. Participants will only be able to enroll in one lesson per session from home. If you want additional lessons you will need to register at the pool.
URL:https://thriveadaptive.org/event/winter-adaptive-lessons-t-th-s2-2/
LOCATION:Huston Street Van Nuys\, 14201 Huston Street\, Van Nuys\, CA\, 91423\, United States
END:VEVENT
BEGIN:VEVENT
DTSTART;TZID=UTC:20250206T173000
DTEND;TZID=UTC:20250206T175500
DTSTAMP:20260420T163947
CREATED:20250129T121813Z
LAST-MODIFIED:20250129T121849Z
UID:10000598-1738863000-1738864500@thriveadaptive.org
SUMMARY:Spring Adaptive Lesson - T/Th - S2
DESCRIPTION:Adaptive Aquatics is a swim lesson program open for adult and youth participants with disabilities. This is a group lesson\, where the instructor incorporates water safety and swimming fundamentals\, while accommodating the needs of each individual. Aids are encouraged to get in the water with their participant at no extra cost\, but are not mandated to unless specifically needed for medical or safety reasons. Please note online registration is limited. If an activity says it is available but you receive an Online Registration Limit/Activity enrollment error it means the online spots have already been filled and you need to register at the pool. Additionally\, if it says “Call Facility\,” you must register at the pool. We apologize for the inconvenience. Participants will only be able to enroll in one lesson per session from home. If you want additional lessons you will need to register at the pool.
URL:https://thriveadaptive.org/event/spring-adaptive-lesson-t-th-s2-2/
LOCATION:Valley Blvd. Los Angeles\, 3501 Valley Blvd. Los Angeles\, CA\, 90031
END:VEVENT
BEGIN:VEVENT
DTSTART;TZID=UTC:20250206T183000
DTEND;TZID=UTC:20250206T185500
DTSTAMP:20260420T163947
CREATED:20250128T080345Z
LAST-MODIFIED:20250128T080447Z
UID:10000233-1738866600-1738868100@thriveadaptive.org
SUMMARY:Spring Adaptive Beginner Lesson S2
DESCRIPTION:Adaptive Aquatics is a swim lesson program open for adult and youth participants with disabilities. This is a group lesson\, where the instructor incorporates water safety and swimming fundamentals\, while accommodating the needs of each individual. Aids are encouraged to get in the water with their participant at no extra cost\, but are not mandated to unless specifically needed for medical or safety reasons. Please note online registration is limited. If an activity says it is available but you receive an Online Registration Limit/Activity enrollment error it means the online spots have already been filled and you need to register at the pool. Additionally\, if it says “Call Facility\,” you must register at the pool. We apologize for the inconvenience. Participants will only be able to enroll in one lesson per session from home. If you want additional lessons you will need to register at the pool.
URL:https://thriveadaptive.org/event/spring-adaptive-beginner-lesson-s2-2/
LOCATION:8120 Vanalden Ave. Reseda\, CA\, 91335\, 8120 Vanalden Ave.\, Reseda\, CA\, 91335\, United States
END:VEVENT
BEGIN:VEVENT
DTSTART;TZID=UTC:20250206T183000
DTEND;TZID=UTC:20250206T185500
DTSTAMP:20260420T163947
CREATED:20250129T101726Z
LAST-MODIFIED:20250129T101810Z
UID:10000522-1738866600-1738868100@thriveadaptive.org
SUMMARY:Spring Adaptive Swim Lessons - T/Th - 6:30PM - S2
DESCRIPTION:Adaptive Aquatics is a swim lesson program open for adult and youth participants with disabilities. This is a group lesson\, where the instructor incorporates water safety and swimming fundamentals\, while accommodating the needs of each individual. Aids are encouraged to get in the water with their participant at no extra cost\, but are not mandated to unless specifically needed for medical or safety reasons. Please note online registration is limited. If an activity says it is available but you receive an Online Registration Limit/Activity enrollment error it means the online spots have already been filled and you need to register at the pool. Additionally\, if it says “Call Facility\,” you must register at the pool. We apologize for the inconvenience. Participants will only be able to enroll in one lesson per session from home. If you want additional lessons you will need to register at the pool.
URL:https://thriveadaptive.org/event/spring-adaptive-swim-lessons-t-th-630pm-s2-2/
LOCATION:3704 Verdugo Road Los Angeles\, 3704 Verdugo Road Los Angeles\, CA\, 90065
END:VEVENT
BEGIN:VEVENT
DTSTART;TZID=UTC:20250206T183000
DTEND;TZID=UTC:20250206T185500
DTSTAMP:20260420T163947
CREATED:20250129T114345Z
LAST-MODIFIED:20250129T114428Z
UID:10000575-1738866600-1738868100@thriveadaptive.org
SUMMARY:Spring Adaptive Swim Lessons - T/Th - S2
DESCRIPTION:
URL:https://thriveadaptive.org/event/spring-adaptive-swim-lessons-t-th-s2-2/
LOCATION:Cole Ave. Los Angeles\, 1122 Cole Ave. Los Angeles\, CA\, 90038
END:VEVENT
BEGIN:VEVENT
DTSTART;TZID=UTC:20250206T183000
DTEND;TZID=UTC:20250206T185500
DTSTAMP:20260420T163947
CREATED:20250130T101504Z
LAST-MODIFIED:20250130T101534Z
UID:10000712-1738866600-1738868100@thriveadaptive.org
SUMMARY:Spring Youth Adaptive Lessons - Tue/Th - 6:30PM - S2
DESCRIPTION:Adaptive Aquatics is a swim lesson program open for adult and youth participants with disabilities. This is a group lesson\, where the instructor incorporates water safety and swimming fundamentals\, while accommodating the needs of each individual. Aids are encouraged to get in the water with their participant at no extra cost\, but are not mandated to unless specifically needed for medical or safety reasons. Please note online registration is limited. If an activity says it is available but you receive an Online Registration Limit/Activity enrollment error it means the online spots have already been filled and you need to register at the pool. Additionally\, if it says “Call Facility\,” you must register at the pool. We apologize for the inconvenience. Participants will only be able to enroll in one lesson per session from home. If you want additional lessons you will need to register at the pool.
URL:https://thriveadaptive.org/event/spring-youth-adaptive-lessons-tue-th-630pm-s2-2/
LOCATION:Yosemite Dr Los Angeles\, 1840 Yosemite Dr\, Los Angeles\, CA\, 90041\, United States
END:VEVENT
END:VCALENDAR