BEGIN:VCALENDAR
VERSION:2.0
PRODID:-//Thrive Adaptive - ECPv6.10.1.1//NONSGML v1.0//EN
CALSCALE:GREGORIAN
METHOD:PUBLISH
X-ORIGINAL-URL:https://thriveadaptive.org
X-WR-CALDESC:Events for Thrive Adaptive
REFRESH-INTERVAL;VALUE=DURATION:PT1H
X-Robots-Tag:noindex
X-PUBLISHED-TTL:PT1H
BEGIN:VTIMEZONE
TZID:UTC
BEGIN:STANDARD
TZOFFSETFROM:+0000
TZOFFSETTO:+0000
TZNAME:UTC
DTSTART:20250101T000000
END:STANDARD
END:VTIMEZONE
BEGIN:VEVENT
DTSTART;TZID=UTC:20250203T093000
DTEND;TZID=UTC:20250203T103000
DTSTAMP:20260420T164417
CREATED:20250129T155309Z
LAST-MODIFIED:20250130T072708Z
UID:10000676-1738575000-1738578600@thriveadaptive.org
SUMMARY:Boys and Girls Club Monday Morning Sports
DESCRIPTION:
URL:https://thriveadaptive.org/event/boys-and-girls-club-monday-morning-sports-4/
LOCATION:Boys and Girls Club Yucca Valley\, 56525 Little League DriveYucca Valley\, CA\, 92284United States
ATTACH;FMTTYPE=image/png:https://thriveadaptive.org/wp-content/uploads/2025/01/BoysandGirlsClubMondayeng.png
END:VEVENT
BEGIN:VEVENT
DTSTART;TZID=UTC:20250203T133000
DTEND;TZID=UTC:20250203T143000
DTSTAMP:20260420T164417
CREATED:20250128T105639Z
LAST-MODIFIED:20250128T105722Z
UID:10000290-1738589400-1738593000@thriveadaptive.org
SUMMARY:Winter VIP Basketball - Sundays (Jersey Included) - Youth/Teen
DESCRIPTION:
URL:https://thriveadaptive.org/event/winter-vip-basketball-sundays-jersey-included-youth-teen-10/
LOCATION:Burbank Blvd Encino\, 17015 Burbank Blvd\, Encino\, CA\, 91316\, United States
END:VEVENT
BEGIN:VEVENT
DTSTART;TZID=UTC:20250203T133000
DTEND;TZID=UTC:20250203T143000
DTSTAMP:20260420T164417
CREATED:20250128T112524Z
LAST-MODIFIED:20250128T112548Z
UID:10000307-1738589400-1738593000@thriveadaptive.org
SUMMARY:Winter VIP Basketball - Sundays (No Jersey) - Youth/Teen
DESCRIPTION:
URL:https://thriveadaptive.org/event/winter-vip-basketball-sundays-no-jersey-youth-teen-10/
LOCATION:Burbank Blvd Encino\, 17015 Burbank Blvd\, Encino\, CA\, 91316\, United States
END:VEVENT
BEGIN:VEVENT
DTSTART;TZID=UTC:20250203T133500
DTEND;TZID=UTC:20250203T143500
DTSTAMP:20260420T164417
CREATED:20250128T095733Z
LAST-MODIFIED:20250128T095820Z
UID:10000256-1738589700-1738593300@thriveadaptive.org
SUMMARY:Winter VIP Basketball - Saturdays (Jersey Included) - Youth/Teen
DESCRIPTION:
URL:https://thriveadaptive.org/event/winter-vip-basketball-saturdays-jersey-included-youth-teen-10/
LOCATION:Burbank Blvd Encino\, 17015 Burbank Blvd\, Encino\, CA\, 91316\, United States
END:VEVENT
BEGIN:VEVENT
DTSTART;TZID=UTC:20250203T133500
DTEND;TZID=UTC:20250203T143500
DTSTAMP:20260420T164417
CREATED:20250128T102310Z
LAST-MODIFIED:20250128T102742Z
UID:10000273-1738589700-1738593300@thriveadaptive.org
SUMMARY:Winter VIP Basketball - Saturdays (No Jersey) - Youth/Teen
DESCRIPTION:
URL:https://thriveadaptive.org/event/winter-vip-basketball-saturdays-no-jersey-youth-teen-10/
LOCATION:Burbank Blvd Encino\, 17015 Burbank Blvd\, Encino\, CA\, 91316\, United States
END:VEVENT
BEGIN:VEVENT
DTSTART;TZID=UTC:20250203T133500
DTEND;TZID=UTC:20250203T143500
DTSTAMP:20260420T164417
CREATED:20250128T115320Z
LAST-MODIFIED:20250128T115436Z
UID:10000324-1738589700-1738593300@thriveadaptive.org
SUMMARY:Winter VIP Basketball - Saturdays (Jersey Included) - Adults
DESCRIPTION:
URL:https://thriveadaptive.org/event/winter-vip-basketball-saturdays-jersey-included-adults-10/
LOCATION:Burbank Blvd Encino\, 17015 Burbank Blvd\, Encino\, CA\, 91316\, United States
END:VEVENT
BEGIN:VEVENT
DTSTART;TZID=UTC:20250203T133500
DTEND;TZID=UTC:20250203T143500
DTSTAMP:20260420T164417
CREATED:20250128T121713Z
LAST-MODIFIED:20250128T121754Z
UID:10000341-1738589700-1738593300@thriveadaptive.org
SUMMARY:Winter VIP Basketball - Saturdays (No Jersey) - Adult
DESCRIPTION:
URL:https://thriveadaptive.org/event/winter-vip-basketball-saturdays-no-jersey-adult-10/
LOCATION:Burbank Blvd Encino\, 17015 Burbank Blvd\, Encino\, CA\, 91316\, United States
END:VEVENT
BEGIN:VEVENT
DTSTART;TZID=UTC:20250203T133500
DTEND;TZID=UTC:20250203T143500
DTSTAMP:20260420T164417
CREATED:20250128T124125Z
LAST-MODIFIED:20250128T124205Z
UID:10000358-1738589700-1738593300@thriveadaptive.org
SUMMARY:Winter VIP Basketball - Sundays (Jersey Included) - Adults
DESCRIPTION:
URL:https://thriveadaptive.org/event/winter-vip-basketball-sundays-jersey-included-adults-10/
LOCATION:Burbank Blvd Encino\, 17015 Burbank Blvd\, Encino\, CA\, 91316\, United States
END:VEVENT
BEGIN:VEVENT
DTSTART;TZID=UTC:20250203T133500
DTEND;TZID=UTC:20250203T143500
DTSTAMP:20260420T164417
CREATED:20250128T130919Z
LAST-MODIFIED:20250128T130958Z
UID:10000375-1738589700-1738593300@thriveadaptive.org
SUMMARY:Winter VIP Basketball - Sundays (No Jersey) - Adult
DESCRIPTION:
URL:https://thriveadaptive.org/event/winter-vip-basketball-sundays-no-jersey-adult-10/
LOCATION:Burbank Blvd Encino\, 17015 Burbank Blvd\, Encino\, CA\, 91316\, United States
END:VEVENT
BEGIN:VEVENT
DTSTART;TZID=UTC:20250203T173000
DTEND;TZID=UTC:20250203T183000
DTSTAMP:20260420T164417
CREATED:20250129T154413Z
LAST-MODIFIED:20250130T071643Z
UID:10000672-1738603800-1738607400@thriveadaptive.org
SUMMARY:Adaptive Archery
DESCRIPTION:
URL:https://thriveadaptive.org/event/adaptive-archery-4/
LOCATION:Robinhood Archery Academy & Games\, 45435 Van Buren Street\, Indio\, CA\, 92201United States\, CA
ATTACH;FMTTYPE=image/png:https://thriveadaptive.org/wp-content/uploads/2025/01/Archeryenglish.png
END:VEVENT
END:VCALENDAR