BEGIN:VCALENDAR
VERSION:2.0
PRODID:-//Thrive Adaptive - ECPv6.10.1.1//NONSGML v1.0//EN
CALSCALE:GREGORIAN
METHOD:PUBLISH
X-ORIGINAL-URL:https://thriveadaptive.org
X-WR-CALDESC:Events for Thrive Adaptive
REFRESH-INTERVAL;VALUE=DURATION:PT1H
X-Robots-Tag:noindex
X-PUBLISHED-TTL:PT1H
BEGIN:VTIMEZONE
TZID:UTC
BEGIN:STANDARD
TZOFFSETFROM:+0000
TZOFFSETTO:+0000
TZNAME:UTC
DTSTART:20250101T000000
END:STANDARD
END:VTIMEZONE
BEGIN:VEVENT
DTSTART;TZID=UTC:20250130T160000
DTEND;TZID=UTC:20250130T162500
DTSTAMP:20260420T164209
CREATED:20250129T064446Z
LAST-MODIFIED:20250129T064519Z
UID:10000434-1738252800-1738254300@thriveadaptive.org
SUMMARY:Spring Adaptive Lesson - Tue - S1
DESCRIPTION:Adaptive Aquatics is a swim lesson program open for adult and youth participants with disabilities. This is a group lesson\, where the instructor incorporates water safety and swimming fundamentals\, while accommodating the needs of each individual. Aids are encouraged to get in the water with their participant at no extra cost\, but are not mandated to unless specifically needed for medical or safety reasons. Please note online registration is limited. If an activity says it is available but you receive an Online Registration Limit/Activity enrollment error it means the online spots have already been filled and you need to register at the pool. Additionally\, if it says “Call Facility\,” you must register at the pool. We apologize for the inconvenience. Participants will only be able to enroll in one lesson per session from home. If you want additional lessons you will need to register at the pool.
URL:https://thriveadaptive.org/event/spring-adaptive-lesson-tue-s1-8/
LOCATION:W. Pico Blvd Los Angeles\, 4526 W. Pico Blvd\, Los Angeles\, CA\, 90019\, United States
END:VEVENT
BEGIN:VEVENT
DTSTART;TZID=UTC:20250130T160000
DTEND;TZID=UTC:20250130T162500
DTSTAMP:20260420T164209
CREATED:20250129T075209Z
LAST-MODIFIED:20250129T075238Z
UID:10000473-1738252800-1738254300@thriveadaptive.org
SUMMARY:Spring Adaptive - T/Th - 4:00PM - S1
DESCRIPTION:Adaptive Aquatics is a swim lesson program open for adult and youth participants with disabilities. This is a group lesson\, where the instructor incorporates water safety and swimming fundamentals\, while accommodating the needs of each individual. Aids are encouraged to get in the water with their participant at no extra cost\, but are not mandated to unless specifically needed for medical or safety reasons. Please note online registration is limited. If an activity says it is available but you receive an Online Registration Limit/Activity enrollment error it means the online spots have already been filled and you need to register at the pool. Additionally\, if it says “Call Facility\,” you must register at the pool. We apologize for the inconvenience. Participants will only be able to enroll in one lesson per session from home. If you want additional lessons you will need to register at the pool.
URL:https://thriveadaptive.org/event/spring-adaptive-t-th-400pm-s1-8/
LOCATION:Klamath St. Los Angeles\, 4721 Klamath St.\, Los Angeles\, CA\, 90032\, United States
END:VEVENT
BEGIN:VEVENT
DTSTART;TZID=UTC:20250130T160000
DTEND;TZID=UTC:20250130T162500
DTSTAMP:20260420T164209
CREATED:20250129T130003Z
LAST-MODIFIED:20250129T130033Z
UID:10000628-1738252800-1738254300@thriveadaptive.org
SUMMARY:Winter Adaptive Swim - Tue/Thur - 4pm - S1
DESCRIPTION:
URL:https://thriveadaptive.org/event/winter-adaptive-swim-tue-thur-4pm-s1-8/
LOCATION:5858 Shoup Ave.\, 5858 Shoup Ave. Woodland Hills\, CA\, 91367
END:VEVENT
BEGIN:VEVENT
DTSTART;TZID=UTC:20250130T170000
DTEND;TZID=UTC:20250130T172500
DTSTAMP:20260420T164209
CREATED:20250129T095548Z
LAST-MODIFIED:20250129T095619Z
UID:10000512-1738256400-1738257900@thriveadaptive.org
SUMMARY:Winter Adaptive Lessons - T/Th - S1
DESCRIPTION:Adaptive Aquatics is a swim lesson program open for adult and youth participants with disabilities. This is a group lesson\, where the instructor incorporates water safety and swimming fundamentals\, while accommodating the needs of each individual. Aids are encouraged to get in the water with their participant at no extra cost\, but are not mandated to unless specifically needed for medical or safety reasons. Please note online registration is limited. If an activity says it is available but you receive an Online Registration Limit/Activity enrollment error it means the online spots have already been filled and you need to register at the pool. Additionally\, if it says “Call Facility\,” you must register at the pool. We apologize for the inconvenience. Participants will only be able to enroll in one lesson per session from home. If you want additional lessons you will need to register at the pool.
URL:https://thriveadaptive.org/event/winter-adaptive-lessons-t-th-s1-8/
LOCATION:Huston Street Van Nuys\, 14201 Huston Street\, Van Nuys\, CA\, 91423\, United States
END:VEVENT
BEGIN:VEVENT
DTSTART;TZID=UTC:20250130T173000
DTEND;TZID=UTC:20250130T175500
DTSTAMP:20260420T164209
CREATED:20250129T062828Z
LAST-MODIFIED:20250129T062907Z
UID:10000427-1738258200-1738259700@thriveadaptive.org
SUMMARY:Spring Adaptive Swim Lessons - T/Th - S1
DESCRIPTION:
URL:https://thriveadaptive.org/event/spring-adaptive-swim-lessons-t-th-s1-8/
LOCATION:Sepulveda Blvd
END:VEVENT
BEGIN:VEVENT
DTSTART;TZID=UTC:20250130T173000
DTEND;TZID=UTC:20250130T175500
DTSTAMP:20260420T164209
CREATED:20250129T120408Z
LAST-MODIFIED:20250129T120435Z
UID:10000588-1738258200-1738259700@thriveadaptive.org
SUMMARY:Spring Adaptive Lesson - T/Th - S1
DESCRIPTION:Adaptive Aquatics is a swim lesson program open for adult and youth participants with disabilities. This is a group lesson\, where the instructor incorporates water safety and swimming fundamentals\, while accommodating the needs of each individual. Aids are encouraged to get in the water with their participant at no extra cost\, but are not mandated to unless specifically needed for medical or safety reasons. Please note online registration is limited. If an activity says it is available but you receive an Online Registration Limit/Activity enrollment error it means the online spots have already been filled and you need to register at the pool. Additionally\, if it says “Call Facility\,” you must register at the pool. We apologize for the inconvenience. Participants will only be able to enroll in one lesson per session from home. If you want additional lessons you will need to register at the pool.
URL:https://thriveadaptive.org/event/spring-adaptive-lesson-t-th-s1-8/
LOCATION:Valley Blvd. Los Angeles\, 3501 Valley Blvd. Los Angeles\, CA\, 90031
END:VEVENT
BEGIN:VEVENT
DTSTART;TZID=UTC:20250130T183000
DTEND;TZID=UTC:20250130T183000
DTSTAMP:20260420T164209
CREATED:20250113T101346Z
LAST-MODIFIED:20250113T102551Z
UID:10000174-1738261800-1738261800@thriveadaptive.org
SUMMARY:Take Control Mental Health Forum – New Year Grief
DESCRIPTION:Join us for our Take Control Mental Health Forum on Thursday\, January 30th at 6:30pm. \nNew Year Grief: Feeling Left Behind \nAs we welcome a new year\, many people set resolutions and goals with excitement for the future. However\, for individuals with disabilities\, this process can feel daunting. The uncertainty of health challenges and potential setbacks often make goal-setting more complex\, leaving some feeling “left behind” compared to their able-bodied peers. \nIn this session\, we’ll explore the grief that can arise from unfulfilled resolutions and discuss practical strategies for setting meaningful and achievable goals as individuals with disabilities. Together\, we’ll address the unique challenges and find ways to move forward with hope and resilience. \nThis group will be facilitated by Jessica Brito\, MSW\, from Take Control Therapy. \nJoin Zoom Meeting\nhttps://us02web.zoom.us/j/89481695917 \nOne tap mobile\n+16699009128\,\,89481695917# US \nDial by your location\n+1 669 900 9128 US \nMeeting ID: 894 8169 5917
URL:https://thriveadaptive.org/event/take-control-mental-health-forum-new-year-grief/
LOCATION:Zoom
ATTACH;FMTTYPE=image/png:https://thriveadaptive.org/wp-content/uploads/2025/01/take-control-mental-health-forum.png
END:VEVENT
BEGIN:VEVENT
DTSTART;TZID=UTC:20250130T183000
DTEND;TZID=UTC:20250130T185500
DTSTAMP:20260420T164209
CREATED:20250128T075542Z
LAST-MODIFIED:20250128T075643Z
UID:10000231-1738261800-1738263300@thriveadaptive.org
SUMMARY:Spring Adaptive Beginner Lesson S1
DESCRIPTION:Adaptive Aquatics is a swim lesson program open for adult and youth participants with disabilities. This is a group lesson\, where the instructor incorporates water safety and swimming fundamentals\, while accommodating the needs of each individual. Aids are encouraged to get in the water with their participant at no extra cost\, but are not mandated to unless specifically needed for medical or safety reasons. Please note online registration is limited. If an activity says it is available but you receive an Online Registration Limit/Activity enrollment error it means the online spots have already been filled and you need to register at the pool. Additionally\, if it says “Call Facility\,” you must register at the pool. We apologize for the inconvenience. Participants will only be able to enroll in one lesson per session from home. If you want additional lessons you will need to register at the pool.
URL:https://thriveadaptive.org/event/spring-adaptive-beginner-lesson-s1-8/
LOCATION:8120 Vanalden Ave. Reseda\, CA\, 91335\, 8120 Vanalden Ave.\, Reseda\, CA\, 91335\, United States
END:VEVENT
BEGIN:VEVENT
DTSTART;TZID=UTC:20250130T183000
DTEND;TZID=UTC:20250130T185500
DTSTAMP:20260420T164209
CREATED:20250129T113801Z
LAST-MODIFIED:20250129T113831Z
UID:10000573-1738261800-1738263300@thriveadaptive.org
SUMMARY:Spring Adaptive Swim Lessons - T/Th - S1
DESCRIPTION:
URL:https://thriveadaptive.org/event/spring-adaptive-swim-lessons-t-th-s1-16/
LOCATION:Cole Ave. Los Angeles\, 1122 Cole Ave. Los Angeles\, CA\, 90038
END:VEVENT
BEGIN:VEVENT
DTSTART;TZID=UTC:20250130T183000
DTEND;TZID=UTC:20250130T185500
DTSTAMP:20260420T164209
CREATED:20250130T101142Z
LAST-MODIFIED:20250130T101214Z
UID:10000710-1738261800-1738263300@thriveadaptive.org
SUMMARY:Spring Youth Adaptive Lessons - Tue/Th - 6:30PM - S1
DESCRIPTION:Adaptive Aquatics is a swim lesson program open for adult and youth participants with disabilities. This is a group lesson\, where the instructor incorporates water safety and swimming fundamentals\, while accommodating the needs of each individual. Aids are encouraged to get in the water with their participant at no extra cost\, but are not mandated to unless specifically needed for medical or safety reasons. Please note online registration is limited. If an activity says it is available but you receive an Online Registration Limit/Activity enrollment error it means the online spots have already been filled and you need to register at the pool. Additionally\, if it says “Call Facility\,” you must register at the pool. We apologize for the inconvenience. Participants will only be able to enroll in one lesson per session from home. If you want additional lessons you will need to register at the pool.
URL:https://thriveadaptive.org/event/spring-youth-adaptive-lessons-tue-th-630pm-s1-8/
LOCATION:Yosemite Dr Los Angeles\, 1840 Yosemite Dr\, Los Angeles\, CA\, 90041\, United States
END:VEVENT
END:VCALENDAR