BEGIN:VCALENDAR
VERSION:2.0
PRODID:-//Thrive Adaptive - ECPv6.10.1.1//NONSGML v1.0//EN
CALSCALE:GREGORIAN
METHOD:PUBLISH
X-ORIGINAL-URL:https://thriveadaptive.org
X-WR-CALDESC:Events for Thrive Adaptive
REFRESH-INTERVAL;VALUE=DURATION:PT1H
X-Robots-Tag:noindex
X-PUBLISHED-TTL:PT1H
BEGIN:VTIMEZONE
TZID:UTC
BEGIN:STANDARD
TZOFFSETFROM:+0000
TZOFFSETTO:+0000
TZNAME:UTC
DTSTART:20250101T000000
END:STANDARD
END:VTIMEZONE
BEGIN:VEVENT
DTSTART;VALUE=DATE:20250125
DTEND;VALUE=DATE:20250127
DTSTAMP:20260420T164245
CREATED:20250113T100729Z
LAST-MODIFIED:20250113T100900Z
UID:10000173-1737763200-1737935999@thriveadaptive.org
SUMMARY:Aquarium of the Pacific Festival of Human Abilities
DESCRIPTION:Join the Aquarium of the Pacific for its annual Festival of Human Abilities\, a celebration highlighting the creative talents and abilities of people with disabilities. \nExperience live performances and demonstrations including dancers\, musicians\, and artists. The Aquarium will present its Glenn McIntyre Heritage Award to a member of the community.
URL:https://thriveadaptive.org/event/aquarium-of-the-pacific-festival-of-human-abilities/
ATTACH;FMTTYPE=image/jpeg:https://thriveadaptive.org/wp-content/uploads/2025/01/aquarium-of-the-pacific-festival-of-human-abilities.jpg
END:VEVENT
BEGIN:VEVENT
DTSTART;TZID=UTC:20250125T133500
DTEND;TZID=UTC:20250125T143500
DTSTAMP:20260420T164245
CREATED:20250128T095237Z
LAST-MODIFIED:20250128T095328Z
UID:10000253-1737812100-1737815700@thriveadaptive.org
SUMMARY:Winter VIP Basketball - Saturdays (Jersey Included) - Youth/Teen
DESCRIPTION:
URL:https://thriveadaptive.org/event/winter-vip-basketball-saturdays-jersey-included-youth-teen-7/
LOCATION:Burbank Blvd Encino\, 17015 Burbank Blvd\, Encino\, CA\, 91316\, United States
END:VEVENT
BEGIN:VEVENT
DTSTART;TZID=UTC:20250125T133500
DTEND;TZID=UTC:20250125T143500
DTSTAMP:20260420T164245
CREATED:20250128T101901Z
LAST-MODIFIED:20250128T101937Z
UID:10000270-1737812100-1737815700@thriveadaptive.org
SUMMARY:Winter VIP Basketball - Saturdays (No Jersey) - Youth/Teen
DESCRIPTION:
URL:https://thriveadaptive.org/event/winter-vip-basketball-saturdays-no-jersey-youth-teen-7/
LOCATION:Burbank Blvd Encino\, 17015 Burbank Blvd\, Encino\, CA\, 91316\, United States
END:VEVENT
BEGIN:VEVENT
DTSTART;TZID=UTC:20250125T133500
DTEND;TZID=UTC:20250125T143500
DTSTAMP:20260420T164245
CREATED:20250128T114559Z
LAST-MODIFIED:20250128T114637Z
UID:10000321-1737812100-1737815700@thriveadaptive.org
SUMMARY:Winter VIP Basketball - Saturdays (Jersey Included) - Adults
DESCRIPTION:
URL:https://thriveadaptive.org/event/winter-vip-basketball-saturdays-jersey-included-adults-7/
LOCATION:Burbank Blvd Encino\, 17015 Burbank Blvd\, Encino\, CA\, 91316\, United States
END:VEVENT
BEGIN:VEVENT
DTSTART;TZID=UTC:20250125T133500
DTEND;TZID=UTC:20250125T143500
DTSTAMP:20260420T164245
CREATED:20250128T121331Z
LAST-MODIFIED:20250128T121408Z
UID:10000338-1737812100-1737815700@thriveadaptive.org
SUMMARY:Winter VIP Basketball - Saturdays (No Jersey) - Adult
DESCRIPTION:
URL:https://thriveadaptive.org/event/winter-vip-basketball-saturdays-no-jersey-adult-7/
LOCATION:Burbank Blvd Encino\, 17015 Burbank Blvd\, Encino\, CA\, 91316\, United States
END:VEVENT
END:VCALENDAR