BEGIN:VCALENDAR
VERSION:2.0
PRODID:-//Thrive Adaptive - ECPv6.10.1.1//NONSGML v1.0//EN
CALSCALE:GREGORIAN
METHOD:PUBLISH
X-WR-CALNAME:Thrive Adaptive
X-ORIGINAL-URL:https://thriveadaptive.org
X-WR-CALDESC:Events for Thrive Adaptive
REFRESH-INTERVAL;VALUE=DURATION:PT1H
X-Robots-Tag:noindex
X-PUBLISHED-TTL:PT1H
BEGIN:VTIMEZONE
TZID:UTC
BEGIN:STANDARD
TZOFFSETFROM:+0000
TZOFFSETTO:+0000
TZNAME:UTC
DTSTART:20250101T000000
END:STANDARD
END:VTIMEZONE
BEGIN:VEVENT
DTSTART;TZID=UTC:20250124T150000
DTEND;TZID=UTC:20250124T150000
DTSTAMP:20260420T163928
CREATED:20250113T095451Z
LAST-MODIFIED:20250113T100131Z
UID:10000172-1737730800-1737730800@thriveadaptive.org
SUMMARY:North County Santa Barbara SCI Life Series New Year Outreach Party
DESCRIPTION:Our North County Santa Barbara SCI Life Series Group will be hosting a New Year Outreach Party! \nJoin us for conversation\, peer support\, and sharing of resources. \nWe’ll be celebrating the New Year with food\, fun\, and prizes!
URL:https://thriveadaptive.org/event/north-county-santa-barbara-sci-life-series-new-year-outreach-party/
LOCATION:The Depot Bar\, 515 Bell St. Los Alamos\, CA 93440
ATTACH;FMTTYPE=image/png:https://thriveadaptive.org/wp-content/uploads/2025/01/ncsb-new-year-flyer-2025.png
END:VEVENT
BEGIN:VEVENT
DTSTART;TZID=UTC:20250124T160000
DTEND;TZID=UTC:20250124T162500
DTSTAMP:20260420T163928
CREATED:20250129T054642Z
LAST-MODIFIED:20250129T054717Z
UID:10000402-1737734400-1737735900@thriveadaptive.org
SUMMARY:Spring Adaptive Swim Lessons S1
DESCRIPTION:Adaptive Aquatics is a swim lesson program open for adult and youth participants with disabilities. This is a group lesson\, where the instructor incorporates water safety and swimming fundamentals\, while accommodating the needs of each individual. Aids are encouraged to get in the water with their participant at no extra cost\, but are not mandated to unless specifically needed for medical or safety reasons. Please note online registration is limited. If an activity says it is available but you receive an Online Registration Limit/Activity enrollment error it means the online spots have already been filled and you need to register at the pool. Additionally\, if it says “Call Facility\,” you must register at the pool. We apologize for the inconvenience. Participants will only be able to enroll in one lesson per session from home. If you want additional lessons you will need to register at the pool.
URL:https://thriveadaptive.org/event/spring-adaptive-swim-lessons-s1-6/
LOCATION:Mathews St\, 456 S. Mathews St.\, Los Angeles\, CA\, 90033\, United States
END:VEVENT
BEGIN:VEVENT
DTSTART;TZID=UTC:20250124T160000
DTEND;TZID=UTC:20250124T162500
DTSTAMP:20260420T163928
CREATED:20250129T075959Z
LAST-MODIFIED:20250129T080032Z
UID:10000479-1737734400-1737735900@thriveadaptive.org
SUMMARY:Spring Adaptive - Wed/Fri - 4:00PM - S1
DESCRIPTION:Adaptive Aquatics is a swim lesson program open for adult and youth participants with disabilities. This is a group lesson\, where the instructor incorporates water safety and swimming fundamentals\, while accommodating the needs of each individual. Aids are encouraged to get in the water with their participant at no extra cost\, but are not mandated to unless specifically needed for medical or safety reasons. Please note online registration is limited. If an activity says it is available but you receive an Online Registration Limit/Activity enrollment error it means the online spots have already been filled and you need to register at the pool. Additionally\, if it says “Call Facility\,” you must register at the pool. We apologize for the inconvenience. Participants will only be able to enroll in one lesson per session from home. If you want additional lessons you will need to register at the pool.
URL:https://thriveadaptive.org/event/spring-adaptive-wed-fri-400pm-s1-6/
LOCATION:Klamath St. Los Angeles\, 4721 Klamath St.\, Los Angeles\, CA\, 90032\, United States
END:VEVENT
BEGIN:VEVENT
DTSTART;TZID=UTC:20250124T160000
DTEND;TZID=UTC:20250124T162500
DTSTAMP:20260420T163928
CREATED:20250129T130543Z
LAST-MODIFIED:20250129T130615Z
UID:10000634-1737734400-1737735900@thriveadaptive.org
SUMMARY:Winter Adaptive Swim - Wed/Fri - 4pm - S1
DESCRIPTION:
URL:https://thriveadaptive.org/event/winter-adaptive-swim-wed-fri-4pm-s1-6/
LOCATION:5858 Shoup Ave.\, 5858 Shoup Ave. Woodland Hills\, CA\, 91367
END:VEVENT
BEGIN:VEVENT
DTSTART;TZID=UTC:20250124T163000
DTEND;TZID=UTC:20250124T165500
DTSTAMP:20260420T163928
CREATED:20250129T110911Z
LAST-MODIFIED:20250129T110941Z
UID:10000556-1737736200-1737737700@thriveadaptive.org
SUMMARY:Spring Adaptive Lessons - W/F - S1
DESCRIPTION:Adaptive Aquatics is a swim lesson program open for adult and youth participants with disabilities. This is a group lesson\, where the instructor incorporates water safety and swimming fundamentals\, while accommodating the needs of each individual. Aids are encouraged to get in the water with their participant at no extra cost\, but are not mandated to unless specifically needed for medical or safety reasons. Please note online registration is limited. If an activity says it is available but you receive an Online Registration Limit/Activity enrollment error it means the online spots have already been filled and you need to register at the pool. Additionally\, if it says “Call Facility\,” you must register at the pool. We apologize for the inconvenience. Participants will only be able to enroll in one lesson per session from home. If you want additional lessons you will need to register at the pool.
URL:https://thriveadaptive.org/event/spring-adaptive-lessons-w-f-s1-6/
LOCATION:Hoover St Los Angeles\, 8800 S. Hoover St Los Angeles\, CA\, 90044
END:VEVENT
BEGIN:VEVENT
DTSTART;TZID=UTC:20250124T180000
DTEND;TZID=UTC:20250124T182500
DTSTAMP:20260420T163928
CREATED:20250129T051202Z
LAST-MODIFIED:20250129T051237Z
UID:10000387-1737741600-1737743100@thriveadaptive.org
SUMMARY:Spring Adaptive Swim S1
DESCRIPTION:Adaptive Aquatics is a swim lesson program open for adult and youth participants with disabilities. This is a group lesson\, where the instructor incorporates water safety and swimming fundamentals\, while accommodating the needs of each individual. Aids are encouraged to get in the water with their participant at no extra cost\, but are not mandated to unless specifically needed for medical or safety reasons. Please note online registration is limited. If an activity says it is available but you receive an Online Registration Limit/Activity enrollment error it means the online spots have already been filled and you need to register at the pool. Additionally\, if it says “Call Facility\,” you must register at the pool. We apologize for the inconvenience. Participants will only be able to enroll in one lesson per session from home. If you want additional lessons you will need to register at the pool.
URL:https://thriveadaptive.org/event/spring-adaptive-swim-s1-6/
LOCATION:Obama Blvd\, 5001 Obama Blvd.\, Los Angeles\, CA\, 90016\, United States
END:VEVENT
BEGIN:VEVENT
DTSTART;TZID=UTC:20250124T180000
DTEND;TZID=UTC:20250124T182500
DTSTAMP:20260420T163928
CREATED:20250129T070549Z
LAST-MODIFIED:20250129T070619Z
UID:10000447-1737741600-1737743100@thriveadaptive.org
SUMMARY:Spring Youth Adaptive Lessons - Wed/Fri - S1
DESCRIPTION:Adaptive Aquatics is a swim lesson program open for adult and youth participants with disabilities. This is a group lesson\, where the instructor incorporates water safety and swimming fundamentals\, while accommodating the needs of each individual. Aids are encouraged to get in the water with their participant at no extra cost\, but are not mandated to unless specifically needed for medical or safety reasons. Please note online registration is limited. If an activity says it is available but you receive an Online Registration Limit/Activity enrollment error it means the online spots have already been filled and you need to register at the pool. Additionally\, if it says “Call Facility\,” you must register at the pool. We apologize for the inconvenience. Participants will only be able to enroll in one lesson per session from home. If you want additional lessons you will need to register at the pool.
URL:https://thriveadaptive.org/event/spring-youth-adaptive-lessons-wed-fri-s1-6/
LOCATION:Colton Street Los Angeles\, 1419 Colton Street\, Los Angeles\, CA\, 90026\, United States
END:VEVENT
BEGIN:VEVENT
DTSTART;TZID=UTC:20250124T180000
DTEND;TZID=UTC:20250124T182500
DTSTAMP:20260420T163928
CREATED:20250129T121240Z
LAST-MODIFIED:20250129T121320Z
UID:10000594-1737741600-1737743100@thriveadaptive.org
SUMMARY:Spring Adaptive Lesson - W/F - S1
DESCRIPTION:Adaptive Aquatics is a swim lesson program open for adult and youth participants with disabilities. This is a group lesson\, where the instructor incorporates water safety and swimming fundamentals\, while accommodating the needs of each individual. Aids are encouraged to get in the water with their participant at no extra cost\, but are not mandated to unless specifically needed for medical or safety reasons. Please note online registration is limited. If an activity says it is available but you receive an Online Registration Limit/Activity enrollment error it means the online spots have already been filled and you need to register at the pool. Additionally\, if it says “Call Facility\,” you must register at the pool. We apologize for the inconvenience. Participants will only be able to enroll in one lesson per session from home. If you want additional lessons you will need to register at the pool.
URL:https://thriveadaptive.org/event/spring-adaptive-lesson-w-f-s1-6/
LOCATION:Valley Blvd. Los Angeles\, 3501 Valley Blvd. Los Angeles\, CA\, 90031
END:VEVENT
BEGIN:VEVENT
DTSTART;TZID=UTC:20250124T183000
DTEND;TZID=UTC:20250124T185500
DTSTAMP:20260420T163928
CREATED:20250130T105034Z
LAST-MODIFIED:20250130T105112Z
UID:10000724-1737743400-1737744900@thriveadaptive.org
SUMMARY:Spring Adaptive Swimmer Lesson - W/F - S1
DESCRIPTION:Adaptive Aquatics is a swim lesson program open for adult and youth participants with disabilities. This is a group lesson\, where the instructor incorporates water safety and swimming fundamentals\, while accommodating the needs of each individual. Aids are encouraged to get in the water with their participant at no extra cost\, but are not mandated to unless specifically needed for medical or safety reasons. Please note online registration is limited. If an activity says it is available but you receive an Online Registration Limit/Activity enrollment error it means the online spots have already been filled and you need to register at the pool. Additionally\, if it says “Call Facility\,” you must register at the pool. We apologize for the inconvenience. Participants will only be able to enroll in one lesson per session from home. If you want additional lessons you will need to register at the pool.
URL:https://thriveadaptive.org/event/spring-adaptive-swimmer-lesson-w-f-s1-6/
LOCATION:8120 Vanalden Ave. Reseda\, CA\, 91335\, 8120 Vanalden Ave.\, Reseda\, CA\, 91335\, United States
END:VEVENT
END:VCALENDAR