BEGIN:VCALENDAR
VERSION:2.0
PRODID:-//Thrive Adaptive - ECPv6.10.1.1//NONSGML v1.0//EN
CALSCALE:GREGORIAN
METHOD:PUBLISH
X-ORIGINAL-URL:https://thriveadaptive.org
X-WR-CALDESC:Events for Thrive Adaptive
REFRESH-INTERVAL;VALUE=DURATION:PT1H
X-Robots-Tag:noindex
X-PUBLISHED-TTL:PT1H
BEGIN:VTIMEZONE
TZID:UTC
BEGIN:STANDARD
TZOFFSETFROM:+0000
TZOFFSETTO:+0000
TZNAME:UTC
DTSTART:20250101T000000
END:STANDARD
END:VTIMEZONE
BEGIN:VEVENT
DTSTART;TZID=UTC:20250123T160000
DTEND;TZID=UTC:20250123T162500
DTSTAMP:20260420T164206
CREATED:20250129T064231Z
LAST-MODIFIED:20250129T064321Z
UID:10000432-1737648000-1737649500@thriveadaptive.org
SUMMARY:Spring Adaptive Lesson - Tue - S1
DESCRIPTION:Adaptive Aquatics is a swim lesson program open for adult and youth participants with disabilities. This is a group lesson\, where the instructor incorporates water safety and swimming fundamentals\, while accommodating the needs of each individual. Aids are encouraged to get in the water with their participant at no extra cost\, but are not mandated to unless specifically needed for medical or safety reasons. Please note online registration is limited. If an activity says it is available but you receive an Online Registration Limit/Activity enrollment error it means the online spots have already been filled and you need to register at the pool. Additionally\, if it says “Call Facility\,” you must register at the pool. We apologize for the inconvenience. Participants will only be able to enroll in one lesson per session from home. If you want additional lessons you will need to register at the pool.
URL:https://thriveadaptive.org/event/spring-adaptive-lesson-tue-s1-6/
LOCATION:W. Pico Blvd Los Angeles\, 4526 W. Pico Blvd\, Los Angeles\, CA\, 90019\, United States
END:VEVENT
BEGIN:VEVENT
DTSTART;TZID=UTC:20250123T160000
DTEND;TZID=UTC:20250123T162500
DTSTAMP:20260420T164206
CREATED:20250129T075020Z
LAST-MODIFIED:20250129T075051Z
UID:10000471-1737648000-1737649500@thriveadaptive.org
SUMMARY:Spring Adaptive - T/Th - 4:00PM - S1
DESCRIPTION:Adaptive Aquatics is a swim lesson program open for adult and youth participants with disabilities. This is a group lesson\, where the instructor incorporates water safety and swimming fundamentals\, while accommodating the needs of each individual. Aids are encouraged to get in the water with their participant at no extra cost\, but are not mandated to unless specifically needed for medical or safety reasons. Please note online registration is limited. If an activity says it is available but you receive an Online Registration Limit/Activity enrollment error it means the online spots have already been filled and you need to register at the pool. Additionally\, if it says “Call Facility\,” you must register at the pool. We apologize for the inconvenience. Participants will only be able to enroll in one lesson per session from home. If you want additional lessons you will need to register at the pool.
URL:https://thriveadaptive.org/event/spring-adaptive-t-th-400pm-s1-6/
LOCATION:Klamath St. Los Angeles\, 4721 Klamath St.\, Los Angeles\, CA\, 90032\, United States
END:VEVENT
BEGIN:VEVENT
DTSTART;TZID=UTC:20250123T160000
DTEND;TZID=UTC:20250123T162500
DTSTAMP:20260420T164206
CREATED:20250129T125820Z
LAST-MODIFIED:20250129T125858Z
UID:10000626-1737648000-1737649500@thriveadaptive.org
SUMMARY:Winter Adaptive Swim - Tue/Thur - 4pm - S1
DESCRIPTION:
URL:https://thriveadaptive.org/event/winter-adaptive-swim-tue-thur-4pm-s1-6/
LOCATION:5858 Shoup Ave.\, 5858 Shoup Ave. Woodland Hills\, CA\, 91367
END:VEVENT
BEGIN:VEVENT
DTSTART;TZID=UTC:20250123T170000
DTEND;TZID=UTC:20250123T172500
DTSTAMP:20260420T164206
CREATED:20250129T095344Z
LAST-MODIFIED:20250129T095454Z
UID:10000511-1737651600-1737653100@thriveadaptive.org
SUMMARY:Winter Adaptive Lessons - T/Th - S1
DESCRIPTION:Adaptive Aquatics is a swim lesson program open for adult and youth participants with disabilities. This is a group lesson\, where the instructor incorporates water safety and swimming fundamentals\, while accommodating the needs of each individual. Aids are encouraged to get in the water with their participant at no extra cost\, but are not mandated to unless specifically needed for medical or safety reasons. Please note online registration is limited. If an activity says it is available but you receive an Online Registration Limit/Activity enrollment error it means the online spots have already been filled and you need to register at the pool. Additionally\, if it says “Call Facility\,” you must register at the pool. We apologize for the inconvenience. Participants will only be able to enroll in one lesson per session from home. If you want additional lessons you will need to register at the pool.
URL:https://thriveadaptive.org/event/winter-adaptive-lessons-t-th-s1-7/
LOCATION:Huston Street Van Nuys\, 14201 Huston Street\, Van Nuys\, CA\, 91423\, United States
END:VEVENT
BEGIN:VEVENT
DTSTART;TZID=UTC:20250123T173000
DTEND;TZID=UTC:20250123T175500
DTSTAMP:20260420T164206
CREATED:20250129T062629Z
LAST-MODIFIED:20250129T062709Z
UID:10000425-1737653400-1737654900@thriveadaptive.org
SUMMARY:Spring Adaptive Swim Lessons - T/Th - S1
DESCRIPTION:
URL:https://thriveadaptive.org/event/spring-adaptive-swim-lessons-t-th-s1-6/
LOCATION:Sepulveda Blvd
END:VEVENT
BEGIN:VEVENT
DTSTART;TZID=UTC:20250123T173000
DTEND;TZID=UTC:20250123T175500
DTSTAMP:20260420T164206
CREATED:20250129T120230Z
LAST-MODIFIED:20250129T120256Z
UID:10000586-1737653400-1737654900@thriveadaptive.org
SUMMARY:Spring Adaptive Lesson - T/Th - S1
DESCRIPTION:Adaptive Aquatics is a swim lesson program open for adult and youth participants with disabilities. This is a group lesson\, where the instructor incorporates water safety and swimming fundamentals\, while accommodating the needs of each individual. Aids are encouraged to get in the water with their participant at no extra cost\, but are not mandated to unless specifically needed for medical or safety reasons. Please note online registration is limited. If an activity says it is available but you receive an Online Registration Limit/Activity enrollment error it means the online spots have already been filled and you need to register at the pool. Additionally\, if it says “Call Facility\,” you must register at the pool. We apologize for the inconvenience. Participants will only be able to enroll in one lesson per session from home. If you want additional lessons you will need to register at the pool.
URL:https://thriveadaptive.org/event/spring-adaptive-lesson-t-th-s1-6/
LOCATION:Valley Blvd. Los Angeles\, 3501 Valley Blvd. Los Angeles\, CA\, 90031
END:VEVENT
BEGIN:VEVENT
DTSTART;TZID=UTC:20250123T183000
DTEND;TZID=UTC:20250123T185500
DTSTAMP:20260420T164206
CREATED:20250128T075153Z
LAST-MODIFIED:20250128T075234Z
UID:10000229-1737657000-1737658500@thriveadaptive.org
SUMMARY:Spring Adaptive Beginner Lesson S1
DESCRIPTION:Adaptive Aquatics is a swim lesson program open for adult and youth participants with disabilities. This is a group lesson\, where the instructor incorporates water safety and swimming fundamentals\, while accommodating the needs of each individual. Aids are encouraged to get in the water with their participant at no extra cost\, but are not mandated to unless specifically needed for medical or safety reasons. Please note online registration is limited. If an activity says it is available but you receive an Online Registration Limit/Activity enrollment error it means the online spots have already been filled and you need to register at the pool. Additionally\, if it says “Call Facility\,” you must register at the pool. We apologize for the inconvenience. Participants will only be able to enroll in one lesson per session from home. If you want additional lessons you will need to register at the pool.
URL:https://thriveadaptive.org/event/spring-adaptive-beginner-lesson-s1-6/
LOCATION:8120 Vanalden Ave. Reseda\, CA\, 91335\, 8120 Vanalden Ave.\, Reseda\, CA\, 91335\, United States
END:VEVENT
BEGIN:VEVENT
DTSTART;TZID=UTC:20250123T183000
DTEND;TZID=UTC:20250123T185500
DTSTAMP:20260420T164206
CREATED:20250129T113606Z
LAST-MODIFIED:20250129T113638Z
UID:10000571-1737657000-1737658500@thriveadaptive.org
SUMMARY:Spring Adaptive Swim Lessons - T/Th - S1
DESCRIPTION:
URL:https://thriveadaptive.org/event/spring-adaptive-swim-lessons-t-th-s1-14/
LOCATION:Cole Ave. Los Angeles\, 1122 Cole Ave. Los Angeles\, CA\, 90038
END:VEVENT
BEGIN:VEVENT
DTSTART;TZID=UTC:20250123T183000
DTEND;TZID=UTC:20250123T185500
DTSTAMP:20260420T164206
CREATED:20250130T100900Z
LAST-MODIFIED:20250130T100949Z
UID:10000708-1737657000-1737658500@thriveadaptive.org
SUMMARY:Spring Youth Adaptive Lessons - Tue/Th - 6:30PM - S1
DESCRIPTION:Adaptive Aquatics is a swim lesson program open for adult and youth participants with disabilities. This is a group lesson\, where the instructor incorporates water safety and swimming fundamentals\, while accommodating the needs of each individual. Aids are encouraged to get in the water with their participant at no extra cost\, but are not mandated to unless specifically needed for medical or safety reasons. Please note online registration is limited. If an activity says it is available but you receive an Online Registration Limit/Activity enrollment error it means the online spots have already been filled and you need to register at the pool. Additionally\, if it says “Call Facility\,” you must register at the pool. We apologize for the inconvenience. Participants will only be able to enroll in one lesson per session from home. If you want additional lessons you will need to register at the pool.
URL:https://thriveadaptive.org/event/spring-youth-adaptive-lessons-tue-th-630pm-s1-6/
LOCATION:Yosemite Dr Los Angeles\, 1840 Yosemite Dr\, Los Angeles\, CA\, 90041\, United States
END:VEVENT
END:VCALENDAR