BEGIN:VCALENDAR
VERSION:2.0
PRODID:-//Thrive Adaptive - ECPv6.10.1.1//NONSGML v1.0//EN
CALSCALE:GREGORIAN
METHOD:PUBLISH
X-ORIGINAL-URL:https://thriveadaptive.org
X-WR-CALDESC:Events for Thrive Adaptive
REFRESH-INTERVAL;VALUE=DURATION:PT1H
X-Robots-Tag:noindex
X-PUBLISHED-TTL:PT1H
BEGIN:VTIMEZONE
TZID:UTC
BEGIN:STANDARD
TZOFFSETFROM:+0000
TZOFFSETTO:+0000
TZNAME:UTC
DTSTART:20250101T000000
END:STANDARD
END:VTIMEZONE
BEGIN:VEVENT
DTSTART;TZID=UTC:20250113T093000
DTEND;TZID=UTC:20250113T110000
DTSTAMP:20260420T164205
CREATED:20250129T135218Z
LAST-MODIFIED:20250129T135218Z
UID:10000655-1736760600-1736766000@thriveadaptive.org
SUMMARY:Boys and Girls Club Monday Morning Sports
DESCRIPTION:
URL:https://thriveadaptive.org/event/boys-and-girls-club-monday-morning-sports-3/
LOCATION:Boys and Girls Club Yucca Valley\, 56525 Little League DriveYucca Valley\, CA\, 92284United States
ATTACH;FMTTYPE=image/png:https://thriveadaptive.org/wp-content/uploads/2025/01/Boys-and-Girls-Club-Monday-Morning-Sports.png
END:VEVENT
BEGIN:VEVENT
DTSTART;TZID=UTC:20250113T133000
DTEND;TZID=UTC:20250113T143000
DTSTAMP:20260420T164205
CREATED:20250128T104811Z
LAST-MODIFIED:20250128T104854Z
UID:10000284-1736775000-1736778600@thriveadaptive.org
SUMMARY:Winter VIP Basketball - Sundays (Jersey Included) - Youth/Teen
DESCRIPTION:
URL:https://thriveadaptive.org/event/winter-vip-basketball-sundays-jersey-included-youth-teen-4/
LOCATION:Burbank Blvd Encino\, 17015 Burbank Blvd\, Encino\, CA\, 91316\, United States
END:VEVENT
BEGIN:VEVENT
DTSTART;TZID=UTC:20250113T133000
DTEND;TZID=UTC:20250113T143000
DTSTAMP:20260420T164205
CREATED:20250128T111730Z
LAST-MODIFIED:20250128T111807Z
UID:10000301-1736775000-1736778600@thriveadaptive.org
SUMMARY:Winter VIP Basketball - Sundays (No Jersey) - Youth/Teen
DESCRIPTION:
URL:https://thriveadaptive.org/event/winter-vip-basketball-sundays-no-jersey-youth-teen-4/
LOCATION:Burbank Blvd Encino\, 17015 Burbank Blvd\, Encino\, CA\, 91316\, United States
END:VEVENT
BEGIN:VEVENT
DTSTART;TZID=UTC:20250113T133500
DTEND;TZID=UTC:20250113T143500
DTSTAMP:20260420T164205
CREATED:20250128T094741Z
LAST-MODIFIED:20250128T094837Z
UID:10000250-1736775300-1736778900@thriveadaptive.org
SUMMARY:Winter VIP Basketball - Saturdays (Jersey Included) - Youth/Teen
DESCRIPTION:
URL:https://thriveadaptive.org/event/winter-vip-basketball-saturdays-jersey-included-youth-teen-4/
LOCATION:Burbank Blvd Encino\, 17015 Burbank Blvd\, Encino\, CA\, 91316\, United States
END:VEVENT
BEGIN:VEVENT
DTSTART;TZID=UTC:20250113T133500
DTEND;TZID=UTC:20250113T143500
DTSTAMP:20260420T164205
CREATED:20250128T101457Z
LAST-MODIFIED:20250128T101535Z
UID:10000267-1736775300-1736778900@thriveadaptive.org
SUMMARY:Winter VIP Basketball - Saturdays (No Jersey) - Youth/Teen
DESCRIPTION:
URL:https://thriveadaptive.org/event/winter-vip-basketball-saturdays-no-jersey-youth-teen-4/
LOCATION:Burbank Blvd Encino\, 17015 Burbank Blvd\, Encino\, CA\, 91316\, United States
END:VEVENT
BEGIN:VEVENT
DTSTART;TZID=UTC:20250113T133500
DTEND;TZID=UTC:20250113T143500
DTSTAMP:20260420T164205
CREATED:20250128T114218Z
LAST-MODIFIED:20250128T114251Z
UID:10000318-1736775300-1736778900@thriveadaptive.org
SUMMARY:Winter VIP Basketball - Saturdays (Jersey Included) - Adults
DESCRIPTION:
URL:https://thriveadaptive.org/event/winter-vip-basketball-saturdays-jersey-included-adults-4/
LOCATION:Burbank Blvd Encino\, 17015 Burbank Blvd\, Encino\, CA\, 91316\, United States
END:VEVENT
BEGIN:VEVENT
DTSTART;TZID=UTC:20250113T133500
DTEND;TZID=UTC:20250113T143500
DTSTAMP:20260420T164205
CREATED:20250128T120910Z
LAST-MODIFIED:20250128T120956Z
UID:10000335-1736775300-1736778900@thriveadaptive.org
SUMMARY:Winter VIP Basketball - Saturdays (No Jersey) - Adult
DESCRIPTION:
URL:https://thriveadaptive.org/event/winter-vip-basketball-saturdays-no-jersey-adult-4/
LOCATION:Burbank Blvd Encino\, 17015 Burbank Blvd\, Encino\, CA\, 91316\, United States
END:VEVENT
BEGIN:VEVENT
DTSTART;TZID=UTC:20250113T133500
DTEND;TZID=UTC:20250113T143500
DTSTAMP:20260420T164205
CREATED:20250128T123309Z
LAST-MODIFIED:20250128T123344Z
UID:10000352-1736775300-1736778900@thriveadaptive.org
SUMMARY:Winter VIP Basketball - Sundays (Jersey Included) - Adults
DESCRIPTION:
URL:https://thriveadaptive.org/event/winter-vip-basketball-sundays-jersey-included-adults-4/
LOCATION:Burbank Blvd Encino\, 17015 Burbank Blvd\, Encino\, CA\, 91316\, United States
END:VEVENT
BEGIN:VEVENT
DTSTART;TZID=UTC:20250113T133500
DTEND;TZID=UTC:20250113T143500
DTSTAMP:20260420T164205
CREATED:20250128T125825Z
LAST-MODIFIED:20250128T125913Z
UID:10000369-1736775300-1736778900@thriveadaptive.org
SUMMARY:Winter VIP Basketball - Sundays (No Jersey) - Adult
DESCRIPTION:
URL:https://thriveadaptive.org/event/winter-vip-basketball-sundays-no-jersey-adult-4/
LOCATION:Burbank Blvd Encino\, 17015 Burbank Blvd\, Encino\, CA\, 91316\, United States
END:VEVENT
END:VCALENDAR