BEGIN:VCALENDAR
VERSION:2.0
PRODID:-//Thrive Adaptive - ECPv6.10.1.1//NONSGML v1.0//EN
CALSCALE:GREGORIAN
METHOD:PUBLISH
X-ORIGINAL-URL:https://thriveadaptive.org
X-WR-CALDESC:Events for Thrive Adaptive
REFRESH-INTERVAL;VALUE=DURATION:PT1H
X-Robots-Tag:noindex
X-PUBLISHED-TTL:PT1H
BEGIN:VTIMEZONE
TZID:UTC
BEGIN:STANDARD
TZOFFSETFROM:+0000
TZOFFSETTO:+0000
TZNAME:UTC
DTSTART:20250101T000000
END:STANDARD
END:VTIMEZONE
BEGIN:VEVENT
DTSTART;TZID=UTC:20250111T133500
DTEND;TZID=UTC:20250111T143500
DTSTAMP:20260420T164243
CREATED:20250128T094547Z
LAST-MODIFIED:20250128T094641Z
UID:10000249-1736602500-1736606100@thriveadaptive.org
SUMMARY:Winter VIP Basketball - Saturdays (Jersey Included) - Youth/Teen
DESCRIPTION:
URL:https://thriveadaptive.org/event/winter-vip-basketball-saturdays-jersey-included-youth-teen-3/
LOCATION:Burbank Blvd Encino\, 17015 Burbank Blvd\, Encino\, CA\, 91316\, United States
END:VEVENT
BEGIN:VEVENT
DTSTART;TZID=UTC:20250111T133500
DTEND;TZID=UTC:20250111T143500
DTSTAMP:20260420T164243
CREATED:20250128T101353Z
LAST-MODIFIED:20250128T101430Z
UID:10000266-1736602500-1736606100@thriveadaptive.org
SUMMARY:Winter VIP Basketball - Saturdays (No Jersey) - Youth/Teen
DESCRIPTION:
URL:https://thriveadaptive.org/event/winter-vip-basketball-saturdays-no-jersey-youth-teen-3/
LOCATION:Burbank Blvd Encino\, 17015 Burbank Blvd\, Encino\, CA\, 91316\, United States
END:VEVENT
BEGIN:VEVENT
DTSTART;TZID=UTC:20250111T133500
DTEND;TZID=UTC:20250111T143500
DTSTAMP:20260420T164243
CREATED:20250128T113940Z
LAST-MODIFIED:20250128T114029Z
UID:10000317-1736602500-1736606100@thriveadaptive.org
SUMMARY:Winter VIP Basketball - Saturdays (Jersey Included) - Adults
DESCRIPTION:
URL:https://thriveadaptive.org/event/winter-vip-basketball-saturdays-jersey-included-adults-3/
LOCATION:Burbank Blvd Encino\, 17015 Burbank Blvd\, Encino\, CA\, 91316\, United States
END:VEVENT
BEGIN:VEVENT
DTSTART;TZID=UTC:20250111T133500
DTEND;TZID=UTC:20250111T143500
DTSTAMP:20260420T164243
CREATED:20250128T120748Z
LAST-MODIFIED:20250128T120832Z
UID:10000334-1736602500-1736606100@thriveadaptive.org
SUMMARY:Winter VIP Basketball - Saturdays (No Jersey) - Adult
DESCRIPTION:
URL:https://thriveadaptive.org/event/winter-vip-basketball-saturdays-no-jersey-adult-3/
LOCATION:Burbank Blvd Encino\, 17015 Burbank Blvd\, Encino\, CA\, 91316\, United States
END:VEVENT
END:VCALENDAR