BEGIN:VCALENDAR
VERSION:2.0
PRODID:-//Thrive Adaptive - ECPv6.10.1.1//NONSGML v1.0//EN
CALSCALE:GREGORIAN
METHOD:PUBLISH
X-ORIGINAL-URL:https://thriveadaptive.org
X-WR-CALDESC:Events for Thrive Adaptive
REFRESH-INTERVAL;VALUE=DURATION:PT1H
X-Robots-Tag:noindex
X-PUBLISHED-TTL:PT1H
BEGIN:VTIMEZONE
TZID:UTC
BEGIN:STANDARD
TZOFFSETFROM:+0000
TZOFFSETTO:+0000
TZNAME:UTC
DTSTART:20250101T000000
END:STANDARD
END:VTIMEZONE
BEGIN:VEVENT
DTSTART;TZID=UTC:20250106T093000
DTEND;TZID=UTC:20250106T110000
DTSTAMP:20260420T164217
CREATED:20250130T070129Z
LAST-MODIFIED:20250130T070252Z
UID:10000693-1736155800-1736161200@thriveadaptive.org
SUMMARY:Boys and Girls Club Monday Morning Sports
DESCRIPTION:
URL:https://thriveadaptive.org/event/boys-and-girls-club-monday-morning-sports-8/
LOCATION:Boys and Girls Club Yucca Valley\, 56525 Little League DriveYucca Valley\, CA\, 92284United States
ATTACH;FMTTYPE=image/png:https://thriveadaptive.org/wp-content/uploads/2025/01/Boys-and-Girls-Club-Monday-Morning-Sports.png
END:VEVENT
BEGIN:VEVENT
DTSTART;TZID=UTC:20250106T133000
DTEND;TZID=UTC:20250106T143000
DTSTAMP:20260420T164217
CREATED:20250128T104455Z
LAST-MODIFIED:20250128T104620Z
UID:10000282-1736170200-1736173800@thriveadaptive.org
SUMMARY:Winter VIP Basketball - Sundays (Jersey Included) - Youth/Teen
DESCRIPTION:
URL:https://thriveadaptive.org/event/winter-vip-basketball-sundays-jersey-included-youth-teen-2/
LOCATION:Burbank Blvd Encino\, 17015 Burbank Blvd\, Encino\, CA\, 91316\, United States
END:VEVENT
BEGIN:VEVENT
DTSTART;TZID=UTC:20250106T133000
DTEND;TZID=UTC:20250106T143000
DTSTAMP:20260420T164217
CREATED:20250128T111359Z
LAST-MODIFIED:20250128T111506Z
UID:10000299-1736170200-1736173800@thriveadaptive.org
SUMMARY:Winter VIP Basketball - Sundays (No Jersey) - Youth/Teen
DESCRIPTION:
URL:https://thriveadaptive.org/event/winter-vip-basketball-sundays-no-jersey-youth-teen-2/
LOCATION:Burbank Blvd Encino\, 17015 Burbank Blvd\, Encino\, CA\, 91316\, United States
END:VEVENT
BEGIN:VEVENT
DTSTART;TZID=UTC:20250106T133500
DTEND;TZID=UTC:20250106T143500
DTSTAMP:20260420T164217
CREATED:20250128T094305Z
LAST-MODIFIED:20250128T094348Z
UID:10000248-1736170500-1736174100@thriveadaptive.org
SUMMARY:Winter VIP Basketball - Saturdays (Jersey Included) - Youth/Teen
DESCRIPTION:
URL:https://thriveadaptive.org/event/winter-vip-basketball-saturdays-jersey-included-youth-teen-2/
LOCATION:Burbank Blvd Encino\, 17015 Burbank Blvd\, Encino\, CA\, 91316\, United States
END:VEVENT
BEGIN:VEVENT
DTSTART;TZID=UTC:20250106T133500
DTEND;TZID=UTC:20250106T143500
DTSTAMP:20260420T164217
CREATED:20250128T101240Z
LAST-MODIFIED:20250128T101318Z
UID:10000265-1736170500-1736174100@thriveadaptive.org
SUMMARY:Winter VIP Basketball - Saturdays (No Jersey) - Youth/Teen
DESCRIPTION:
URL:https://thriveadaptive.org/event/winter-vip-basketball-saturdays-no-jersey-youth-teen-2/
LOCATION:Burbank Blvd Encino\, 17015 Burbank Blvd\, Encino\, CA\, 91316\, United States
END:VEVENT
BEGIN:VEVENT
DTSTART;TZID=UTC:20250106T133500
DTEND;TZID=UTC:20250106T143500
DTSTAMP:20260420T164217
CREATED:20250128T113815Z
LAST-MODIFIED:20250128T113852Z
UID:10000316-1736170500-1736174100@thriveadaptive.org
SUMMARY:Winter VIP Basketball - Saturdays (Jersey Included) - Adults
DESCRIPTION:
URL:https://thriveadaptive.org/event/winter-vip-basketball-saturdays-jersey-included-adults-2/
LOCATION:Burbank Blvd Encino\, 17015 Burbank Blvd\, Encino\, CA\, 91316\, United States
END:VEVENT
BEGIN:VEVENT
DTSTART;TZID=UTC:20250106T133500
DTEND;TZID=UTC:20250106T143500
DTSTAMP:20260420T164217
CREATED:20250128T120652Z
LAST-MODIFIED:20250128T120723Z
UID:10000333-1736170500-1736174100@thriveadaptive.org
SUMMARY:Winter VIP Basketball - Saturdays (No Jersey) - Adult
DESCRIPTION:
URL:https://thriveadaptive.org/event/winter-vip-basketball-saturdays-no-jersey-adult-2/
LOCATION:Burbank Blvd Encino\, 17015 Burbank Blvd\, Encino\, CA\, 91316\, United States
END:VEVENT
BEGIN:VEVENT
DTSTART;TZID=UTC:20250106T133500
DTEND;TZID=UTC:20250106T143500
DTSTAMP:20260420T164217
CREATED:20250128T123031Z
LAST-MODIFIED:20250128T123111Z
UID:10000350-1736170500-1736174100@thriveadaptive.org
SUMMARY:Winter VIP Basketball - Sundays (Jersey Included) - Adults
DESCRIPTION:
URL:https://thriveadaptive.org/event/winter-vip-basketball-sundays-jersey-included-adults-2/
LOCATION:Burbank Blvd Encino\, 17015 Burbank Blvd\, Encino\, CA\, 91316\, United States
END:VEVENT
BEGIN:VEVENT
DTSTART;TZID=UTC:20250106T133500
DTEND;TZID=UTC:20250106T143500
DTSTAMP:20260420T164217
CREATED:20250128T125617Z
LAST-MODIFIED:20250128T125652Z
UID:10000367-1736170500-1736174100@thriveadaptive.org
SUMMARY:Winter VIP Basketball - Sundays (No Jersey) - Adult
DESCRIPTION:
URL:https://thriveadaptive.org/event/winter-vip-basketball-sundays-no-jersey-adult-2/
LOCATION:Burbank Blvd Encino\, 17015 Burbank Blvd\, Encino\, CA\, 91316\, United States
END:VEVENT
BEGIN:VEVENT
DTSTART;TZID=UTC:20250106T173000
DTEND;TZID=UTC:20250106T183000
DTSTAMP:20260420T164217
CREATED:20250130T070938Z
LAST-MODIFIED:20250130T071034Z
UID:10000694-1736184600-1736188200@thriveadaptive.org
SUMMARY:Adaptive Archery
DESCRIPTION:
URL:https://thriveadaptive.org/event/adaptive-archery-8/
LOCATION:Robinhood Archery Academy & Games\, 45435 Van Buren Street\, Indio\, CA\, 92201United States\, CA
ATTACH;FMTTYPE=image/png:https://thriveadaptive.org/wp-content/uploads/2025/01/adaptive-archery.png
END:VEVENT
END:VCALENDAR