BEGIN:VCALENDAR
VERSION:2.0
PRODID:-//Thrive Adaptive - ECPv6.10.1.1//NONSGML v1.0//EN
CALSCALE:GREGORIAN
METHOD:PUBLISH
X-WR-CALNAME:Thrive Adaptive
X-ORIGINAL-URL:https://thriveadaptive.org
X-WR-CALDESC:Events for Thrive Adaptive
REFRESH-INTERVAL;VALUE=DURATION:PT1H
X-Robots-Tag:noindex
X-PUBLISHED-TTL:PT1H
BEGIN:VTIMEZONE
TZID:UTC
BEGIN:STANDARD
TZOFFSETFROM:+0000
TZOFFSETTO:+0000
TZNAME:UTC
DTSTART:20250101T000000
END:STANDARD
END:VTIMEZONE
BEGIN:VEVENT
DTSTART;TZID=UTC:20250105T090000
DTEND;TZID=UTC:20250105T103000
DTSTAMP:20260420T163929
CREATED:20250103T045448Z
LAST-MODIFIED:20250103T045448Z
UID:10000164-1736067600-1736073000@thriveadaptive.org
SUMMARY:Angel City Sports: Adaptive Functional Fitness Class - Burbank\, CA
DESCRIPTION:Join our community partners from Angel City Sports at Strange Strength and Conditioning on the first Sunday every month for an adaptive functional fitness class coached by 2X Fittest Neuro Major Woman in the World\, Anna Stern. \nThe class is appropriate for people ages 13 and up. People with all forms of disabilities are welcome \nParticipants should feel free to bring a family member or caregiver for assistance. \nLearn more
URL:https://thriveadaptive.org/event/angel-city-sports-adaptive-functional-fitness-class-burbank-ca/2025-01-05/
LOCATION:Strange Strength and. Conditioning\, 11127 Vanowen Street\, Los Angeles\, CA\, 91065
END:VEVENT
BEGIN:VEVENT
DTSTART;TZID=UTC:20250105T133000
DTEND;TZID=UTC:20250105T143000
DTSTAMP:20260420T163929
CREATED:20250128T103935Z
LAST-MODIFIED:20250128T104126Z
UID:10000281-1736083800-1736087400@thriveadaptive.org
SUMMARY:Winter VIP Basketball - Sundays (Jersey Included) - Youth/Teen
DESCRIPTION:
URL:https://thriveadaptive.org/event/winter-vip-basketball-sundays-jersey-included-youth-teen/
LOCATION:Burbank Blvd Encino\, 17015 Burbank Blvd\, Encino\, CA\, 91316\, United States
END:VEVENT
BEGIN:VEVENT
DTSTART;TZID=UTC:20250105T133000
DTEND;TZID=UTC:20250105T143000
DTSTAMP:20260420T163929
CREATED:20250128T110951Z
LAST-MODIFIED:20250128T111125Z
UID:10000298-1736083800-1736087400@thriveadaptive.org
SUMMARY:Winter VIP Basketball - Sundays (No Jersey) - Youth/Teen
DESCRIPTION:
URL:https://thriveadaptive.org/event/winter-vip-basketball-sundays-no-jersey-youth-teen/
LOCATION:Burbank Blvd Encino\, 17015 Burbank Blvd\, Encino\, CA\, 91316\, United States
END:VEVENT
BEGIN:VEVENT
DTSTART;TZID=UTC:20250105T133500
DTEND;TZID=UTC:20250105T143500
DTSTAMP:20260420T163929
CREATED:20250128T122726Z
LAST-MODIFIED:20250128T122917Z
UID:10000349-1736084100-1736087700@thriveadaptive.org
SUMMARY:Winter VIP Basketball - Sundays (Jersey Included) - Adults
DESCRIPTION:
URL:https://thriveadaptive.org/event/winter-vip-basketball-sundays-jersey-included-adults/
LOCATION:Burbank Blvd Encino\, 17015 Burbank Blvd\, Encino\, CA\, 91316\, United States
END:VEVENT
BEGIN:VEVENT
DTSTART;TZID=UTC:20250105T133500
DTEND;TZID=UTC:20250105T143500
DTSTAMP:20260420T163929
CREATED:20250128T125323Z
LAST-MODIFIED:20250128T125512Z
UID:10000366-1736084100-1736087700@thriveadaptive.org
SUMMARY:Winter VIP Basketball - Sundays (No Jersey) - Adult
DESCRIPTION:
URL:https://thriveadaptive.org/event/winter-vip-basketball-sundays-no-jersey-adult/
LOCATION:Burbank Blvd Encino\, 17015 Burbank Blvd\, Encino\, CA\, 91316\, United States
END:VEVENT
END:VCALENDAR